BEGIN:VCALENDAR
VERSION:2.0
PRODID:-//Hardloopevenementen - ECPv6.15.14//NONSGML v1.0//EN
CALSCALE:GREGORIAN
METHOD:PUBLISH
X-ORIGINAL-URL:https://hardloopevenementen.com
X-WR-CALDESC:Evenementen voor Hardloopevenementen
REFRESH-INTERVAL;VALUE=DURATION:PT1H
X-Robots-Tag:noindex
X-PUBLISHED-TTL:PT1H
BEGIN:VTIMEZONE
TZID:UTC
BEGIN:STANDARD
TZOFFSETFROM:+0000
TZOFFSETTO:+0000
TZNAME:UTC
DTSTART:20080101T000000
END:STANDARD
END:VTIMEZONE
BEGIN:VEVENT
DTSTART;VALUE=DATE:20191201
DTEND;VALUE=DATE:20191202
DTSTAMP:20260426T002245
CREATED:20071204T053928Z
LAST-MODIFIED:20191114T112335Z
UID:43169-1575158400-1575158400@hardloopevenementen.com
SUMMARY:36e Sjef van Ooyen Kapellerbosloop Landgraaf (LI)
DESCRIPTION:Doe mee met het hardloopevenement 36e Sjef van Ooyen Kapellerbosloop te Landgraaf (LI) op zo 01 dec 2019. De volgende afstanden staan op het programma: 1 km – 1\,5 km – 2 km – 3\,6 km – 5\,5 km – 7\,2 km hardlopen. Wilt u inschrijven voor dit loopevenement?  Raadpleeg hiervoor dan de website van de organisatie\nDe uitslagen van deze hardloopwedstrijd zijn te raadplegen via dezelfde website of via de bekende websites zoals uitslagen.nl\, runtimer en mylaps. Doet u mee met dit evenement\, zorg dan dat u goed voorbereid aan de start staat! Met een goed trainingsschema komt u een heel eind. Train bijvoorbeeld met start to run van Evy Gruyaert. Download de start to run mp3 bestanden en zet ze op uw telefoon. Oortjes in\, hit the play button en en rennen maar! \n\n\n\n\nMeer informatie over 36e Sjef van Ooyen Kapellerbosloop op Hardloopkalender.nl  \n  \n  \n 
URL:https://hardloopevenementen.com/loopagenda/36e-sjef-van-ooyen-kapellerbosloop-landgraaf-li/
END:VEVENT
BEGIN:VEVENT
DTSTART;VALUE=DATE:20171203
DTEND;VALUE=DATE:20171204
DTSTAMP:20260426T002245
CREATED:20110512T090616Z
LAST-MODIFIED:20190423T114220Z
UID:13655-1512259200-1512259200@hardloopevenementen.com
SUMMARY:34e Sjef van Ooyen Kapellerbosloop Landgraaf (LI)
DESCRIPTION:Doe mee met het hardloopevenement 34e Sjef van Ooyen Kapellerbosloop te Landgraaf (LI) op zo 03 dec 2017. De volgende afstanden staan op het programma: 1 km – 1\,5 km – 2 km – 3\,6 km – 5\,5 km – 7\,2 km hardlopen. Wilt u inschrijven voor dit loopevenement?  Raadpleeg hiervoor dan de website van de organisatie\nDe uitslagen van deze hardloopwedstrijd zijn te raadplegen via dezelfde website of via de bekende websites zoals uitslagen.nl\, runtimer en mylaps. Doet u mee met dit evenement\, zorg dan dat u goed voorbereid aan de start staat! Met een goed trainingsschema komt u een heel eind. Train bijvoorbeeld met start to run van Evy Gruyaert. Download de start to run mp3 bestanden en zet ze op uw telefoon. Oortjes in\, hit the play button en en rennen maar! \n\n\n\n\nMeer informatie over 34e Sjef van Ooyen Kapellerbosloop op Hardloopkalender.nl  \nSport- en Trimclub Brunssummerheide is eigenlijk de oorspronkelijke naam van de vereniging\, beter bekend als STB. Misschien is de naam wat misleidend\, maar STB is een echte Landgraafse vereniging\, waar alle atletiekonderdelen kunnen worden beoefend. \n  \n  \n 
URL:https://hardloopevenementen.com/loopagenda/34e-sjef-van-ooyen-kapellerbosloop-landgraaf-li/
END:VEVENT
BEGIN:VEVENT
DTSTART;VALUE=DATE:20111204
DTEND;VALUE=DATE:20111205
DTSTAMP:20260426T002245
CREATED:20181127T093815Z
LAST-MODIFIED:20190423T101652Z
UID:5861-1322956800-1322956800@hardloopevenementen.com
SUMMARY:28e Sjef van Ooyen Kapellerbosloop Landgraaf (LI)
DESCRIPTION:Doe mee met het hardloopevenement 28e Sjef van Ooyen Kapellerbosloop te Landgraaf (LI) op zo 04 dec 2011. De volgende afstanden staan op het programma: 1 km – 1\,5 km – 2 km – 3\,6 km – 5\,4 km – 7\,2 km hardlopen. Wilt u inschrijven voor dit loopevenement?  Raadpleeg hiervoor dan de website van de organisatie\nDe uitslagen van deze hardloopwedstrijd zijn te raadplegen via dezelfde website of via de bekende websites zoals uitslagen.nl\, runtimer en mylaps. Doet u mee met dit evenement\, zorg dan dat u goed voorbereid aan de start staat! Met een goed trainingsschema komt u een heel eind. Train bijvoorbeeld met start to run van Evy Gruyaert. Download de start to run mp3 bestanden en zet ze op uw telefoon. Oortjes in\, hit the play button en en rennen maar! \n\n\n\n\nMeer informatie over 28e Sjef van Ooyen Kapellerbosloop op Hardloopkalender.nl  \nHet loopevenement 28e Sjef van Ooyen Kapellerbosloop te Landgraaf vindt plaats op zondag 04 december 2011. De loop wordt georganiseerd door STB. Inschrijven is mogelijk vanaf 17 oktober 2011. Klik hier voor het adres van de start (Google Maps).Er is geen verkleedaccomodatie aanwezig. Er is EHBO aanwezig. Afstand(km)Inschrijfgeld(€)Starttijd7\,2km€5\,0012.30uurVoor meer informatie:Theo Schmeitst.schmeits@home.nl0651296017http:  www.avstb.nl \n  \n  \n 
URL:https://hardloopevenementen.com/loopagenda/28e-sjef-van-ooyen-kapellerbosloop-landgraaf-li/
END:VEVENT
BEGIN:VEVENT
DTSTART;VALUE=DATE:20100606
DTEND;VALUE=DATE:20100607
DTSTAMP:20260426T002245
CREATED:20151115T104658Z
LAST-MODIFIED:20190423T101114Z
UID:4106-1275782400-1275782400@hardloopevenementen.com
SUMMARY:4e CZ Megaloop Landgraaf (LI)
DESCRIPTION:Doe mee met het hardloopevenement 4e CZ Megaloop te Landgraaf (LI) op zo 06 jun 2010. De volgende afstanden staan op het programma: 0\,8 km – 1 km – 5 km – 10 km – 15 km hardlopen. Wilt u inschrijven voor dit loopevenement?  Raadpleeg hiervoor dan de website van de organisatie\nDe uitslagen van deze hardloopwedstrijd zijn te raadplegen via dezelfde website of via de bekende websites zoals uitslagen.nl\, runtimer en mylaps. Doet u mee met dit evenement\, zorg dan dat u goed voorbereid aan de start staat! Met een goed trainingsschema komt u een heel eind. Train bijvoorbeeld met start to run van Evy Gruyaert. Download de start to run mp3 bestanden en zet ze op uw telefoon. Oortjes in\, hit the play button en en rennen maar! \n\n\n\n\nMeer informatie over 4e CZ Megaloop op Hardloopkalender.nl  \nDit loopevenement wordt georganiseerd door STB.De eerste afstand (of onderdeel) start om 11:00.Het adres van de start en de finish is Hofstraat5Categorie(ën): mannen\, vrouwen\, jeugdVooraf inschrijven is mogelijk vanaf 01 maart 2010 tot 30 mei 2010.Inschrijven op de dag van de loop is mogelijk (vanaf 13.00) op dit adres: Sportcomplex Strijthagen\,Hofstraat 5 Landgraaf.Meer informatie:Contactpersoon: Ruud van LaarTel.: 0000000000Email: contact@czmegaloop.nlEr is een kleedaccomodatie aanwezig. Douchen is mogelijk.Het parcours is verhard.Vorig jaar deden er 800 lopers mee aan dit evenement.Overige bijzonderheden:  Na-inschrijving alleen op 5 juni van 13 tot 16 uur. \n  \n  \n 
URL:https://hardloopevenementen.com/loopagenda/4e-cz-megaloop-landgraaf-li/
END:VEVENT
BEGIN:VEVENT
DTSTART;VALUE=DATE:20090607
DTEND;VALUE=DATE:20090608
DTSTAMP:20260426T002245
CREATED:20170622T122122Z
LAST-MODIFIED:20190423T100052Z
UID:2203-1244332800-1244332800@hardloopevenementen.com
SUMMARY:3e CZ-Megaloop Landgraaf (LI)
DESCRIPTION:Doe mee met het hardloopevenement 3e CZ-Megaloop te Landgraaf (LI) op zo 07 jun 2009. De volgende afstanden staan op het programma: 1 km – 2 km – 5 km – 10 km – 15 km hardlopen. Wilt u inschrijven voor dit loopevenement?  Raadpleeg hiervoor dan de website van de organisatie\nDe uitslagen van deze hardloopwedstrijd zijn te raadplegen via dezelfde website of via de bekende websites zoals uitslagen.nl\, runtimer en mylaps. Doet u mee met dit evenement\, zorg dan dat u goed voorbereid aan de start staat! Met een goed trainingsschema komt u een heel eind. Train bijvoorbeeld met start to run van Evy Gruyaert. Download de start to run mp3 bestanden en zet ze op uw telefoon. Oortjes in\, hit the play button en en rennen maar! \n\n\n\n\nMeer informatie over 3e CZ-Megaloop op Hardloopkalender.nl  \n1 km 10:45 uur\, 2 km 11:00 uur\, 5 km 11:30 uur\, 10 km 12:30 uur\, 15 km 14:00 uur \n  \n  \n 
URL:https://hardloopevenementen.com/loopagenda/3e-cz-megaloop-landgraaf-li/
END:VEVENT
END:VCALENDAR