BEGIN:VCALENDAR
VERSION:2.0
PRODID:-//Hardloopevenementen - ECPv6.15.14//NONSGML v1.0//EN
CALSCALE:GREGORIAN
METHOD:PUBLISH
X-WR-CALNAME:Hardloopevenementen
X-ORIGINAL-URL:https://hardloopevenementen.com
X-WR-CALDESC:Evenementen voor Hardloopevenementen
REFRESH-INTERVAL;VALUE=DURATION:PT1H
X-Robots-Tag:noindex
X-PUBLISHED-TTL:PT1H
BEGIN:VTIMEZONE
TZID:UTC
BEGIN:STANDARD
TZOFFSETFROM:+0000
TZOFFSETTO:+0000
TZNAME:UTC
DTSTART:20070101T000000
END:STANDARD
END:VTIMEZONE
BEGIN:VEVENT
DTSTART;VALUE=DATE:20080608
DTEND;VALUE=DATE:20080609
DTSTAMP:20260424T202731
CREATED:20140720T063625Z
LAST-MODIFIED:20190423T094657Z
UID:19587-1212883200-1212883200@hardloopevenementen.com
SUMMARY:2e CZ Megaloop Landgraaf
DESCRIPTION:Doe mee met het hardloopevenement 2e CZ Megaloop te Landgraaf op zo 08 jun 2008. De volgende afstanden staan op het programma: 1 km – 2 km – 5 km – 10 km – 15 km hardlopen. Wilt u inschrijven voor dit loopevenement?  Raadpleeg hiervoor dan de website van de organisatie\nDe uitslagen van deze hardloopwedstrijd zijn te raadplegen via dezelfde website of via de bekende websites zoals uitslagen.nl\, runtimer en mylaps. Doet u mee met dit evenement\, zorg dan dat u goed voorbereid aan de start staat! Met een goed trainingsschema komt u een heel eind. Train bijvoorbeeld met start to run van Evy Gruyaert. Download de start to run mp3 bestanden en zet ze op uw telefoon. Oortjes in\, hit the play button en en rennen maar! \n\n\n\n\nMeer informatie over 2e CZ Megaloop op Hardloopkalender.nl  \nInschrijven voor de 2e editie op 8 juni 2008 mogelijk vanaf 15 februari.       1. 10:00     Kidsrun       Groep 3 en 4                 500 m   10:45u    2. 10:15     Kidsrun       Groep 5 en 6                 1 km     10:45u    3. 10:30     Kidsrun       Groep 7 en 8                 1 km     11:15u    4. 10:45     Jeugdloop Middelbare scholen         1 km     11:15u    5. 11:00     Jeugdloop Middelbare scholen         2 km     11:15u    6. 11:30     Recreatieloop Geen leeftijdsgrens   5 km     12:30u    7. 12:30     Recreatieloop v.a. 17 jaar               10 km    13:45u    8. 14:00     Wedstrijdloop Geen leeftijdsgrens 15 km     15:30u         Wij streven er bewust naar om van de CZ Megaloop een familiedag te maken.    Vanaf 10.00 uur gaat het DSM Fun & Science park open waar alle kinderen heel veel kunnen beleven. En het is nog gratis ook. Schrijf niet alleen de kids in\, maar doe zelf ook mee. Of schrijf je als familie (team) in op onze site. \n  \n  \n 
URL:https://hardloopevenementen.com/loopagenda/2e-cz-megaloop-landgraaf/
END:VEVENT
END:VCALENDAR