BEGIN:VCALENDAR
VERSION:2.0
PRODID:-//Hardloopevenementen - ECPv6.15.14//NONSGML v1.0//EN
CALSCALE:GREGORIAN
METHOD:PUBLISH
X-WR-CALNAME:Hardloopevenementen
X-ORIGINAL-URL:https://hardloopevenementen.com
X-WR-CALDESC:Evenementen voor Hardloopevenementen
REFRESH-INTERVAL;VALUE=DURATION:PT1H
X-Robots-Tag:noindex
X-PUBLISHED-TTL:PT1H
BEGIN:VTIMEZONE
TZID:UTC
BEGIN:STANDARD
TZOFFSETFROM:+0000
TZOFFSETTO:+0000
TZNAME:UTC
DTSTART:20140101T000000
END:STANDARD
END:VTIMEZONE
BEGIN:VEVENT
DTSTART;VALUE=DATE:20150809
DTEND;VALUE=DATE:20150810
DTSTAMP:20260425T115041
CREATED:20150917T223216Z
LAST-MODIFIED:20190423T111015Z
UID:10008-1439078400-1439078400@hardloopevenementen.com
SUMMARY:Bos en Duin Zomercross Texel (NH)
DESCRIPTION:Doe mee met het hardloopevenement Bos en Duin Zomercross te Texel (NH) op zo 09 aug 2015. De volgende afstanden staan op het programma: 0\,5 km – 1 km – 1\,5 km – 2 km – 4\,3 km – 7 km – 8\,6 km – 13\,7 km – 14 km – halve marathon hardlopen. Wilt u inschrijven voor dit loopevenement?  Raadpleeg hiervoor dan de website van de organisatie\nDe uitslagen van deze hardloopwedstrijd zijn te raadplegen via dezelfde website of via de bekende websites zoals uitslagen.nl\, runtimer en mylaps. Doet u mee met dit evenement\, zorg dan dat u goed voorbereid aan de start staat! Met een goed trainingsschema komt u een heel eind. Train bijvoorbeeld met start to run van Evy Gruyaert. Download de start to run mp3 bestanden en zet ze op uw telefoon. Oortjes in\, hit the play button en en rennen maar! \n\n\n\n\nMeer informatie over Bos en Duin Zomercross op Hardloopkalender.nl  \nHet loopevenement Bos en Duin Zomercross te Texel vindt plaats op zondag 09 augustus 2015. \n  \n  \n 
URL:https://hardloopevenementen.com/loopagenda/bos-en-duin-zomercross-texel-nh-23/
END:VEVENT
BEGIN:VEVENT
DTSTART;VALUE=DATE:20150406
DTEND;VALUE=DATE:20150407
DTSTAMP:20260425T115041
CREATED:20160831T120056Z
LAST-MODIFIED:20190423T111320Z
UID:10745-1428278400-1428278400@hardloopevenementen.com
SUMMARY:Estafette Zestig van Texel Texel (NH)
DESCRIPTION:Doe mee met het hardloopevenement Estafette Zestig van Texel te Texel (NH) op ma 06 apr 2015. De volgende afstanden staan op het programma: 15 km – 60 km hardlopen. Wilt u inschrijven voor dit loopevenement?  Raadpleeg hiervoor dan de website van de organisatie\nDe uitslagen van deze hardloopwedstrijd zijn te raadplegen via dezelfde website of via de bekende websites zoals uitslagen.nl\, runtimer en mylaps. Doet u mee met dit evenement\, zorg dan dat u goed voorbereid aan de start staat! Met een goed trainingsschema komt u een heel eind. Train bijvoorbeeld met start to run van Evy Gruyaert. Download de start to run mp3 bestanden en zet ze op uw telefoon. Oortjes in\, hit the play button en en rennen maar! \n\n\n\n\nMeer informatie over Estafette Zestig van Texel op Hardloopkalender.nl  \nHet loopevenement Estafette Zestig van Texel te Texel vindt plaats op maandag 06 april 2015. De estafette afstand is 4 x ca 15 km   er is ook een ultraloop van 60 km    De inschrijving is inmiddels geopend \n  \n  \n 
URL:https://hardloopevenementen.com/loopagenda/estafette-zestig-van-texel-texel-nh/
END:VEVENT
END:VCALENDAR