BEGIN:VCALENDAR
VERSION:2.0
PRODID:-//Hardloopevenementen - ECPv6.15.14//NONSGML v1.0//EN
CALSCALE:GREGORIAN
METHOD:PUBLISH
X-ORIGINAL-URL:https://hardloopevenementen.com
X-WR-CALDESC:Evenementen voor Hardloopevenementen
REFRESH-INTERVAL;VALUE=DURATION:PT1H
X-Robots-Tag:noindex
X-PUBLISHED-TTL:PT1H
BEGIN:VTIMEZONE
TZID:UTC
BEGIN:STANDARD
TZOFFSETFROM:+0000
TZOFFSETTO:+0000
TZNAME:UTC
DTSTART:20080101T000000
END:STANDARD
END:VTIMEZONE
BEGIN:VEVENT
DTSTART;VALUE=DATE:20140629
DTEND;VALUE=DATE:20140630
DTSTAMP:20260421T150406
CREATED:20111011T235135Z
LAST-MODIFIED:20190423T105333Z
UID:33690-1404000000-1404000000@hardloopevenementen.com
SUMMARY:33ste Vechtloop Weesp (NH)
DESCRIPTION:Doe mee met het hardloopevenement 33ste Vechtloop te Weesp (NH) op zo 29 jun 2014. De volgende afstanden staan op het programma: 2\,5 km – 5 km – 10 km – 15 km – halve marathon hardlopen. Wilt u inschrijven voor dit loopevenement?  Raadpleeg hiervoor dan de website van de organisatie\nDe uitslagen van deze hardloopwedstrijd zijn te raadplegen via dezelfde website of via de bekende websites zoals uitslagen.nl\, runtimer en mylaps. Doet u mee met dit evenement\, zorg dan dat u goed voorbereid aan de start staat! Met een goed trainingsschema komt u een heel eind. Train bijvoorbeeld met start to run van Evy Gruyaert. Download de start to run mp3 bestanden en zet ze op uw telefoon. Oortjes in\, hit the play button en en rennen maar! \n\n\n\n\nMeer informatie over 33ste Vechtloop op Hardloopkalender.nl  \nHet loopevenement 33ste Vechtloop te Weesp vindt plaats op zondag 29 juni 2014. De loop wordt georganisseerd door Stichting Vechtloop Weesp. Klik hier voor het adres van de start (Google Maps).Bijzonderheden: Wijzigingen voorbehouden. Iedereen alvast veel plezier gewens. \n  \n  \n 
URL:https://hardloopevenementen.com/loopagenda/33ste-vechtloop-weesp-nh/
END:VEVENT
BEGIN:VEVENT
DTSTART;VALUE=DATE:20120624
DTEND;VALUE=DATE:20120625
DTSTAMP:20260421T150406
CREATED:20160516T083150Z
LAST-MODIFIED:20190423T103119Z
UID:28096-1340496000-1340496000@hardloopevenementen.com
SUMMARY:31e Vechtloop Weesp (NH)
DESCRIPTION:Doe mee met het hardloopevenement 31e Vechtloop te Weesp (NH) op zo 24 jun 2012. De volgende afstanden staan op het programma: 2\,5 km – 5 km – 10 km – 15 km – halve marathon hardlopen. Wilt u inschrijven voor dit loopevenement?  Raadpleeg hiervoor dan de website van de organisatie\nDe uitslagen van deze hardloopwedstrijd zijn te raadplegen via dezelfde website of via de bekende websites zoals uitslagen.nl\, runtimer en mylaps. Doet u mee met dit evenement\, zorg dan dat u goed voorbereid aan de start staat! Met een goed trainingsschema komt u een heel eind. Train bijvoorbeeld met start to run van Evy Gruyaert. Download de start to run mp3 bestanden en zet ze op uw telefoon. Oortjes in\, hit the play button en en rennen maar! \n\n\n\n\nMeer informatie over 31e Vechtloop op Hardloopkalender.nl  \nHet loopevenement wordt georganiseerd door de Stichting Vechtloop Weesp.    De starttijden zijn:  2 1 2 km om 11.30 uur  5 km om 12.00 uur  10 km om 12.03 uur  15 km om 12.03 uur  21\,1 km om 12.03 uur    Inschrijfgeld voor alle afstanden gelijk.    Voorinschrijving t m 13 juni:  16 jaar en ouder: 8\,50 euro  15 jaar en jonger: 5\,00 euro    Na-inschrijving op 24 juni:  16 jaar en ouder: 11\,00 euro  15 jaar en jonger: 7\,00 euroVoor meer informatie:Leo Timmermansinfo@vechtloop.nl0627327917http:  www.vechtloop.nl \n  \n  \n 
URL:https://hardloopevenementen.com/loopagenda/31e-vechtloop-weesp-nh/
END:VEVENT
BEGIN:VEVENT
DTSTART;VALUE=DATE:20110626
DTEND;VALUE=DATE:20110627
DTSTAMP:20260421T150406
CREATED:20090730T090715Z
LAST-MODIFIED:20190423T102024Z
UID:6704-1309046400-1309046400@hardloopevenementen.com
SUMMARY:30e Vechtloop Weesp (NH)
DESCRIPTION:Doe mee met het hardloopevenement 30e Vechtloop te Weesp (NH) op zo 26 jun 2011. De volgende afstanden staan op het programma: 2\,5 km – 5 km – 10 km – 15 km – halve marathon hardlopen. Wilt u inschrijven voor dit loopevenement?  Raadpleeg hiervoor dan de website van de organisatie\nDe uitslagen van deze hardloopwedstrijd zijn te raadplegen via dezelfde website of via de bekende websites zoals uitslagen.nl\, runtimer en mylaps. Doet u mee met dit evenement\, zorg dan dat u goed voorbereid aan de start staat! Met een goed trainingsschema komt u een heel eind. Train bijvoorbeeld met start to run van Evy Gruyaert. Download de start to run mp3 bestanden en zet ze op uw telefoon. Oortjes in\, hit the play button en en rennen maar! \n\n\n\n\nMeer informatie over 30e Vechtloop op Hardloopkalender.nl  \nHet loopevenement 30e Vechtloop te Weesp vindt plaats op zondag 26 juni 2011. De loop wordt georganiseerd door Trim- en Trainingsgroep Weesp. Inschrijven is mogelijk vanaf 01 april 2011. Klik hier voor het adres van de start (Google Maps).Er is verkleedaccomodatie met douchemogelijkheid aanwezig. Er is EHBO aanwezig. Bijzonderheden: Wijzigingen voorbehouden. Iedereen alvast veel plezier gewenst!.Afstand(km)Inschrijfgeld(€)Starttijd2\,5€6\,5012.005€6\,5012.0010€6\,5012.0215€6\,5012.0221\,1€6\,5012.02Voor meer informatie:Leo Timmermansinfo@vechtloop.nl0627327917http:  www.vechtloop.nl \n  \n  \n 
URL:https://hardloopevenementen.com/loopagenda/30e-vechtloop-weesp-nh/
END:VEVENT
BEGIN:VEVENT
DTSTART;VALUE=DATE:20090628
DTEND;VALUE=DATE:20090629
DTSTAMP:20260421T150406
CREATED:20160727T035451Z
LAST-MODIFIED:20190423T100023Z
UID:2094-1246147200-1246147200@hardloopevenementen.com
SUMMARY:28e Vechtloop Weesp (NH)
DESCRIPTION:Doe mee met het hardloopevenement 28e Vechtloop te Weesp (NH) op zo 28 jun 2009. De volgende afstanden staan op het programma: 2\,5 km – 5 km – 10 km – 15 km – halve marathon hardlopen. Wilt u inschrijven voor dit loopevenement?  Raadpleeg hiervoor dan de website van de organisatie\nDe uitslagen van deze hardloopwedstrijd zijn te raadplegen via dezelfde website of via de bekende websites zoals uitslagen.nl\, runtimer en mylaps. Doet u mee met dit evenement\, zorg dan dat u goed voorbereid aan de start staat! Met een goed trainingsschema komt u een heel eind. Train bijvoorbeeld met start to run van Evy Gruyaert. Download de start to run mp3 bestanden en zet ze op uw telefoon. Oortjes in\, hit the play button en en rennen maar! \n\n\n\n\nMeer informatie over 28e Vechtloop op Hardloopkalender.nl  \n2\,5-5 km 12:00 uur\, 10-15-21\,1 km 12:03 uur  De Vechtloop is verplaatst naar zondag 28 juni 2009. \n  \n  \n 
URL:https://hardloopevenementen.com/loopagenda/28e-vechtloop-weesp-nh/
END:VEVENT
END:VCALENDAR