BEGIN:VCALENDAR
VERSION:2.0
PRODID:-//Hardloopevenementen - ECPv6.15.14//NONSGML v1.0//EN
CALSCALE:GREGORIAN
METHOD:PUBLISH
X-ORIGINAL-URL:https://hardloopevenementen.com
X-WR-CALDESC:Evenementen voor Hardloopevenementen
REFRESH-INTERVAL;VALUE=DURATION:PT1H
X-Robots-Tag:noindex
X-PUBLISHED-TTL:PT1H
BEGIN:VTIMEZONE
TZID:UTC
BEGIN:STANDARD
TZOFFSETFROM:+0000
TZOFFSETTO:+0000
TZNAME:UTC
DTSTART:20140101T000000
END:STANDARD
END:VTIMEZONE
BEGIN:VEVENT
DTSTART;VALUE=DATE:20170319
DTEND;VALUE=DATE:20170320
DTSTAMP:20260421T175700
CREATED:20061112T023741Z
LAST-MODIFIED:20190423T114737Z
UID:15073-1489881600-1489881600@hardloopevenementen.com
SUMMARY:150e Runnersworld Leiden Run Classic Leiden (ZH)
DESCRIPTION:Doe mee met het hardloopevenement 150e Runnersworld Leiden Run Classic te Leiden (ZH) op zo 19 mrt 2017. De volgende afstanden staan op het programma: 3 km – 6 km – 10 km – 16\,7 km – halve marathon hardlopen. Wilt u inschrijven voor dit loopevenement?  Raadpleeg hiervoor dan de website van de organisatie\nDe uitslagen van deze hardloopwedstrijd zijn te raadplegen via dezelfde website of via de bekende websites zoals uitslagen.nl\, runtimer en mylaps. Doet u mee met dit evenement\, zorg dan dat u goed voorbereid aan de start staat! Met een goed trainingsschema komt u een heel eind. Train bijvoorbeeld met start to run van Evy Gruyaert. Download de start to run mp3 bestanden en zet ze op uw telefoon. Oortjes in\, hit the play button en en rennen maar! \n\n\n\n\nMeer informatie over 150e Runnersworld Leiden Run Classic op Hardloopkalender.nl  \nHet parcours volgt de fietspaden langs de kanalen de Korte-Vliet en de Vliet en gaat vervolgens door het recreatiegebied De Vlietlanden. \n  \n  \n 
URL:https://hardloopevenementen.com/loopagenda/150e-runnersworld-leiden-run-classic-leiden-zh/
END:VEVENT
BEGIN:VEVENT
DTSTART;VALUE=DATE:20160214
DTEND;VALUE=DATE:20160215
DTSTAMP:20260421T175700
CREATED:20071226T022003Z
LAST-MODIFIED:20190423T112713Z
UID:13275-1455408000-1455408000@hardloopevenementen.com
SUMMARY:150e Zegerplasloop AAV36 Alphen aan den Rijn (ZH)
DESCRIPTION:Doe mee met het hardloopevenement 150e Zegerplasloop AAV36 te Alphen aan den Rijn (ZH) op zo 14 feb 2016. De volgende afstanden staan op het programma: 0\,4 km – 1 km – 5 km – 10 km – 15 km – 20 km hardlopen. Wilt u inschrijven voor dit loopevenement?  Raadpleeg hiervoor dan de website van de organisatie\nDe uitslagen van deze hardloopwedstrijd zijn te raadplegen via dezelfde website of via de bekende websites zoals uitslagen.nl\, runtimer en mylaps. Doet u mee met dit evenement\, zorg dan dat u goed voorbereid aan de start staat! Met een goed trainingsschema komt u een heel eind. Train bijvoorbeeld met start to run van Evy Gruyaert. Download de start to run mp3 bestanden en zet ze op uw telefoon. Oortjes in\, hit the play button en en rennen maar! \n\n\n\n\nMeer informatie over 150e Zegerplasloop AAV36 op Hardloopkalender.nl  \n  \n  \n 
URL:https://hardloopevenementen.com/loopagenda/150e-zegerplasloop-aav36-alphen-aan-den-rijn-zh/
END:VEVENT
BEGIN:VEVENT
DTSTART;VALUE=DATE:20151107
DTEND;VALUE=DATE:20151108
DTSTAMP:20260421T175700
CREATED:20160212T192854Z
LAST-MODIFIED:20190423T110742Z
UID:9448-1446854400-1446854400@hardloopevenementen.com
SUMMARY:150e Zegerplasloop Alphen aan den Rijn (ZH)
DESCRIPTION:Doe mee met het hardloopevenement 150e Zegerplasloop te Alphen aan den Rijn (ZH) op za 07 nov 2015. De volgende afstanden staan op het programma: 0\,4 km – 1 km – 2 km – 5 km – 10 km – 15 km – 20 km hardlopen. Wilt u inschrijven voor dit loopevenement?  Raadpleeg hiervoor dan de website van de organisatie\nDe uitslagen van deze hardloopwedstrijd zijn te raadplegen via dezelfde website of via de bekende websites zoals uitslagen.nl\, runtimer en mylaps. Doet u mee met dit evenement\, zorg dan dat u goed voorbereid aan de start staat! Met een goed trainingsschema komt u een heel eind. Train bijvoorbeeld met start to run van Evy Gruyaert. Download de start to run mp3 bestanden en zet ze op uw telefoon. Oortjes in\, hit the play button en en rennen maar! \n\n\n\n\nMeer informatie over 150e Zegerplasloop op Hardloopkalender.nl  \nHet loopevenement 150e Zegerplasloop te Alphen Aan Den Rijn vindt plaats op zaterdag 07 november 2015. \n  \n  \n 
URL:https://hardloopevenementen.com/loopagenda/150e-zegerplasloop-alphen-aan-den-rijn-zh/
END:VEVENT
END:VCALENDAR