BEGIN:VCALENDAR
VERSION:2.0
PRODID:-//Hardloopevenementen - ECPv6.15.14//NONSGML v1.0//EN
CALSCALE:GREGORIAN
METHOD:PUBLISH
X-ORIGINAL-URL:https://hardloopevenementen.com
X-WR-CALDESC:Evenementen voor Hardloopevenementen
REFRESH-INTERVAL;VALUE=DURATION:PT1H
X-Robots-Tag:noindex
X-PUBLISHED-TTL:PT1H
BEGIN:VTIMEZONE
TZID:UTC
BEGIN:STANDARD
TZOFFSETFROM:+0000
TZOFFSETTO:+0000
TZNAME:UTC
DTSTART:20090101T000000
END:STANDARD
END:VTIMEZONE
BEGIN:VEVENT
DTSTART;VALUE=DATE:20101024
DTEND;VALUE=DATE:20101025
DTSTAMP:20260425T015009
CREATED:20160625T061449Z
LAST-MODIFIED:20190423T100718Z
UID:3387-1287878400-1287878400@hardloopevenementen.com
SUMMARY:Herfstloop Terschelling West-Terschelling\, gemeente Terschelling (FR)
DESCRIPTION:Doe mee met het hardloopevenement Herfstloop Terschelling te West-Terschelling\, gemeente Terschelling (FR) op zo 24 okt 2010. De volgende afstanden staan op het programma: 5 km – 10 km – 15\,3 km hardlopen. Wilt u inschrijven voor dit loopevenement?  Raadpleeg hiervoor dan de website van de organisatie\nDe uitslagen van deze hardloopwedstrijd zijn te raadplegen via dezelfde website of via de bekende websites zoals uitslagen.nl\, runtimer en mylaps. Doet u mee met dit evenement\, zorg dan dat u goed voorbereid aan de start staat! Met een goed trainingsschema komt u een heel eind. Train bijvoorbeeld met start to run van Evy Gruyaert. Download de start to run mp3 bestanden en zet ze op uw telefoon. Oortjes in\, hit the play button en en rennen maar! \n\n\n\n\nMeer informatie over Herfstloop Terschelling op Hardloopkalender.nl  \nDit loopevenement wordt georganiseerd door SV Friesland.De eerste afstand (of onderdeel) start om 13:30.Het adres van de start en de finish is De Dôbe Sportlaan 7Categorie(ën): mannen\, vrouwen\, jeugdVooraf inschrijven is mogelijk vanaf 24 oktober 2010 tot 24 oktober 2010.Inschrijven op de dag van de loop is mogelijk (vanaf 12.30 uur) op dit adres: Zwembad De Dôbe Sportlaan 7 8881 EP West Terschelling.Meer informatie:Contactpersoon: Jan LettingaTel.: 0562442775Email: janna_lettinga@hetnet.nlEr is een kleedaccomodatie aanwezig. Douchen is mogelijk.Het parcours is verhard.Vorig jaar deden er 99 lopers mee aan dit evenement.Overige bijzonderheden:  samen met L.A.T \n  \n  \n 
URL:https://hardloopevenementen.com/loopagenda/herfstloop-terschelling-west-terschelling-gemeente-terschelling-fr/
END:VEVENT
BEGIN:VEVENT
DTSTART;VALUE=DATE:20100725
DTEND;VALUE=DATE:20100726
DTSTAMP:20260425T015009
CREATED:20101129T160202Z
LAST-MODIFIED:20190423T101006Z
UID:3874-1280016000-1280016000@hardloopevenementen.com
SUMMARY:Midzomerloop Terschelling West-Terschelling\, gemeente Terschelling (FR)
DESCRIPTION:Doe mee met het hardloopevenement Midzomerloop Terschelling te West-Terschelling\, gemeente Terschelling (FR) op zo 25 jul 2010. De volgende afstanden staan op het programma: 5 km – 10 km – 15\,3 km hardlopen. Wilt u inschrijven voor dit loopevenement?  Raadpleeg hiervoor dan de website van de organisatie\nDe uitslagen van deze hardloopwedstrijd zijn te raadplegen via dezelfde website of via de bekende websites zoals uitslagen.nl\, runtimer en mylaps. Doet u mee met dit evenement\, zorg dan dat u goed voorbereid aan de start staat! Met een goed trainingsschema komt u een heel eind. Train bijvoorbeeld met start to run van Evy Gruyaert. Download de start to run mp3 bestanden en zet ze op uw telefoon. Oortjes in\, hit the play button en en rennen maar! \n\n\n\n\nMeer informatie over Midzomerloop Terschelling op Hardloopkalender.nl  \nDit loopevenement wordt georganiseerd door SV Friesland.De eerste afstand (of onderdeel) start om 13:30.Het adres van de start en de finish is De Dôbe Sportlaan 7Categorie(ën): mannen\, vrouwen\, jeugdVooraf inschrijven is mogelijk vanaf 25 juli 2010 tot 25 juli 2010.Inschrijven op de dag van de loop is mogelijk (vanaf 12.30 uur) op dit adres: Zwembad De Dôbe Sportlaan 7 8881 EP West Terschelling.Meer informatie:Contactpersoon: Jan LettingaTel.: 0562442775Email: janna_lettinga@hetnet.nlEr is een kleedaccomodatie aanwezig. Douchen is mogelijk.Het parcours is verhard.Vorig jaar deden er 99 lopers mee aan dit evenement.Overige bijzonderheden:  samet met L.A.T. \n  \n  \n 
URL:https://hardloopevenementen.com/loopagenda/midzomerloop-terschelling-west-terschelling-gemeente-terschelling-fr/
END:VEVENT
END:VCALENDAR