BEGIN:VCALENDAR
VERSION:2.0
PRODID:-//Hardloopevenementen - ECPv6.15.14//NONSGML v1.0//EN
CALSCALE:GREGORIAN
METHOD:PUBLISH
X-WR-CALNAME:Hardloopevenementen
X-ORIGINAL-URL:https://hardloopevenementen.com
X-WR-CALDESC:Evenementen voor Hardloopevenementen
REFRESH-INTERVAL;VALUE=DURATION:PT1H
X-Robots-Tag:noindex
X-PUBLISHED-TTL:PT1H
BEGIN:VTIMEZONE
TZID:UTC
BEGIN:STANDARD
TZOFFSETFROM:+0000
TZOFFSETTO:+0000
TZNAME:UTC
DTSTART:20110101T000000
END:STANDARD
END:VTIMEZONE
BEGIN:VEVENT
DTSTART;VALUE=DATE:20171028
DTEND;VALUE=DATE:20171029
DTSTAMP:20260420T020451
CREATED:20130215T085146Z
LAST-MODIFIED:20190423T114307Z
UID:13859-1509148800-1509148800@hardloopevenementen.com
SUMMARY:Suderse Marathon 15km Urk (FL)
DESCRIPTION:Doe mee met het hardloopevenement Suderse Marathon 15km te Urk (FL) op za 28 okt 2017. De volgende afstanden staan op het programma: 15 km hardlopen. Wilt u inschrijven voor dit loopevenement?  Raadpleeg hiervoor dan de website van de organisatie\nDe uitslagen van deze hardloopwedstrijd zijn te raadplegen via dezelfde website of via de bekende websites zoals uitslagen.nl\, runtimer en mylaps. Doet u mee met dit evenement\, zorg dan dat u goed voorbereid aan de start staat! Met een goed trainingsschema komt u een heel eind. Train bijvoorbeeld met start to run van Evy Gruyaert. Download de start to run mp3 bestanden en zet ze op uw telefoon. Oortjes in\, hit the play button en en rennen maar! \n\n\n\n\nMeer informatie over Suderse Marathon 15km op Hardloopkalender.nl  \nDe Sudersé Marathon 15km zal voor het grootste deel langs het Ketelmeer en IJsselmeer voeren. Onderweg zullen de lopers genieten van de vergezichten over het IJsselmeer.    De lange rechte stukken zullen de nodige discipline en doorzettingsvermogen vragen van de lopers. Een uitdaging met een mooi uitzicht.  Van start tot finish zullen de lopers een afstand van 15 km overbruggen.    Start zal plaats vinden nabij Schokkerhaven en de finish zal onder de vuurtoren van Urk zijn.  Organisatie zal een pendelbus verzorgen vanaf de inschrijving in Urk (alleen pendelbus bij voorinschrijving) naar de start nabij Schokkerhaven    Adres:  Sporthal de Schelp  Staartweg 32  8321 NB Urk    Inschrijfsecretariaat is geopend vanaf 9:00 uur.  Na inschrijven is mogelijk tot 10:15 uur.    Sudersé marathon 15km  Starttijd 11:00 uur (nabij Schokkerhaven)    Finishen is mogelijk tot  13:30 uur    Verzorging.  Onderweg is er op 7\,5 km een verzorgingspost ingericht.    Prijsuitreiking.  De prijsuitreiking zal plaatsvinden direct na de finish van de laatste prijswinnaar.  De prijzen worden uitgereikt in Sporthal De Schelp. \n  \n  \n 
URL:https://hardloopevenementen.com/loopagenda/suderse-marathon-15km-urk-fl/
END:VEVENT
BEGIN:VEVENT
DTSTART;VALUE=DATE:20121013
DTEND;VALUE=DATE:20121014
DTSTAMP:20260420T020451
CREATED:20180613T234328Z
LAST-MODIFIED:20190423T102854Z
UID:7578-1350086400-1350086400@hardloopevenementen.com
SUMMARY:1e 15km van Hank Hank\, gemeente Werkendam (NB)
DESCRIPTION:Doe mee met het hardloopevenement 1e 15km van Hank te Hank\, gemeente Werkendam (NB) op za 13 okt 2012. De volgende afstanden staan op het programma: 0\,5 km – 1 km – 2 km – 5 km – 10 km – 15 km hardlopen. Wilt u inschrijven voor dit loopevenement?  Raadpleeg hiervoor dan de website van de organisatie\nDe uitslagen van deze hardloopwedstrijd zijn te raadplegen via dezelfde website of via de bekende websites zoals uitslagen.nl\, runtimer en mylaps. Doet u mee met dit evenement\, zorg dan dat u goed voorbereid aan de start staat! Met een goed trainingsschema komt u een heel eind. Train bijvoorbeeld met start to run van Evy Gruyaert. Download de start to run mp3 bestanden en zet ze op uw telefoon. Oortjes in\, hit the play button en en rennen maar! \n\n\n\n\nMeer informatie over 1e 15km van Hank op Hardloopkalender.nl  \nHet loopevenement 1e 15km van Hank te Hank vindt plaats op zaterdag 13 oktober 2012. De loop wordt georganiseerd door Altena Road Runners. Inschrijven is mogelijk vanaf 13 oktober 2012. Klik hier voor het adres van de start (Google Maps).Er is EHBO aanwezig. Bijzonderheden: Ronde van 5 km  .Afstand SoortloopInschrijfgeldStarttijdInfo15 km6\,0015:000.5 km0\,0014:151 km0\,0014:201 km0\,0014:252 km0\,0014:3010 km5\,0015:005 km5\,0015:00Voor meer informatie:Martin Dellemaninfo@altenaroadcircuit.nl0651317320http:  www.altenaroadcircuit.nl \n  \n  \n 
URL:https://hardloopevenementen.com/loopagenda/1e-15km-van-hank-hank-gemeente-werkendam-nb/
END:VEVENT
END:VCALENDAR