BEGIN:VCALENDAR
VERSION:2.0
PRODID:-//Hardloopevenementen - ECPv6.15.14//NONSGML v1.0//EN
CALSCALE:GREGORIAN
METHOD:PUBLISH
X-ORIGINAL-URL:https://hardloopevenementen.com
X-WR-CALDESC:Evenementen voor Hardloopevenementen
REFRESH-INTERVAL;VALUE=DURATION:PT1H
X-Robots-Tag:noindex
X-PUBLISHED-TTL:PT1H
BEGIN:VTIMEZONE
TZID:UTC
BEGIN:STANDARD
TZOFFSETFROM:+0000
TZOFFSETTO:+0000
TZNAME:UTC
DTSTART:20160101T000000
END:STANDARD
END:VTIMEZONE
BEGIN:VEVENT
DTSTART;VALUE=DATE:20200520
DTEND;VALUE=DATE:20200521
DTSTAMP:20260421T183625
CREATED:20160820T004420Z
LAST-MODIFIED:20200206T111353Z
UID:144970-1589932800-1589932800@hardloopevenementen.com
SUMMARY:Alkmaar City Run by night Alkmaar (NH)
DESCRIPTION:Doe mee met het hardloopevenement Alkmaar City Run by night te Alkmaar (NH) op wo 20 mei 2020. De volgende afstanden staan op het programma: 0\,8 km – 1\,6 km – 5 km – 10 km hardlopen. Wilt u inschrijven voor dit loopevenement?  Raadpleeg hiervoor dan de website van de organisatie\nDe uitslagen van deze hardloopwedstrijd zijn te raadplegen via dezelfde website of via de bekende websites zoals uitslagen.nl\, runtimer en mylaps. Doet u mee met dit evenement\, zorg dan dat u goed voorbereid aan de start staat! Met een goed trainingsschema komt u een heel eind. Train bijvoorbeeld met start to run van Evy Gruyaert. Download de start to run mp3 bestanden en zet ze op uw telefoon. Oortjes in\, hit the play button en en rennen maar! \n\n\n\n\nMeer informatie over Alkmaar City Run by night op Hardloopkalender.nl  \n  \n  \n 
URL:https://hardloopevenementen.com/loopagenda/alkmaar-city-run-by-night-alkmaar-nh-5/
END:VEVENT
BEGIN:VEVENT
DTSTART;VALUE=DATE:20180509
DTEND;VALUE=DATE:20180510
DTSTAMP:20260421T183625
CREATED:20131218T023009Z
LAST-MODIFIED:20190423T120511Z
UID:16639-1525824000-1525824000@hardloopevenementen.com
SUMMARY:Alkmaar City Run By Night Alkmaar (NH)
DESCRIPTION:Doe mee met het hardloopevenement Alkmaar City Run By Night te Alkmaar (NH) op wo 09 mei 2018. De volgende afstanden staan op het programma: 0\,8 km – 1\,6 km – 5 km – 10 km hardlopen. Wilt u inschrijven voor dit loopevenement?  Raadpleeg hiervoor dan de website van de organisatie\nDe uitslagen van deze hardloopwedstrijd zijn te raadplegen via dezelfde website of via de bekende websites zoals uitslagen.nl\, runtimer en mylaps. Doet u mee met dit evenement\, zorg dan dat u goed voorbereid aan de start staat! Met een goed trainingsschema komt u een heel eind. Train bijvoorbeeld met start to run van Evy Gruyaert. Download de start to run mp3 bestanden en zet ze op uw telefoon. Oortjes in\, hit the play button en en rennen maar! \n\n\n\n\nMeer informatie over Alkmaar City Run By Night op Hardloopkalender.nl  \n  \n  \n 
URL:https://hardloopevenementen.com/loopagenda/alkmaar-city-run-by-night-alkmaar-nh-3/
END:VEVENT
BEGIN:VEVENT
DTSTART;VALUE=DATE:20170524
DTEND;VALUE=DATE:20170525
DTSTAMP:20260421T183625
CREATED:20081001T023248Z
LAST-MODIFIED:20190423T114614Z
UID:14698-1495584000-1495584000@hardloopevenementen.com
SUMMARY:City Run by night Alkmaar (NH)
DESCRIPTION:Doe mee met het hardloopevenement City Run by night te Alkmaar (NH) op wo 24 mei 2017. De volgende afstanden staan op het programma: 0\,8 km – 1\,6 km – 4 km – 5 km – 10 km hardlopen. Wilt u inschrijven voor dit loopevenement?  Raadpleeg hiervoor dan de website van de organisatie\nDe uitslagen van deze hardloopwedstrijd zijn te raadplegen via dezelfde website of via de bekende websites zoals uitslagen.nl\, runtimer en mylaps. Doet u mee met dit evenement\, zorg dan dat u goed voorbereid aan de start staat! Met een goed trainingsschema komt u een heel eind. Train bijvoorbeeld met start to run van Evy Gruyaert. Download de start to run mp3 bestanden en zet ze op uw telefoon. Oortjes in\, hit the play button en en rennen maar! \n\n\n\n\nMeer informatie over City Run by night op Hardloopkalender.nl  \n  \n  \n 
URL:https://hardloopevenementen.com/loopagenda/city-run-by-night-alkmaar-nh/
END:VEVENT
END:VCALENDAR