BEGIN:VCALENDAR
VERSION:2.0
PRODID:-//Hardloopevenementen - ECPv6.15.14//NONSGML v1.0//EN
CALSCALE:GREGORIAN
METHOD:PUBLISH
X-ORIGINAL-URL:https://hardloopevenementen.com
X-WR-CALDESC:Evenementen voor Hardloopevenementen
REFRESH-INTERVAL;VALUE=DURATION:PT1H
X-Robots-Tag:noindex
X-PUBLISHED-TTL:PT1H
BEGIN:VTIMEZONE
TZID:UTC
BEGIN:STANDARD
TZOFFSETFROM:+0000
TZOFFSETTO:+0000
TZNAME:UTC
DTSTART:20090101T000000
END:STANDARD
END:VTIMEZONE
BEGIN:VEVENT
DTSTART;VALUE=DATE:20120930
DTEND;VALUE=DATE:20121001
DTSTAMP:20260423T042613
CREATED:20150127T193247Z
LAST-MODIFIED:20190423T102909Z
UID:7646-1348963200-1348963200@hardloopevenementen.com
SUMMARY:De 30 van Almere Almere (FL)
DESCRIPTION:Doe mee met het hardloopevenement De 30 van Almere te Almere (FL) op zo 30 sep 2012. De volgende afstanden staan op het programma: 0\,8 km – 1\,6 km – 5 km – 10 km – 15 km – 30 km hardlopen. Wilt u inschrijven voor dit loopevenement?  Raadpleeg hiervoor dan de website van de organisatie\nDe uitslagen van deze hardloopwedstrijd zijn te raadplegen via dezelfde website of via de bekende websites zoals uitslagen.nl\, runtimer en mylaps. Doet u mee met dit evenement\, zorg dan dat u goed voorbereid aan de start staat! Met een goed trainingsschema komt u een heel eind. Train bijvoorbeeld met start to run van Evy Gruyaert. Download de start to run mp3 bestanden en zet ze op uw telefoon. Oortjes in\, hit the play button en en rennen maar! \n\n\n\n\nMeer informatie over De 30 van Almere op Hardloopkalender.nl  \n7-8-2012  DIT EVENEMENT GAAT NIET DOOR !    Het loopevenement De 30 van Almere te Almere vindt plaats op zondag 30 september 2012. De loop wordt georganiseerd door Stichting Trim Slim. Inschrijven is mogelijk vanaf 01 mei 2011. Klik hier voor het adres van de start (Google Maps).Er is EHBO aanwezig. Afstand SoortloopInschrijfgeldStarttijdInfo30 km0\,00nnb15 km0\,00nnb10 km0\,00nnb5 km0\,00nnb1.6 km0\,00nnb0.8 km0\,00nnbVoor meer informatie: Wouter Ritstier  info@de30vanalmere.nl \n  \n  \n 
URL:https://hardloopevenementen.com/loopagenda/de-30-van-almere-almere-fl-3/
END:VEVENT
BEGIN:VEVENT
DTSTART;VALUE=DATE:20100926
DTEND;VALUE=DATE:20100927
DTSTAMP:20260423T042613
CREATED:20071225T050423Z
LAST-MODIFIED:20190423T100829Z
UID:3557-1285459200-1285459200@hardloopevenementen.com
SUMMARY:De 30 van Almere Almere (FL)
DESCRIPTION:Doe mee met het hardloopevenement De 30 van Almere te Almere (FL) op zo 26 sep 2010. De volgende afstanden staan op het programma: 0\,8 km – 1\,6 km – 5 km – 10 km – 15 km – 30 km hardlopen. Wilt u inschrijven voor dit loopevenement?  Raadpleeg hiervoor dan de website van de organisatie\nDe uitslagen van deze hardloopwedstrijd zijn te raadplegen via dezelfde website of via de bekende websites zoals uitslagen.nl\, runtimer en mylaps. Doet u mee met dit evenement\, zorg dan dat u goed voorbereid aan de start staat! Met een goed trainingsschema komt u een heel eind. Train bijvoorbeeld met start to run van Evy Gruyaert. Download de start to run mp3 bestanden en zet ze op uw telefoon. Oortjes in\, hit the play button en en rennen maar! \n\n\n\n\nMeer informatie over De 30 van Almere op Hardloopkalender.nl  \n  \n  \n 
URL:https://hardloopevenementen.com/loopagenda/de-30-van-almere-almere-fl-2/
END:VEVENT
END:VCALENDAR