BEGIN:VCALENDAR
VERSION:2.0
PRODID:-//Hardloopevenementen - ECPv6.15.14//NONSGML v1.0//EN
CALSCALE:GREGORIAN
METHOD:PUBLISH
X-WR-CALNAME:Hardloopevenementen
X-ORIGINAL-URL:https://hardloopevenementen.com
X-WR-CALDESC:Evenementen voor Hardloopevenementen
REFRESH-INTERVAL;VALUE=DURATION:PT1H
X-Robots-Tag:noindex
X-PUBLISHED-TTL:PT1H
BEGIN:VTIMEZONE
TZID:UTC
BEGIN:STANDARD
TZOFFSETFROM:+0000
TZOFFSETTO:+0000
TZNAME:UTC
DTSTART:20090101T000000
END:STANDARD
END:VTIMEZONE
BEGIN:VEVENT
DTSTART;VALUE=DATE:20100327
DTEND;VALUE=DATE:20100328
DTSTAMP:20260425T024219
CREATED:20160110T092544Z
LAST-MODIFIED:20190423T101309Z
UID:23765-1269648000-1269648000@hardloopevenementen.com
SUMMARY:Driedorpenloop Dronten (FL)
DESCRIPTION:Doe mee met het hardloopevenement Driedorpenloop te Dronten (FL) op za 27 mrt 2010. De volgende afstanden staan op het programma: 1 km – 3\,3 km – 6\,6 km – 10 km – 13\,3 km – 16\,6 km hardlopen. Wilt u inschrijven voor dit loopevenement?  Raadpleeg hiervoor dan de website van de organisatie\nDe uitslagen van deze hardloopwedstrijd zijn te raadplegen via dezelfde website of via de bekende websites zoals uitslagen.nl\, runtimer en mylaps. Doet u mee met dit evenement\, zorg dan dat u goed voorbereid aan de start staat! Met een goed trainingsschema komt u een heel eind. Train bijvoorbeeld met start to run van Evy Gruyaert. Download de start to run mp3 bestanden en zet ze op uw telefoon. Oortjes in\, hit the play button en en rennen maar! \n\n\n\n\nMeer informatie over Driedorpenloop op Hardloopkalender.nl  \nDit loopevenement wordt georganiseerd door AV Flevo Delta.De eerste afstand (of onderdeel) start om 10:30.Het adres van de start en de finish is Educalaan 18Categorie(ën): mannen\, vrouwen\, jeugdVooraf inschrijven is mogelijk vanaf 27 maart 2010 tot niet van toepassing.Inschrijven op de dag van de loop is mogelijk (vanaf 9.30 uur) op dit adres: Educalaan 18 te Dronten (kantine AV Flevo Delta).Meer informatie:Contactpersoon: W. van AsseltTel.: 0321313787Email: mschadee@hotmail.comEr is een kleedaccomodatie aanwezig. Douchen is mogelijk.Het parcours is deels onverhard.Overige bijzonderheden:  Let op\, betaald parkeren \n  \n  \n 
URL:https://hardloopevenementen.com/loopagenda/driedorpenloop-dronten-fl-4/
END:VEVENT
END:VCALENDAR