BEGIN:VCALENDAR
VERSION:2.0
PRODID:-//Hardloopevenementen - ECPv6.15.14//NONSGML v1.0//EN
CALSCALE:GREGORIAN
METHOD:PUBLISH
X-ORIGINAL-URL:https://hardloopevenementen.com
X-WR-CALDESC:Evenementen voor Hardloopevenementen
REFRESH-INTERVAL;VALUE=DURATION:PT1H
X-Robots-Tag:noindex
X-PUBLISHED-TTL:PT1H
BEGIN:VTIMEZONE
TZID:UTC
BEGIN:STANDARD
TZOFFSETFROM:+0000
TZOFFSETTO:+0000
TZNAME:UTC
DTSTART:20110101T000000
END:STANDARD
END:VTIMEZONE
BEGIN:VEVENT
DTSTART;VALUE=DATE:20130331
DTEND;VALUE=DATE:20130401
DTSTAMP:20260425T115041
CREATED:20130508T205916Z
LAST-MODIFIED:20190423T104356Z
UID:31996-1364688000-1364688000@hardloopevenementen.com
SUMMARY:Tongerense Heideloop Epe (GE)
DESCRIPTION:Doe mee met het hardloopevenement Tongerense Heideloop te Epe (GE) op zo 31 mrt 2013. De volgende afstanden staan op het programma: 18 km hardlopen. Wilt u inschrijven voor dit loopevenement?  Raadpleeg hiervoor dan de website van de organisatie\nDe uitslagen van deze hardloopwedstrijd zijn te raadplegen via dezelfde website of via de bekende websites zoals uitslagen.nl\, runtimer en mylaps. Doet u mee met dit evenement\, zorg dan dat u goed voorbereid aan de start staat! Met een goed trainingsschema komt u een heel eind. Train bijvoorbeeld met start to run van Evy Gruyaert. Download de start to run mp3 bestanden en zet ze op uw telefoon. Oortjes in\, hit the play button en en rennen maar! \n\n\n\n\nMeer informatie over Tongerense Heideloop op Hardloopkalender.nl  \n31 Maart 2013 10.00 u Gortelse-Heide Loop Gortel=Heerde (18 km)  Om 09.30 verzamelen bij \n  \n  \n 
URL:https://hardloopevenementen.com/loopagenda/tongerense-heideloop-epe-ge-2/
END:VEVENT
BEGIN:VEVENT
DTSTART;VALUE=DATE:20120331
DTEND;VALUE=DATE:20120401
DTSTAMP:20260425T115041
CREATED:20151021T112046Z
LAST-MODIFIED:20190423T103329Z
UID:28617-1333152000-1333152000@hardloopevenementen.com
SUMMARY:Tongerense Heideloop Epe (GE)
DESCRIPTION:Doe mee met het hardloopevenement Tongerense Heideloop te Epe (GE) op za 31 mrt 2012. De volgende afstanden staan op het programma: 18 km hardlopen. Wilt u inschrijven voor dit loopevenement?  Raadpleeg hiervoor dan de website van de organisatie\nDe uitslagen van deze hardloopwedstrijd zijn te raadplegen via dezelfde website of via de bekende websites zoals uitslagen.nl\, runtimer en mylaps. Doet u mee met dit evenement\, zorg dan dat u goed voorbereid aan de start staat! Met een goed trainingsschema komt u een heel eind. Train bijvoorbeeld met start to run van Evy Gruyaert. Download de start to run mp3 bestanden en zet ze op uw telefoon. Oortjes in\, hit the play button en en rennen maar! \n\n\n\n\nMeer informatie over Tongerense Heideloop op Hardloopkalender.nl  \n31 Maart 2013 10.00 u Gortelse-Heide Loop Gortel=Heerde (18 km)  Om 09.30 verzamelen bij \n  \n  \n 
URL:https://hardloopevenementen.com/loopagenda/tongerense-heideloop-epe-ge/
END:VEVENT
END:VCALENDAR