BEGIN:VCALENDAR
VERSION:2.0
PRODID:-//Hardloopevenementen - ECPv6.15.14//NONSGML v1.0//EN
CALSCALE:GREGORIAN
METHOD:PUBLISH
X-ORIGINAL-URL:https://hardloopevenementen.com
X-WR-CALDESC:Evenementen voor Hardloopevenementen
REFRESH-INTERVAL;VALUE=DURATION:PT1H
X-Robots-Tag:noindex
X-PUBLISHED-TTL:PT1H
BEGIN:VTIMEZONE
TZID:UTC
BEGIN:STANDARD
TZOFFSETFROM:+0000
TZOFFSETTO:+0000
TZNAME:UTC
DTSTART:20120101T000000
END:STANDARD
END:VTIMEZONE
BEGIN:VEVENT
DTSTART;VALUE=DATE:20160327
DTEND;VALUE=DATE:20160328
DTSTAMP:20260426T015236
CREATED:20070611T102151Z
LAST-MODIFIED:20190423T112629Z
UID:13080-1459036800-1459036800@hardloopevenementen.com
SUMMARY:Gortelseheide Trailrun Nunspeet (GE)
DESCRIPTION:Doe mee met het hardloopevenement Gortelseheide Trailrun te Nunspeet (GE) op zo 27 mrt 2016. De volgende afstanden staan op het programma: 18 km – halve marathon hardlopen. Wilt u inschrijven voor dit loopevenement?  Raadpleeg hiervoor dan de website van de organisatie\nDe uitslagen van deze hardloopwedstrijd zijn te raadplegen via dezelfde website of via de bekende websites zoals uitslagen.nl\, runtimer en mylaps. Doet u mee met dit evenement\, zorg dan dat u goed voorbereid aan de start staat! Met een goed trainingsschema komt u een heel eind. Train bijvoorbeeld met start to run van Evy Gruyaert. Download de start to run mp3 bestanden en zet ze op uw telefoon. Oortjes in\, hit the play button en en rennen maar! \n\n\n\n\nMeer informatie over Gortelseheide Trailrun op Hardloopkalender.nl  \nGortelse Heide Trailrun ( start bij het heideveld aan de weg Emst=Vierhouten) Kruising Gortelseweg Vierhouterweg  We hebben een mooi loopparcours voor je. Verzamelen bij de kruising Gortelseweg Vierhouterweg vlak bij het plaatsje Gortel. Hier starten we om 10.00 uur. We lopen ca 1.45 uur. Laat je brengen naar het startpunt bij de Gortelse heide (bij Vierhouten) en lopen enkele reis Heerde: dit is ca 18-21km! Je bent om ca 11.45 u weer bij De Kiosk aan de Elburgerweg in Heerde (vlakbij de Schaapskooi).  De gemiddelde snelheid bij deze loop is 12km uur (Snelheid indicatie voor deelnemers: de halve marathon ruim binnen de 1 uur en 50 minuten kunnen afleggen)  Mocht je geen vervoer hebben stuur dan een mail dan zorgen we voor vervoer voor je. Deze loop is met name voor de marathonlopers die hun snelheid willen verbeteren. Uiteraard kan iedereen meedoen! De vorm is fartlek\, door bos en heide. Voor degene die je haalt of brengt is er een kopje koffie bij aankomst.  Zeer fraaie route! Met extra veel heuvels en snelle afdalingen.  De trainingslopen zijn bij uitstek geschikt voor (halve) marathonlopers en trailrunners  Doordat we in een groep lopen is het van belang dat je rekening houd met je hardloopmaatjes.  Loop je de halve marathon binnen 1.50 uur dan kun je prima meedoen.  Om 09.30 verzamelen bij De Kiosk aan de Elburgerweg in Heerde (alleen als je nog geen vervoer hebt en aangemeld bent)  Startlocatie aan de Gortelse Heide. \n  \n  \n 
URL:https://hardloopevenementen.com/loopagenda/gortelseheide-trailrun-nunspeet-ge/
END:VEVENT
BEGIN:VEVENT
DTSTART;VALUE=DATE:20150329
DTEND;VALUE=DATE:20150330
DTSTAMP:20260426T015236
CREATED:20150216T010911Z
LAST-MODIFIED:20190423T111331Z
UID:10795-1427587200-1427587200@hardloopevenementen.com
SUMMARY:Gortelse heide trailrun 29 Maart 2015 Nunspeet (GE)
DESCRIPTION:Doe mee met het hardloopevenement Gortelse heide trailrun 29 Maart 2015 te Nunspeet (GE) op zo 29 mrt 2015. De volgende afstanden staan op het programma: 18 km – halve marathon hardlopen. Wilt u inschrijven voor dit loopevenement?  Raadpleeg hiervoor dan de website van de organisatie\nDe uitslagen van deze hardloopwedstrijd zijn te raadplegen via dezelfde website of via de bekende websites zoals uitslagen.nl\, runtimer en mylaps. Doet u mee met dit evenement\, zorg dan dat u goed voorbereid aan de start staat! Met een goed trainingsschema komt u een heel eind. Train bijvoorbeeld met start to run van Evy Gruyaert. Download de start to run mp3 bestanden en zet ze op uw telefoon. Oortjes in\, hit the play button en en rennen maar! \n\n\n\n\nMeer informatie over Gortelse heide trailrun 29 Maart 2015 op Hardloopkalender.nl  \nDe Gortelse Heide trailrun    We hebben een mooi loopparcours voor je. Verzamelen bij de kruising Gortelseweg Vierhouterweg vlak bij het plaatsje Gortel. Hier starten we om 10.00 uur. We lopen ca 1.45 uur. Laat je brengen naar het startpunt bij de Gortelse heide (bij Vierhouten) en lopen enkele reis Heerde: dit is ca 17-18km! Je bent om ca 11.45 u weer bij De Kiosk aan de Elburgerweg in Heerde (vlakbij de Schaapskooi).  Mocht je geen vervoer hebben stuur dan een mail dan zorgen we voor vervoer voor je. Deze loop is met name voor de marathonlopers die hun snelheid willen verbeteren. Uiteraard kan iedereen meedoen! De vorm is fartlek\, door bos en heide.  Voor degene die je haalt of brengt is er een kopje koffie bij aankomst.    Zeer fraaie route! Met extra veel heuvels en snelle afdalingen.  De trainingslopen zijn bij uitstek geschikt voor (halve) marathonlopers en trailrunners  Doordat we in een groep lopen is het van belang dat je rekening houd met je hardloopmaatjes.  Loop je de halve marathon in 1.50 uur dan kun je prima meedoen. Het is een supersnelle trailrun.    Om 09.30 verzamelen bij De Kiosk aan de Elburgerweg in Heerde (alleen als je nog geen vervoer hebt en aangemeld bent)  Startlocatie aan de Gortelse Heide:  Meedoen! Direct inschrijven kan via Inschrijven of met een e-mail naar info@trail-running-veluwe.nl.     De kosten voor één event zijn  10\,- en voor  20\,- per jaar kun je al drie trailsruns deelnemen (exclusief de Veluwe Marathon   Summertrail). Bij het inschrijven heb je verschillende keuze opties om direct voor meerdere trails in te schrijven. Zelfs voor een heel jaar. Na je inschrijving ontvang je een bevestiging. \n  \n  \n 
URL:https://hardloopevenementen.com/loopagenda/gortelse-heide-trailrun-29-maart-2015-nunspeet-ge/
END:VEVENT
BEGIN:VEVENT
DTSTART;VALUE=DATE:20140427
DTEND;VALUE=DATE:20140428
DTSTAMP:20260426T015236
CREATED:20080629T180630Z
LAST-MODIFIED:20190423T105550Z
UID:34209-1398556800-1398556800@hardloopevenementen.com
SUMMARY:Zandverstuivingsloop Nunspeet (GE)
DESCRIPTION:Doe mee met het hardloopevenement Zandverstuivingsloop te Nunspeet (GE) op zo 27 apr 2014. De volgende afstanden staan op het programma: 15 km – 18 km hardlopen. Wilt u inschrijven voor dit loopevenement?  Raadpleeg hiervoor dan de website van de organisatie\nDe uitslagen van deze hardloopwedstrijd zijn te raadplegen via dezelfde website of via de bekende websites zoals uitslagen.nl\, runtimer en mylaps. Doet u mee met dit evenement\, zorg dan dat u goed voorbereid aan de start staat! Met een goed trainingsschema komt u een heel eind. Train bijvoorbeeld met start to run van Evy Gruyaert. Download de start to run mp3 bestanden en zet ze op uw telefoon. Oortjes in\, hit the play button en en rennen maar! \n\n\n\n\nMeer informatie over Zandverstuivingsloop op Hardloopkalender.nl  \nOp 29 april is het loopevent in het zandverstuivingsgebied bij Nunspeet! De start is om 09.30 uur. Parkeer je auto vlakbij aflag 14 van de A28. Dit is de afslag naar Nunspeet Elspeet. Je rijd bij de afslag richting Vierhouten en parkeert na 200meter (zodra je het wildrooster passeert rechts parkeren).Effectieve hardlooptijd wordt ca 1.30 uur. De route loopt door het Hulshorsterzand. Het Hulshorsterzand is één van de laatste restanten van de stuifvlaktes die de Veluwe vroeger rijk was. Stuifzand loop anders dan je gewend bent. Neem je vrienden\, collega hardloopmaatjes mee die van een uitdaging houden! Tot zondag 29 April.Hieronder zie je de afbeelding van de locatie waar je kunt parkeren:  Navigatie: Elspeterweg Vierhouten (kruising met A28). \n  \n  \n 
URL:https://hardloopevenementen.com/loopagenda/zandverstuivingsloop-nunspeet-ge-2/
END:VEVENT
BEGIN:VEVENT
DTSTART;VALUE=DATE:20130428
DTEND;VALUE=DATE:20130429
DTSTAMP:20260426T015236
CREATED:20130130T022833Z
LAST-MODIFIED:20190423T104308Z
UID:31816-1367107200-1367107200@hardloopevenementen.com
SUMMARY:Zandverstuivingsloop Nunspeet (GE)
DESCRIPTION:Doe mee met het hardloopevenement Zandverstuivingsloop te Nunspeet (GE) op zo 28 apr 2013. De volgende afstanden staan op het programma: 15 km – 18 km hardlopen. Wilt u inschrijven voor dit loopevenement?  Raadpleeg hiervoor dan de website van de organisatie\nDe uitslagen van deze hardloopwedstrijd zijn te raadplegen via dezelfde website of via de bekende websites zoals uitslagen.nl\, runtimer en mylaps. Doet u mee met dit evenement\, zorg dan dat u goed voorbereid aan de start staat! Met een goed trainingsschema komt u een heel eind. Train bijvoorbeeld met start to run van Evy Gruyaert. Download de start to run mp3 bestanden en zet ze op uw telefoon. Oortjes in\, hit the play button en en rennen maar! \n\n\n\n\nMeer informatie over Zandverstuivingsloop op Hardloopkalender.nl  \nOp 29 april is het loopevent in het zandverstuivingsgebied bij Nunspeet! De start is om 09.30 uur. Parkeer je auto vlakbij aflag 14 van de A28. Dit is de afslag naar Nunspeet Elspeet. Je rijd bij de afslag richting Vierhouten en parkeert na 200meter (zodra je het wildrooster passeert rechts parkeren).Effectieve hardlooptijd wordt ca 1.30 uur. De route loopt door het Hulshorsterzand. Het Hulshorsterzand is één van de laatste restanten van de stuifvlaktes die de Veluwe vroeger rijk was. Stuifzand loop anders dan je gewend bent. Neem je vrienden\, collega hardloopmaatjes mee die van een uitdaging houden! Tot zondag 29 April.Hieronder zie je de afbeelding van de locatie waar je kunt parkeren:  Navigatie: Elspeterweg Vierhouten (kruising met A28). \n  \n  \n 
URL:https://hardloopevenementen.com/loopagenda/zandverstuivingsloop-nunspeet-ge/
END:VEVENT
END:VCALENDAR