BEGIN:VCALENDAR
VERSION:2.0
PRODID:-//Hardloopevenementen - ECPv6.15.14//NONSGML v1.0//EN
CALSCALE:GREGORIAN
METHOD:PUBLISH
X-WR-CALNAME:Hardloopevenementen
X-ORIGINAL-URL:https://hardloopevenementen.com
X-WR-CALDESC:Evenementen voor Hardloopevenementen
REFRESH-INTERVAL;VALUE=DURATION:PT1H
X-Robots-Tag:noindex
X-PUBLISHED-TTL:PT1H
BEGIN:VTIMEZONE
TZID:UTC
BEGIN:STANDARD
TZOFFSETFROM:+0000
TZOFFSETTO:+0000
TZNAME:UTC
DTSTART:20150101T000000
END:STANDARD
END:VTIMEZONE
BEGIN:VEVENT
DTSTART;VALUE=DATE:20160626
DTEND;VALUE=DATE:20160627
DTSTAMP:20260426T012956
CREATED:20130901T095723Z
LAST-MODIFIED:20190423T112404Z
UID:12429-1466899200-1466899200@hardloopevenementen.com
SUMMARY:Kennemerduinen trailrun Bloemendaal (NH)
DESCRIPTION:Doe mee met het hardloopevenement Kennemerduinen trailrun te Bloemendaal (NH) op zo 26 jun 2016. De volgende afstanden staan op het programma: 15 km – 10 Engelse mijl – 18 km – 19 km hardlopen. Wilt u inschrijven voor dit loopevenement?  Raadpleeg hiervoor dan de website van de organisatie\nDe uitslagen van deze hardloopwedstrijd zijn te raadplegen via dezelfde website of via de bekende websites zoals uitslagen.nl\, runtimer en mylaps. Doet u mee met dit evenement\, zorg dan dat u goed voorbereid aan de start staat! Met een goed trainingsschema komt u een heel eind. Train bijvoorbeeld met start to run van Evy Gruyaert. Download de start to run mp3 bestanden en zet ze op uw telefoon. Oortjes in\, hit the play button en en rennen maar! \n\n\n\n\nMeer informatie over Kennemerduinen trailrun op Hardloopkalender.nl  \nDe Kennemerduinen Trailrun staat zondag 26 juni 2016 om 09.30 uur op het programma! 17 en 19 km. Een behoorlijk pittige loop. De trailrun Kennemerduinen is bij uitstek geschikt voor (halve) marathon lopers die de conditie flink willen verbeteren. Veel duinen en deels langs de waterlijn van de Noordzee. Je kunt onderweg kiezen tussen zwaardere en lichtere trajecten. Kies je voor de variant zwaar dan maak je veel hoogtemeters. Doordat we in een groep lopen is het van belang dat je rekening houd met je hardloopmaatjes. Snelheid indicatie voor deelnemers: de halve marathon ruim binnen de 2 uur kunnen afleggen. \n  \n  \n 
URL:https://hardloopevenementen.com/loopagenda/kennemerduinen-trailrun-bloemendaal-nh/
END:VEVENT
END:VCALENDAR