BEGIN:VCALENDAR
VERSION:2.0
PRODID:-//Hardloopevenementen - ECPv6.15.14//NONSGML v1.0//EN
CALSCALE:GREGORIAN
METHOD:PUBLISH
X-ORIGINAL-URL:https://hardloopevenementen.com
X-WR-CALDESC:Evenementen voor Hardloopevenementen
REFRESH-INTERVAL;VALUE=DURATION:PT1H
X-Robots-Tag:noindex
X-PUBLISHED-TTL:PT1H
BEGIN:VTIMEZONE
TZID:UTC
BEGIN:STANDARD
TZOFFSETFROM:+0000
TZOFFSETTO:+0000
TZNAME:UTC
DTSTART:20170101T000000
END:STANDARD
END:VTIMEZONE
BEGIN:VEVENT
DTSTART;VALUE=DATE:20181116
DTEND;VALUE=DATE:20181117
DTSTAMP:20260425T230650
CREATED:20150809T074931Z
LAST-MODIFIED:20190423T120130Z
UID:15651-1542326400-1542326400@hardloopevenementen.com
SUMMARY:Kralingen By Night Kralingen-Crooswijk\, gemeente Rotterdam (ZH)
DESCRIPTION:Doe mee met het hardloopevenement Kralingen By Night te Kralingen-Crooswijk\, gemeente Rotterdam (ZH) op vr 16 nov 2018. De volgende afstanden staan op het programma: 1 km – 1\,9 km – 5 km – 10 km hardlopen. Wilt u inschrijven voor dit loopevenement?  Raadpleeg hiervoor dan de website van de organisatie\nDe uitslagen van deze hardloopwedstrijd zijn te raadplegen via dezelfde website of via de bekende websites zoals uitslagen.nl\, runtimer en mylaps. Doet u mee met dit evenement\, zorg dan dat u goed voorbereid aan de start staat! Met een goed trainingsschema komt u een heel eind. Train bijvoorbeeld met start to run van Evy Gruyaert. Download de start to run mp3 bestanden en zet ze op uw telefoon. Oortjes in\, hit the play button en en rennen maar! \n\n\n\n\nMeer informatie over Kralingen By Night op Hardloopkalender.nl  \nDe FOOX Stadium FunRun Excelsior: een uniek hardloopevenement door en rond het Van Donge en de Roo Stadion voor het goede doel! Dit jaar vindt de derde editie plaats van het evenement.    Kom in beweging en loop langs unieke plekken waar normaal gesproken alleen de Excelsior-spelers mogen komen\, zoals de kleedkamer en gang richting het veld. En finish op de middenstip! Daarbij zorgen we langs het parcours en voor alle deelnemers voor feestelijke verlichting. Kralingen by Night!    De FOOX Stadium FunRun Excelsior is een sportieve vrijdagmiddagborrel voor iedereen: jong én oud en getrainde én beginnende lopers. De run staat in het teken van Spieren voor Spieren en Excelsior4All. \n  \n  \n 
URL:https://hardloopevenementen.com/loopagenda/kralingen-by-night-kralingen-crooswijk-gemeente-rotterdam-zh/
END:VEVENT
END:VCALENDAR