BEGIN:VCALENDAR
VERSION:2.0
PRODID:-//Hardloopevenementen - ECPv6.15.14//NONSGML v1.0//EN
CALSCALE:GREGORIAN
METHOD:PUBLISH
X-WR-CALNAME:Hardloopevenementen
X-ORIGINAL-URL:https://hardloopevenementen.com
X-WR-CALDESC:Evenementen voor Hardloopevenementen
REFRESH-INTERVAL;VALUE=DURATION:PT1H
X-Robots-Tag:noindex
X-PUBLISHED-TTL:PT1H
BEGIN:VTIMEZONE
TZID:UTC
BEGIN:STANDARD
TZOFFSETFROM:+0000
TZOFFSETTO:+0000
TZNAME:UTC
DTSTART:20060101T000000
END:STANDARD
END:VTIMEZONE
BEGIN:VEVENT
DTSTART;VALUE=DATE:20080621
DTEND;VALUE=DATE:20080622
DTSTAMP:20260421T044030
CREATED:20170508T181908Z
LAST-MODIFIED:20190423T094642Z
UID:19521-1214006400-1214006400@hardloopevenementen.com
SUMMARY:Jan Driegen halve marathon Steenwijk
DESCRIPTION:Doe mee met het hardloopevenement Jan Driegen halve marathon te Steenwijk op za 21 jun 2008. De volgende afstanden staan op het programma: 1\,9 km – 10\,6 km – halve marathon hardlopen. Wilt u inschrijven voor dit loopevenement?  Raadpleeg hiervoor dan de website van de organisatie\nDe uitslagen van deze hardloopwedstrijd zijn te raadplegen via dezelfde website of via de bekende websites zoals uitslagen.nl\, runtimer en mylaps. Doet u mee met dit evenement\, zorg dan dat u goed voorbereid aan de start staat! Met een goed trainingsschema komt u een heel eind. Train bijvoorbeeld met start to run van Evy Gruyaert. Download de start to run mp3 bestanden en zet ze op uw telefoon. Oortjes in\, hit the play button en en rennen maar! \n\n\n\n\nMeer informatie over Jan Driegen halve marathon op Hardloopkalender.nl  \nstart  10\,6 en halve marathon km 17:30 uur  1\,9 km 17:45 uur \n  \n  \n 
URL:https://hardloopevenementen.com/loopagenda/jan-driegen-halve-marathon-steenwijk-2/
END:VEVENT
BEGIN:VEVENT
DTSTART;VALUE=DATE:20070623
DTEND;VALUE=DATE:20070624
DTSTAMP:20260421T044030
CREATED:20110423T051214Z
LAST-MODIFIED:20190423T093938Z
UID:449-1182556800-1182556800@hardloopevenementen.com
SUMMARY:Jan Driegen-halve marathon Steenwijk
DESCRIPTION:Doe mee met het hardloopevenement Jan Driegen-halve marathon te Steenwijk op za 23 jun 2007. De volgende afstanden staan op het programma: 1\,9 km – 10\,7 km – halve marathon hardlopen. Wilt u inschrijven voor dit loopevenement?  Raadpleeg hiervoor dan de website van de organisatie\nDe uitslagen van deze hardloopwedstrijd zijn te raadplegen via dezelfde website of via de bekende websites zoals uitslagen.nl\, runtimer en mylaps. Doet u mee met dit evenement\, zorg dan dat u goed voorbereid aan de start staat! Met een goed trainingsschema komt u een heel eind. Train bijvoorbeeld met start to run van Evy Gruyaert. Download de start to run mp3 bestanden en zet ze op uw telefoon. Oortjes in\, hit the play button en en rennen maar! \n\n\n\n\nMeer informatie over Jan Driegen-halve marathon op Hardloopkalender.nl  \n  \n  \n 
URL:https://hardloopevenementen.com/loopagenda/jan-driegen-halve-marathon-steenwijk/
END:VEVENT
END:VCALENDAR