BEGIN:VCALENDAR
VERSION:2.0
PRODID:-//Hardloopevenementen - ECPv6.15.14//NONSGML v1.0//EN
CALSCALE:GREGORIAN
METHOD:PUBLISH
X-WR-CALNAME:Hardloopevenementen
X-ORIGINAL-URL:https://hardloopevenementen.com
X-WR-CALDESC:Evenementen voor Hardloopevenementen
REFRESH-INTERVAL;VALUE=DURATION:PT1H
X-Robots-Tag:noindex
X-PUBLISHED-TTL:PT1H
BEGIN:VTIMEZONE
TZID:UTC
BEGIN:STANDARD
TZOFFSETFROM:+0000
TZOFFSETTO:+0000
TZNAME:UTC
DTSTART:20120101T000000
END:STANDARD
END:VTIMEZONE
BEGIN:VEVENT
DTSTART;VALUE=DATE:20130608
DTEND;VALUE=DATE:20130609
DTSTAMP:20260420T150905
CREATED:20141112T045534Z
LAST-MODIFIED:20190423T104220Z
UID:31633-1370649600-1370649600@hardloopevenementen.com
SUMMARY:Strong Viking Run Wijchen (GE)
DESCRIPTION:Doe mee met het hardloopevenement Strong Viking Run te Wijchen (GE) op za 08 jun 2013. De volgende afstanden staan op het programma: 1\,9 km – 19\,9 km hardlopen. Wilt u inschrijven voor dit loopevenement?  Raadpleeg hiervoor dan de website van de organisatie\nDe uitslagen van deze hardloopwedstrijd zijn te raadplegen via dezelfde website of via de bekende websites zoals uitslagen.nl\, runtimer en mylaps. Doet u mee met dit evenement\, zorg dan dat u goed voorbereid aan de start staat! Met een goed trainingsschema komt u een heel eind. Train bijvoorbeeld met start to run van Evy Gruyaert. Download de start to run mp3 bestanden en zet ze op uw telefoon. Oortjes in\, hit the play button en en rennen maar! \n\n\n\n\nMeer informatie over Strong Viking Run op Hardloopkalender.nl  \nDe StrongvikingRun is een uitdagende wedstrijd waarbij je de strijd aangaat zoals de Vikingen dat deden. De combinatie van een geweldige uitdaging en entertainment maken het geheel tot een unieke beleveving voor zowel deelnemers als publiek. Je zal je krachten moeten testen op een parcours van 19\,99 km. waarbij je 30 hindernissen zal moeten overwinnen.     Deze hindernissen zullen zware beproevingen zijn\, waarbij de ware viking in je naar boven zal moeten komen    Als je deze beproevingen hebt doorstaan zal je gehuldigd worden als Survivor StrongVikingRun 2013″ en zul je samen met alle andere helden van deze dag nog een groot feestmaal nuttigen\, waarbij de pullen bier veelvuldig zullen rondgaan. \n  \n  \n 
URL:https://hardloopevenementen.com/loopagenda/strong-viking-run-wijchen-ge/
END:VEVENT
END:VCALENDAR