BEGIN:VCALENDAR
VERSION:2.0
PRODID:-//Hardloopevenementen - ECPv6.15.14//NONSGML v1.0//EN
CALSCALE:GREGORIAN
METHOD:PUBLISH
X-WR-CALNAME:Hardloopevenementen
X-ORIGINAL-URL:https://hardloopevenementen.com
X-WR-CALDESC:Evenementen voor Hardloopevenementen
REFRESH-INTERVAL;VALUE=DURATION:PT1H
X-Robots-Tag:noindex
X-PUBLISHED-TTL:PT1H
BEGIN:VTIMEZONE
TZID:UTC
BEGIN:STANDARD
TZOFFSETFROM:+0000
TZOFFSETTO:+0000
TZNAME:UTC
DTSTART:20110101T000000
END:STANDARD
END:VTIMEZONE
BEGIN:VEVENT
DTSTART;VALUE=DATE:20160402
DTEND;VALUE=DATE:20160403
DTSTAMP:20260426T031107
CREATED:20140225T065931Z
LAST-MODIFIED:20190423T112623Z
UID:13052-1459555200-1459555200@hardloopevenementen.com
SUMMARY:Halve Marathon Nunspeet Nunspeet (GE)
DESCRIPTION:Doe mee met het hardloopevenement Halve Marathon Nunspeet te Nunspeet (GE) op za 02 apr 2016. De volgende afstanden staan op het programma: 0\,9 km – 1 km – 1\,6 km – 2 km – 4 km – 5 km – 6 km – 8 km – 10 km – halve marathon hardlopen. Wilt u inschrijven voor dit loopevenement?  Raadpleeg hiervoor dan de website van de organisatie\nDe uitslagen van deze hardloopwedstrijd zijn te raadplegen via dezelfde website of via de bekende websites zoals uitslagen.nl\, runtimer en mylaps. Doet u mee met dit evenement\, zorg dan dat u goed voorbereid aan de start staat! Met een goed trainingsschema komt u een heel eind. Train bijvoorbeeld met start to run van Evy Gruyaert. Download de start to run mp3 bestanden en zet ze op uw telefoon. Oortjes in\, hit the play button en en rennen maar! \n\n\n\n\nMeer informatie over Halve Marathon Nunspeet op Hardloopkalender.nl  \nHet loopevenement Halve Marathon Nunspeet te Nunspeet vindt plaats op zaterdag 02 april 2016. \n  \n  \n 
URL:https://hardloopevenementen.com/loopagenda/halve-marathon-nunspeet-nunspeet-ge/
END:VEVENT
BEGIN:VEVENT
DTSTART;VALUE=DATE:20120107
DTEND;VALUE=DATE:20120108
DTSTAMP:20260426T031107
CREATED:20150209T222014Z
LAST-MODIFIED:20190423T103538Z
UID:29114-1325894400-1325894400@hardloopevenementen.com
SUMMARY:27e Nieuwjaarsloop vv Nunspeet Nunspeet (GE)
DESCRIPTION:Doe mee met het hardloopevenement 27e Nieuwjaarsloop vv Nunspeet te Nunspeet (GE) op za 07 jan 2012. De volgende afstanden staan op het programma: 1 km – 2 km – 5 km – 7 km – 14 km – halve marathon hardlopen. Wilt u inschrijven voor dit loopevenement?  Raadpleeg hiervoor dan de website van de organisatie\nDe uitslagen van deze hardloopwedstrijd zijn te raadplegen via dezelfde website of via de bekende websites zoals uitslagen.nl\, runtimer en mylaps. Doet u mee met dit evenement\, zorg dan dat u goed voorbereid aan de start staat! Met een goed trainingsschema komt u een heel eind. Train bijvoorbeeld met start to run van Evy Gruyaert. Download de start to run mp3 bestanden en zet ze op uw telefoon. Oortjes in\, hit the play button en en rennen maar! \n\n\n\n\nMeer informatie over 27e Nieuwjaarsloop vv Nunspeet op Hardloopkalender.nl  \nHet loopevenement 27e Nieuwjaarsloop vv Nunspeet te Nunspeet vindt plaats op zaterdag 07 januari 2012. De loop wordt georganiseerd door Supportersver. Nunspeet. Inschrijven is mogelijk vanaf 07 januari 2012. Klik hier voor het adres van de start (Google Maps).Er is EHBO aanwezig. Bijzonderheden: een mooie loop over asfalt en verharde zandpaden door o.a. de veluwse bossen.Afstand SoortloopInschrijfgeldStarttijdInfo1 km3\,0010.30uur2 km4\,0011.00uur5 km4\,0011.30uur7 km5\,0013.00uur14 km6\,0013.00uur21 km7\,0013\,15uurVoor meer informatie:B. Vliegersupportersverenigingvvnunspeet@live.nl0341256817http:  www.vvnunspeet.nl \n  \n  \n 
URL:https://hardloopevenementen.com/loopagenda/27e-nieuwjaarsloop-vv-nunspeet-nunspeet-ge/
END:VEVENT
END:VCALENDAR