BEGIN:VCALENDAR
VERSION:2.0
PRODID:-//Hardloopevenementen - ECPv6.15.14//NONSGML v1.0//EN
CALSCALE:GREGORIAN
METHOD:PUBLISH
X-WR-CALNAME:Hardloopevenementen
X-ORIGINAL-URL:https://hardloopevenementen.com
X-WR-CALDESC:Evenementen voor Hardloopevenementen
REFRESH-INTERVAL;VALUE=DURATION:PT1H
X-Robots-Tag:noindex
X-PUBLISHED-TTL:PT1H
BEGIN:VTIMEZONE
TZID:UTC
BEGIN:STANDARD
TZOFFSETFROM:+0000
TZOFFSETTO:+0000
TZNAME:UTC
DTSTART:20070101T000000
END:STANDARD
END:VTIMEZONE
BEGIN:VEVENT
DTSTART;VALUE=DATE:20081012
DTEND;VALUE=DATE:20081013
DTSTAMP:20260421T031318
CREATED:20120423T211040Z
LAST-MODIFIED:20190423T094450Z
UID:19034-1223769600-1223769600@hardloopevenementen.com
SUMMARY:Pijnenburg Bosmarathon Soest
DESCRIPTION:Doe mee met het hardloopevenement Pijnenburg Bosmarathon te Soest op zo 12 okt 2008. De volgende afstanden staan op het programma: 1 km – 2 km – 5 km – 10\,5 km – halve marathon – 31\,5 km – marathon hardlopen. Wilt u inschrijven voor dit loopevenement?  Raadpleeg hiervoor dan de website van de organisatie\nDe uitslagen van deze hardloopwedstrijd zijn te raadplegen via dezelfde website of via de bekende websites zoals uitslagen.nl\, runtimer en mylaps. Doet u mee met dit evenement\, zorg dan dat u goed voorbereid aan de start staat! Met een goed trainingsschema komt u een heel eind. Train bijvoorbeeld met start to run van Evy Gruyaert. Download de start to run mp3 bestanden en zet ze op uw telefoon. Oortjes in\, hit the play button en en rennen maar! \n\n\n\n\nMeer informatie over Pijnenburg Bosmarathon op Hardloopkalender.nl  \nOp zondag 12 oktober organiseert A.V. Pijnenburg in Soest de negende Pijnenburg Bosmarathon. In de prachtige bossen van Lage Hees (voorheen het landgoed Pijnenburg) zijn voor jong en oud verschillende parcoursen uitgezet over de bospaden.    U start en finisht op de atletiekbaan van A.V. Pijnenburg.    De Pijnenburg Bosmarathon is al vele jaren een gezellige recreatieve loop met veel publieke belangstelling.     ——————————————————————————–   Organisatie en Tijdsregistratie    De tijdlimiet voor de marathon is 5 uur. De tijdsregistratie (met uitzondering van de jeugdlopen) wordt dit jaar uitgevoerd met behulp van de GatewaY chip. Klik hier voor bevestigingsinstructie van de GateWay chip.  Voor lopers zijn er op het parcours twee verzorgingsposten ingericht. In het clubgebouw van A.V. Pijnenburg is douche- en kleedgelegenheid. Ook kunt u gebruik maken van sportmassage.  ——————————————————————————–  Inschrijven    Inschrijving bij voorkeur via onze website. Na-inschrijving is eventueel mogelijk op 12 oktober van af 09.00 uur bij A.V. Pijnenburg.  ——————————————————————————–  Herinnering    Alle deelnemers ontvangen een herinnering. Marathonlopers een medaille. In elke categorie zijn drie prijzen beschikbaar. Daarnaast wordt voor beide jeugdlopen per leeftijdsjaar een klassement opgesteld (zonder prijzen).    Bij de marathonestafette is het de bedoeling dat de teams als volgt worden samengesteld:   4 mannen of 4 vrouwen of 2 mannen en 2 vrouwen.   Voor al deze 3 categorieën wordt voor het eerste binnenkomende team een prijs beschikbaar gesteld door de 50 Euro Club A.V.Pijnenburg.        De 10\,5 km van de Pijnenburg Bosmarathon telt mee voor de TOP 10 lopen Gooi\, Vecht- en Eemstreek\, een samenwerkingsverband tussen een aantal regionale lopen. \n  \n  \n 
URL:https://hardloopevenementen.com/loopagenda/pijnenburg-bosmarathon-soest/
END:VEVENT
END:VCALENDAR