BEGIN:VCALENDAR
VERSION:2.0
PRODID:-//Hardloopevenementen - ECPv6.15.14//NONSGML v1.0//EN
CALSCALE:GREGORIAN
METHOD:PUBLISH
X-WR-CALNAME:Hardloopevenementen
X-ORIGINAL-URL:https://hardloopevenementen.com
X-WR-CALDESC:Evenementen voor Hardloopevenementen
REFRESH-INTERVAL;VALUE=DURATION:PT1H
X-Robots-Tag:noindex
X-PUBLISHED-TTL:PT1H
BEGIN:VTIMEZONE
TZID:UTC
BEGIN:STANDARD
TZOFFSETFROM:+0000
TZOFFSETTO:+0000
TZNAME:UTC
DTSTART:20080101T000000
END:STANDARD
END:VTIMEZONE
BEGIN:VEVENT
DTSTART;VALUE=DATE:20100110
DTEND;VALUE=DATE:20100111
DTSTAMP:20260424T081436
CREATED:20131022T063359Z
LAST-MODIFIED:20190423T101456Z
UID:24166-1263081600-1263081600@hardloopevenementen.com
SUMMARY:Road to Rotterdam Trainingslopen Heerlen (LI)
DESCRIPTION:Doe mee met het hardloopevenement Road to Rotterdam Trainingslopen te Heerlen (LI) op zo 10 jan 2010. De volgende afstanden staan op het programma: 20 km hardlopen. Wilt u inschrijven voor dit loopevenement?  Raadpleeg hiervoor dan de website van de organisatie\nDe uitslagen van deze hardloopwedstrijd zijn te raadplegen via dezelfde website of via de bekende websites zoals uitslagen.nl\, runtimer en mylaps. Doet u mee met dit evenement\, zorg dan dat u goed voorbereid aan de start staat! Met een goed trainingsschema komt u een heel eind. Train bijvoorbeeld met start to run van Evy Gruyaert. Download de start to run mp3 bestanden en zet ze op uw telefoon. Oortjes in\, hit the play button en en rennen maar! \n\n\n\n\nMeer informatie over Road to Rotterdam Trainingslopen op Hardloopkalender.nl  \nDit loopevenement wordt georganiseerd door Rotterdam Marathon B.V..De eerste afstand (of onderdeel) start om 09:30.Het adres van de start is Schaapskooiweg99 Het adres van de finish is Schaapskooiweg 99Categorie(ën): mannen\, vrouwenVooraf inschrijven is mogelijk vanaf 27 oktober 2009 tot 20 december 2009.Inschrijven op de dag van de loop is mogelijk (vanaf Voorafgaande aan de training) op dit adres: Stichting Parelloop Brunssum  Schrieversheide Schaapskooiweg 99 Heerlen.Meer informatie:Contactpersoon: Rotterdam MarathonTel.: 0100000000Email: info@rotterdammarathon.nlEr is een kleedaccomodatie aanwezig. Douchen is mogelijk.Het parcours is verhard.Overige bijzonderheden:  Meedoen aan alle Road to Rotterdam Trainingslopen(4x) voor 20\,- \n  \n  \n 
URL:https://hardloopevenementen.com/loopagenda/road-to-rotterdam-trainingslopen-heerlen-li-4/
END:VEVENT
BEGIN:VEVENT
DTSTART;VALUE=DATE:20090111
DTEND;VALUE=DATE:20090112
DTSTAMP:20260424T081436
CREATED:20161128T010217Z
LAST-MODIFIED:20190423T100405Z
UID:2938-1231632000-1231632000@hardloopevenementen.com
SUMMARY:Road to Rotterdam Trainingsloop Heerlen (LI)
DESCRIPTION:Doe mee met het hardloopevenement Road to Rotterdam Trainingsloop te Heerlen (LI) op zo 11 jan 2009. De volgende afstanden staan op het programma: 20 km hardlopen. Wilt u inschrijven voor dit loopevenement?  Raadpleeg hiervoor dan de website van de organisatie\nDe uitslagen van deze hardloopwedstrijd zijn te raadplegen via dezelfde website of via de bekende websites zoals uitslagen.nl\, runtimer en mylaps. Doet u mee met dit evenement\, zorg dan dat u goed voorbereid aan de start staat! Met een goed trainingsschema komt u een heel eind. Train bijvoorbeeld met start to run van Evy Gruyaert. Download de start to run mp3 bestanden en zet ze op uw telefoon. Oortjes in\, hit the play button en en rennen maar! \n\n\n\n\nMeer informatie over Road to Rotterdam Trainingsloop op Hardloopkalender.nl  \n20 km 10:00 uur \n  \n  \n 
URL:https://hardloopevenementen.com/loopagenda/road-to-rotterdam-trainingsloop-heerlen-li-4/
END:VEVENT
END:VCALENDAR