BEGIN:VCALENDAR
VERSION:2.0
PRODID:-//Hardloopevenementen - ECPv6.15.14//NONSGML v1.0//EN
CALSCALE:GREGORIAN
METHOD:PUBLISH
X-WR-CALNAME:Hardloopevenementen
X-ORIGINAL-URL:https://hardloopevenementen.com
X-WR-CALDESC:Evenementen voor Hardloopevenementen
REFRESH-INTERVAL;VALUE=DURATION:PT1H
X-Robots-Tag:noindex
X-PUBLISHED-TTL:PT1H
BEGIN:VTIMEZONE
TZID:UTC
BEGIN:STANDARD
TZOFFSETFROM:+0000
TZOFFSETTO:+0000
TZNAME:UTC
DTSTART:20100101T000000
END:STANDARD
END:VTIMEZONE
BEGIN:VEVENT
DTSTART;VALUE=DATE:20170326
DTEND;VALUE=DATE:20170327
DTSTAMP:20260426T033314
CREATED:20130110T140427Z
LAST-MODIFIED:20190423T114729Z
UID:15036-1490486400-1490486400@hardloopevenementen.com
SUMMARY:IJsselTrail IJsselstein (UT)
DESCRIPTION:Doe mee met het hardloopevenement IJsselTrail te IJsselstein (UT) op zo 26 mrt 2017. De volgende afstanden staan op het programma: 10 km – 20 km hardlopen. Wilt u inschrijven voor dit loopevenement?  Raadpleeg hiervoor dan de website van de organisatie\nDe uitslagen van deze hardloopwedstrijd zijn te raadplegen via dezelfde website of via de bekende websites zoals uitslagen.nl\, runtimer en mylaps. Doet u mee met dit evenement\, zorg dan dat u goed voorbereid aan de start staat! Met een goed trainingsschema komt u een heel eind. Train bijvoorbeeld met start to run van Evy Gruyaert. Download de start to run mp3 bestanden en zet ze op uw telefoon. Oortjes in\, hit the play button en en rennen maar! \n\n\n\n\nMeer informatie over IJsselTrail op Hardloopkalender.nl  \nIJsselTrail is een nieuw hardloopevent voor verschillende goede doelen.    10 k (60% onverhard )  20 k (90% onverhard) \n  \n  \n 
URL:https://hardloopevenementen.com/loopagenda/ijsseltrail-ijsselstein-ut/
END:VEVENT
BEGIN:VEVENT
DTSTART;VALUE=DATE:20121027
DTEND;VALUE=DATE:20121028
DTSTAMP:20260426T033314
CREATED:20180308T142036Z
LAST-MODIFIED:20190423T102830Z
UID:7490-1351296000-1351296000@hardloopevenementen.com
SUMMARY:IJsselstein ontmoet Nieuwegein IJsselstein (UT)
DESCRIPTION:Doe mee met het hardloopevenement IJsselstein ontmoet Nieuwegein te IJsselstein (UT) op za 27 okt 2012. De volgende afstanden staan op het programma: 1 km – 5 km – 10 km – 20 km hardlopen. Wilt u inschrijven voor dit loopevenement?  Raadpleeg hiervoor dan de website van de organisatie\nDe uitslagen van deze hardloopwedstrijd zijn te raadplegen via dezelfde website of via de bekende websites zoals uitslagen.nl\, runtimer en mylaps. Doet u mee met dit evenement\, zorg dan dat u goed voorbereid aan de start staat! Met een goed trainingsschema komt u een heel eind. Train bijvoorbeeld met start to run van Evy Gruyaert. Download de start to run mp3 bestanden en zet ze op uw telefoon. Oortjes in\, hit the play button en en rennen maar! \n\n\n\n\nMeer informatie over IJsselstein ontmoet Nieuwegein op Hardloopkalender.nl  \nStartplaatsen:  5 km. centrum Nieuwegein  10 km. Overtoom\, IJsselstein of Atletiekbaan Nieuwegein.  20 km. idem \n  \n  \n 
URL:https://hardloopevenementen.com/loopagenda/ijsselstein-ontmoet-nieuwegein-ijsselstein-ut/
END:VEVENT
BEGIN:VEVENT
DTSTART;VALUE=DATE:20111022
DTEND;VALUE=DATE:20111023
DTSTAMP:20260426T033314
CREATED:20140527T113106Z
LAST-MODIFIED:20190423T101758Z
UID:6125-1319241600-1319241600@hardloopevenementen.com
SUMMARY:IJsselstein ontmoet Montfoort IJsselstein (UT)
DESCRIPTION:Doe mee met het hardloopevenement IJsselstein ontmoet Montfoort te IJsselstein (UT) op za 22 okt 2011. De volgende afstanden staan op het programma: 10 km – 20 km hardlopen. Wilt u inschrijven voor dit loopevenement?  Raadpleeg hiervoor dan de website van de organisatie\nDe uitslagen van deze hardloopwedstrijd zijn te raadplegen via dezelfde website of via de bekende websites zoals uitslagen.nl\, runtimer en mylaps. Doet u mee met dit evenement\, zorg dan dat u goed voorbereid aan de start staat! Met een goed trainingsschema komt u een heel eind. Train bijvoorbeeld met start to run van Evy Gruyaert. Download de start to run mp3 bestanden en zet ze op uw telefoon. Oortjes in\, hit the play button en en rennen maar! \n\n\n\n\nMeer informatie over IJsselstein ontmoet Montfoort op Hardloopkalender.nl  \nEr wordt gelopen van IJsselstein naar Montfoort of van Montfoort naar IJsselstein (= 10 km.). De lopers ontmoeten elkaar onderweg.  Tevens bestaat er de mogelijkheid om ’terug’ te lopen (= 20 km.)  Wandelaars zijn ook welkom en lopen 10 km. Zowel in IJsselstein als in Montfoort wordt er om 11 uur gestart en beide gemeenten zullen de ‘gasten’ feestelijk binnenhalen. \n  \n  \n 
URL:https://hardloopevenementen.com/loopagenda/ijsselstein-ontmoet-montfoort-ijsselstein-ut/
END:VEVENT
END:VCALENDAR