BEGIN:VCALENDAR
VERSION:2.0
PRODID:-//Hardloopevenementen - ECPv6.15.14//NONSGML v1.0//EN
CALSCALE:GREGORIAN
METHOD:PUBLISH
X-WR-CALNAME:Hardloopevenementen
X-ORIGINAL-URL:https://hardloopevenementen.com
X-WR-CALDESC:Evenementen voor Hardloopevenementen
REFRESH-INTERVAL;VALUE=DURATION:PT1H
X-Robots-Tag:noindex
X-PUBLISHED-TTL:PT1H
BEGIN:VTIMEZONE
TZID:UTC
BEGIN:STANDARD
TZOFFSETFROM:+0000
TZOFFSETTO:+0000
TZNAME:UTC
DTSTART:20140101T000000
END:STANDARD
END:VTIMEZONE
BEGIN:VEVENT
DTSTART;VALUE=DATE:20150201
DTEND;VALUE=DATE:20150202
DTSTAMP:20260426T033604
CREATED:20091108T125958Z
LAST-MODIFIED:20190423T111439Z
UID:11102-1422748800-1422748800@hardloopevenementen.com
SUMMARY:Trainingsloop 20km Leiden Marathon Leiden (ZH)
DESCRIPTION:Doe mee met het hardloopevenement Trainingsloop 20km Leiden Marathon te Leiden (ZH) op zo 01 feb 2015. De volgende afstanden staan op het programma: 20 km hardlopen. Wilt u inschrijven voor dit loopevenement?  Raadpleeg hiervoor dan de website van de organisatie\nDe uitslagen van deze hardloopwedstrijd zijn te raadplegen via dezelfde website of via de bekende websites zoals uitslagen.nl\, runtimer en mylaps. Doet u mee met dit evenement\, zorg dan dat u goed voorbereid aan de start staat! Met een goed trainingsschema komt u een heel eind. Train bijvoorbeeld met start to run van Evy Gruyaert. Download de start to run mp3 bestanden en zet ze op uw telefoon. Oortjes in\, hit the play button en en rennen maar! \n\n\n\n\nMeer informatie over Trainingsloop 20km Leiden Marathon op Hardloopkalender.nl  \nHet loopevenement Trainingsloop 20km Leiden Marathon te Leiden vindt plaats op zondag 01 februari 2015. \n  \n  \n 
URL:https://hardloopevenementen.com/loopagenda/trainingsloop-20km-leiden-marathon-leiden-zh/
END:VEVENT
END:VCALENDAR