BEGIN:VCALENDAR
VERSION:2.0
PRODID:-//Hardloopevenementen - ECPv6.15.14//NONSGML v1.0//EN
CALSCALE:GREGORIAN
METHOD:PUBLISH
X-WR-CALNAME:Hardloopevenementen
X-ORIGINAL-URL:https://hardloopevenementen.com
X-WR-CALDESC:Evenementen voor Hardloopevenementen
REFRESH-INTERVAL;VALUE=DURATION:PT1H
X-Robots-Tag:noindex
X-PUBLISHED-TTL:PT1H
BEGIN:VTIMEZONE
TZID:UTC
BEGIN:STANDARD
TZOFFSETFROM:+0000
TZOFFSETTO:+0000
TZNAME:UTC
DTSTART:20160101T000000
END:STANDARD
END:VTIMEZONE
BEGIN:VEVENT
DTSTART;VALUE=DATE:20200112
DTEND;VALUE=DATE:20200113
DTSTAMP:20260424T213438
CREATED:20151130T103330Z
LAST-MODIFIED:20200206T111556Z
UID:143549-1578787200-1578787200@hardloopevenementen.com
SUMMARY:Zac Freudenburg Cross Groningen (GR)
DESCRIPTION:Doe mee met het hardloopevenement Zac Freudenburg Cross te Groningen (GR) op zo 12 jan 2020. De volgende afstanden staan op het programma: 1\,4 km – 2\,1 km – 4\,2 km – 7 km – 8\,4 km hardlopen. Wilt u inschrijven voor dit loopevenement?  Raadpleeg hiervoor dan de website van de organisatie\nDe uitslagen van deze hardloopwedstrijd zijn te raadplegen via dezelfde website of via de bekende websites zoals uitslagen.nl\, runtimer en mylaps. Doet u mee met dit evenement\, zorg dan dat u goed voorbereid aan de start staat! Met een goed trainingsschema komt u een heel eind. Train bijvoorbeeld met start to run van Evy Gruyaert. Download de start to run mp3 bestanden en zet ze op uw telefoon. Oortjes in\, hit the play button en en rennen maar! \n\n\n\n\nMeer informatie over Zac Freudenburg Cross op Hardloopkalender.nl  \nDe Zac Freudenburg Cross is een jaarlijks terugkerend hardloopevenement dat plaatsvindt in januari. Het is deze keer alweer de 10de editie van deze mooie crosswedstrijd! Deze crosswedstrijd door het stadspark in de stad Groningen trekt veel hardlopers uit stad en omgeving. Voor zowel kinderen als volwassenen is er een geschikte loopafstand\, waardoor elke leeftijdsgroep goed vertegenwoordigd is. Soms valt de ZFC tegelijk met het Nederlands Studenten Kampioenschap Cross\, de cross trekt dan studenten uit heel het land. De afstanden zijn als volgt verdeeld: 1400m – pupillen\, sprint\, 2100m jongens en meisjes junioren C en D\, 4200m jongens en meisjes junioren A en B\, vrouwen en mannen korte cross\, 7000m – vrouwen lange cross\, 8400 – mannen lange cross.     De inschrijving is open vanaf 21 oktober via: https:  inschrijven.nl form 2020011224519-nl. Voorinschrijven kan tot en met 8 januari\, na-inschrijving ter plaatse is ook mogelijk. Voor meer informatie\, kijk op de website! \n  \n  \n 
URL:https://hardloopevenementen.com/loopagenda/zac-freudenburg-cross-groningen-gr-10/
END:VEVENT
BEGIN:VEVENT
DTSTART;VALUE=DATE:20180128
DTEND;VALUE=DATE:20180129
DTSTAMP:20260424T213438
CREATED:20081006T132403Z
LAST-MODIFIED:20190423T120706Z
UID:17153-1517097600-1517097600@hardloopevenementen.com
SUMMARY:Zac Freudenburg Cross Groningen (GR)
DESCRIPTION:Doe mee met het hardloopevenement Zac Freudenburg Cross te Groningen (GR) op zo 28 jan 2018. De volgende afstanden staan op het programma: 1\,4 km – 2\,1 km – 4\,2 km – 7 km – 8\,4 km hardlopen. Wilt u inschrijven voor dit loopevenement?  Raadpleeg hiervoor dan de website van de organisatie\nDe uitslagen van deze hardloopwedstrijd zijn te raadplegen via dezelfde website of via de bekende websites zoals uitslagen.nl\, runtimer en mylaps. Doet u mee met dit evenement\, zorg dan dat u goed voorbereid aan de start staat! Met een goed trainingsschema komt u een heel eind. Train bijvoorbeeld met start to run van Evy Gruyaert. Download de start to run mp3 bestanden en zet ze op uw telefoon. Oortjes in\, hit the play button en en rennen maar! \n\n\n\n\nMeer informatie over Zac Freudenburg Cross op Hardloopkalender.nl  \nDe Zac Freudenburg Cross is een wedstrijd in het stadspark van Groningen georganiseerd door Groninger Studenten Atletiek Vereniging Vitalis.   De cross bestaat uit een korte (4200m) en een lange cross (7000m vrouwen\, 8400m mannen) voor volwassenen. Junioren AB lopen met de korte cross mee. Junioren CD lopen 2100m en pupillen lopen 1400m. \n  \n  \n 
URL:https://hardloopevenementen.com/loopagenda/zac-freudenburg-cross-groningen-gr-2/
END:VEVENT
BEGIN:VEVENT
DTSTART;VALUE=DATE:20170121
DTEND;VALUE=DATE:20170122
DTSTAMP:20260424T213438
CREATED:20070116T090352Z
LAST-MODIFIED:20190423T114847Z
UID:15380-1484956800-1484956800@hardloopevenementen.com
SUMMARY:Zac Freudenburg Cross Groningen (GR)
DESCRIPTION:Doe mee met het hardloopevenement Zac Freudenburg Cross te Groningen (GR) op za 21 jan 2017. De volgende afstanden staan op het programma: 1\,4 km – 2\,1 km – 4\,2 km – 7 km – 8\,4 km hardlopen. Wilt u inschrijven voor dit loopevenement?  Raadpleeg hiervoor dan de website van de organisatie\nDe uitslagen van deze hardloopwedstrijd zijn te raadplegen via dezelfde website of via de bekende websites zoals uitslagen.nl\, runtimer en mylaps. Doet u mee met dit evenement\, zorg dan dat u goed voorbereid aan de start staat! Met een goed trainingsschema komt u een heel eind. Train bijvoorbeeld met start to run van Evy Gruyaert. Download de start to run mp3 bestanden en zet ze op uw telefoon. Oortjes in\, hit the play button en en rennen maar! \n\n\n\n\nMeer informatie over Zac Freudenburg Cross op Hardloopkalender.nl  \nDé cross in het stadspark van Groningen. Voor jong tot oud! \n  \n  \n 
URL:https://hardloopevenementen.com/loopagenda/zac-freudenburg-cross-groningen-gr/
END:VEVENT
END:VCALENDAR