BEGIN:VCALENDAR
VERSION:2.0
PRODID:-//Hardloopevenementen - ECPv6.15.14//NONSGML v1.0//EN
CALSCALE:GREGORIAN
METHOD:PUBLISH
X-ORIGINAL-URL:https://hardloopevenementen.com
X-WR-CALDESC:Evenementen voor Hardloopevenementen
REFRESH-INTERVAL;VALUE=DURATION:PT1H
X-Robots-Tag:noindex
X-PUBLISHED-TTL:PT1H
BEGIN:VTIMEZONE
TZID:UTC
BEGIN:STANDARD
TZOFFSETFROM:+0000
TZOFFSETTO:+0000
TZNAME:UTC
DTSTART:20070101T000000
END:STANDARD
END:VTIMEZONE
BEGIN:VEVENT
DTSTART;VALUE=DATE:20140504
DTEND;VALUE=DATE:20140505
DTSTAMP:20260421T073541
CREATED:20140815T062249Z
LAST-MODIFIED:20190423T105544Z
UID:34181-1399161600-1399161600@hardloopevenementen.com
SUMMARY:21ste Bemmelloop Bemmel\, gemeente Lingewaard (GE)
DESCRIPTION:Doe mee met het hardloopevenement 21ste Bemmelloop te Bemmel\, gemeente Lingewaard (GE) op zo 04 mei 2014. De volgende afstanden staan op het programma: 0\,7 km – 1\,5 km – 5 km – 10 km hardlopen. Wilt u inschrijven voor dit loopevenement?  Raadpleeg hiervoor dan de website van de organisatie\nDe uitslagen van deze hardloopwedstrijd zijn te raadplegen via dezelfde website of via de bekende websites zoals uitslagen.nl\, runtimer en mylaps. Doet u mee met dit evenement\, zorg dan dat u goed voorbereid aan de start staat! Met een goed trainingsschema komt u een heel eind. Train bijvoorbeeld met start to run van Evy Gruyaert. Download de start to run mp3 bestanden en zet ze op uw telefoon. Oortjes in\, hit the play button en en rennen maar! \n\n\n\n\nMeer informatie over 21ste Bemmelloop op Hardloopkalender.nl  \nStart vanaf 10.00 uur  Afstanden: 0\,7 km (KidsRun) – 1\,5 km – 5 km – 10 km  5 en 10 km: één grote ronde. Elke km is op het parcours aangegeven \n  \n  \n 
URL:https://hardloopevenementen.com/loopagenda/21ste-bemmelloop-bemmel-gemeente-lingewaard-ge-3/
END:VEVENT
BEGIN:VEVENT
DTSTART;VALUE=DATE:20140504
DTEND;VALUE=DATE:20140505
DTSTAMP:20260421T073541
CREATED:20121214T234654Z
LAST-MODIFIED:20190423T105544Z
UID:34179-1399161600-1399161600@hardloopevenementen.com
SUMMARY:21ste Bemmelloop Bemmel\, gemeente Lingewaard (GE)
DESCRIPTION:Doe mee met het hardloopevenement 21ste Bemmelloop te Bemmel\, gemeente Lingewaard (GE) op zo 04 mei 2014. De volgende afstanden staan op het programma: 0\,7 km – 1\,5 km – 5 km – 10 km hardlopen. Wilt u inschrijven voor dit loopevenement?  Raadpleeg hiervoor dan de website van de organisatie\nDe uitslagen van deze hardloopwedstrijd zijn te raadplegen via dezelfde website of via de bekende websites zoals uitslagen.nl\, runtimer en mylaps. Doet u mee met dit evenement\, zorg dan dat u goed voorbereid aan de start staat! Met een goed trainingsschema komt u een heel eind. Train bijvoorbeeld met start to run van Evy Gruyaert. Download de start to run mp3 bestanden en zet ze op uw telefoon. Oortjes in\, hit the play button en en rennen maar! \n\n\n\n\nMeer informatie over 21ste Bemmelloop op Hardloopkalender.nl  \nStart vanaf 10.00 uur  Afstanden: 0\,7 km (KidsRun) – 1\,5 km – 5 km – 10 km  5 en 10 km: één grote ronde. Elke km is op het parcours aangegeven \n  \n  \n 
URL:https://hardloopevenementen.com/loopagenda/21ste-bemmelloop-bemmel-gemeente-lingewaard-ge/
END:VEVENT
BEGIN:VEVENT
DTSTART;VALUE=DATE:20140504
DTEND;VALUE=DATE:20140505
DTSTAMP:20260421T073541
CREATED:20110923T064620Z
LAST-MODIFIED:20190423T105544Z
UID:34180-1399161600-1399161600@hardloopevenementen.com
SUMMARY:21ste Bemmelloop Bemmel\, gemeente Lingewaard (GE)
DESCRIPTION:Doe mee met het hardloopevenement 21ste Bemmelloop te Bemmel\, gemeente Lingewaard (GE) op zo 04 mei 2014. De volgende afstanden staan op het programma: 0\,7 km – 1\,5 km – 5 km – 10 km hardlopen. Wilt u inschrijven voor dit loopevenement?  Raadpleeg hiervoor dan de website van de organisatie\nDe uitslagen van deze hardloopwedstrijd zijn te raadplegen via dezelfde website of via de bekende websites zoals uitslagen.nl\, runtimer en mylaps. Doet u mee met dit evenement\, zorg dan dat u goed voorbereid aan de start staat! Met een goed trainingsschema komt u een heel eind. Train bijvoorbeeld met start to run van Evy Gruyaert. Download de start to run mp3 bestanden en zet ze op uw telefoon. Oortjes in\, hit the play button en en rennen maar! \n\n\n\n\nMeer informatie over 21ste Bemmelloop op Hardloopkalender.nl  \nStart vanaf 10.00 uur  Afstanden: 0\,7 km (KidsRun) – 1\,5 km – 5 km – 10 km  5 en 10 km: één grote ronde. Elke km is op het parcours aangegeven \n  \n  \n 
URL:https://hardloopevenementen.com/loopagenda/21ste-bemmelloop-bemmel-gemeente-lingewaard-ge-2/
END:VEVENT
BEGIN:VEVENT
DTSTART;VALUE=DATE:20080906
DTEND;VALUE=DATE:20080907
DTSTAMP:20260421T073541
CREATED:20110829T220228Z
LAST-MODIFIED:20190423T094540Z
UID:19249-1220659200-1220659200@hardloopevenementen.com
SUMMARY:21ste Dorpswaailoop Kesteren
DESCRIPTION:Doe mee met het hardloopevenement 21ste Dorpswaailoop te Kesteren op za 06 sep 2008. De volgende afstanden staan op het programma: 2\,7 km – 5\,2 km – 10\,4 km – 15\,6 km hardlopen. Wilt u inschrijven voor dit loopevenement?  Raadpleeg hiervoor dan de website van de organisatie\nDe uitslagen van deze hardloopwedstrijd zijn te raadplegen via dezelfde website of via de bekende websites zoals uitslagen.nl\, runtimer en mylaps. Doet u mee met dit evenement\, zorg dan dat u goed voorbereid aan de start staat! Met een goed trainingsschema komt u een heel eind. Train bijvoorbeeld met start to run van Evy Gruyaert. Download de start to run mp3 bestanden en zet ze op uw telefoon. Oortjes in\, hit the play button en en rennen maar! \n\n\n\n\nMeer informatie over 21ste Dorpswaailoop op Hardloopkalender.nl  \n2\,7 km 16:00 uur\, 5\,2-10\,4-15\,6 km 16:30 uur \n  \n  \n 
URL:https://hardloopevenementen.com/loopagenda/21ste-dorpswaailoop-kesteren/
END:VEVENT
END:VCALENDAR