BEGIN:VCALENDAR
VERSION:2.0
PRODID:-//Hardloopevenementen - ECPv6.15.14//NONSGML v1.0//EN
CALSCALE:GREGORIAN
METHOD:PUBLISH
X-ORIGINAL-URL:https://hardloopevenementen.com
X-WR-CALDESC:Evenementen voor Hardloopevenementen
REFRESH-INTERVAL;VALUE=DURATION:PT1H
X-Robots-Tag:noindex
X-PUBLISHED-TTL:PT1H
BEGIN:VTIMEZONE
TZID:UTC
BEGIN:STANDARD
TZOFFSETFROM:+0000
TZOFFSETTO:+0000
TZNAME:UTC
DTSTART:20120101T000000
END:STANDARD
END:VTIMEZONE
BEGIN:VEVENT
DTSTART;VALUE=DATE:20130901
DTEND;VALUE=DATE:20130902
DTSTAMP:20260425T185143
CREATED:20080804T115402Z
LAST-MODIFIED:20190423T104032Z
UID:31216-1377993600-1377993600@hardloopevenementen.com
SUMMARY:Ultimate Crossrun Den Helder (NH)
DESCRIPTION:Doe mee met het hardloopevenement Ultimate Crossrun te Den Helder (NH) op zo 01 sep 2013. De volgende afstanden staan op het programma: 1\,1 km – 5\,5 km – 11\,1 km – 22\,2 km hardlopen. Wilt u inschrijven voor dit loopevenement?  Raadpleeg hiervoor dan de website van de organisatie\nDe uitslagen van deze hardloopwedstrijd zijn te raadplegen via dezelfde website of via de bekende websites zoals uitslagen.nl\, runtimer en mylaps. Doet u mee met dit evenement\, zorg dan dat u goed voorbereid aan de start staat! Met een goed trainingsschema komt u een heel eind. Train bijvoorbeeld met start to run van Evy Gruyaert. Download de start to run mp3 bestanden en zet ze op uw telefoon. Oortjes in\, hit the play button en en rennen maar! \n\n\n\n\nMeer informatie over Ultimate Crossrun op Hardloopkalender.nl  \nLIJFSTIJL Ultimate Crossrun     Na het daverend succes van de 1e editie kon een vervolg niet uitblijven. Sinds deze week (maandag 4 maart) is de volledige vernieuwde website met inschrijfscript online voor de 2e editie van de LIJFSTIJL Ultimate Crossrun. De run zal plaatsvinden op zondag 1 september 2013. Ook tijdens de 2e editie zal het parcours volledig offroad zijn en voorzien van 10-tallen spectaculaire hindernissen. Bij de eerste editie is goed naar de deelnemers als publiek geluisterd\, aldus Dikla Vrolijk eigenaresse van LIJFSTIJL Centrum Den Helder en mede-organisator van de Crossrun.Daarom zijn we uitgekomen op de volgende afstanden.          ULTIMATE Crossrun  22.2 km  v.a. 16jr  250 startplaatsen          STANDAARD Crossrun  11.1 km  v.a. 14 jr  500 startplaatsen          TEAM Crossrun (5 pers m v)  11.1 km  v.a. 14 jr  100 teams          MINI Crossrun  5.55 km  v.a. 10 jr  300 startplaatsen          LADY Crossrun  5.5 km  v.a. 10 jr  (obstakels optioneel)    300 startplaatsen          IENIE MINI Crossrun  1.1 km  v.a. 6 jr  50 startplaatsen     Bekijk nu de trailer voor 2013! (http:  www.youtube.com watch?v=qjXqlJ42zh0 ). De plaatsen per onderdeel zijn beperkt\, dus zorg dat je op tijd bent. Inschrijven kan op www.ultimatecrossrun.nl \n  \n  \n 
URL:https://hardloopevenementen.com/loopagenda/ultimate-crossrun-den-helder-nh-2/
END:VEVENT
END:VCALENDAR