BEGIN:VCALENDAR
VERSION:2.0
PRODID:-//Hardloopevenementen - ECPv6.15.14//NONSGML v1.0//EN
CALSCALE:GREGORIAN
METHOD:PUBLISH
X-WR-CALNAME:Hardloopevenementen
X-ORIGINAL-URL:https://hardloopevenementen.com
X-WR-CALDESC:Evenementen voor Hardloopevenementen
REFRESH-INTERVAL;VALUE=DURATION:PT1H
X-Robots-Tag:noindex
X-PUBLISHED-TTL:PT1H
BEGIN:VTIMEZONE
TZID:UTC
BEGIN:STANDARD
TZOFFSETFROM:+0000
TZOFFSETTO:+0000
TZNAME:UTC
DTSTART:20140101T000000
END:STANDARD
END:VTIMEZONE
BEGIN:VEVENT
DTSTART;VALUE=DATE:20180422
DTEND;VALUE=DATE:20180423
DTSTAMP:20260420T204241
CREATED:20151201T070942Z
LAST-MODIFIED:20190423T120530Z
UID:16724-1524355200-1524355200@hardloopevenementen.com
SUMMARY:Rondje Nuenen West Nuenen\, gemeente Nuenen\, Gerwen en Nederwetten (NB)
DESCRIPTION:Doe mee met het hardloopevenement Rondje Nuenen West te Nuenen\, gemeente Nuenen\, Gerwen en Nederwetten (NB) op zo 22 apr 2018. De volgende afstanden staan op het programma: 7\,5 km – 15 km – 22\,5 km hardlopen. Wilt u inschrijven voor dit loopevenement?  Raadpleeg hiervoor dan de website van de organisatie\nDe uitslagen van deze hardloopwedstrijd zijn te raadplegen via dezelfde website of via de bekende websites zoals uitslagen.nl\, runtimer en mylaps. Doet u mee met dit evenement\, zorg dan dat u goed voorbereid aan de start staat! Met een goed trainingsschema komt u een heel eind. Train bijvoorbeeld met start to run van Evy Gruyaert. Download de start to run mp3 bestanden en zet ze op uw telefoon. Oortjes in\, hit the play button en en rennen maar! \n\n\n\n\nMeer informatie over Rondje Nuenen West op Hardloopkalender.nl  \nOp 22 april 2018 is de tweede editie van “Rondje Nuenen West”. Een prachtige run voor zowel recreatieve als wedstrijdlopers! Net als bij de eerste eerste editie van Rondje Nuenen West loopt de prachtige ronde dwars door de natuur\, grotendeels over onverharde paden\, in het groene gebied tussen Eindhoven en Nuenen. Het Eckartse Bos en het mooie Dommeldal zullen ongetwijfeld weer in de route zitten. De start- finishplek is uiteraard weer in Nuenen West. Zodra het parcours definitief is vastgesteld publiceren we deze. \n  \n  \n 
URL:https://hardloopevenementen.com/loopagenda/rondje-nuenen-west-nuenen-gemeente-nuenen-gerwen-en-nederwetten-nb-2/
END:VEVENT
BEGIN:VEVENT
DTSTART;VALUE=DATE:20151122
DTEND;VALUE=DATE:20151123
DTSTAMP:20260420T204241
CREATED:20061003T224312Z
LAST-MODIFIED:20190423T110717Z
UID:9354-1448150400-1448150400@hardloopevenementen.com
SUMMARY:Variabele trimloop AV-Hollandia Hoorn (NH)
DESCRIPTION:Doe mee met het hardloopevenement Variabele trimloop AV-Hollandia te Hoorn (NH) op zo 22 nov 2015. De volgende afstanden staan op het programma: 5 km – 7\,5 km – 10 km – 12\,5 km – 15 km – 17\,5 km – 20 km – 22\,5 km – 25 km – 30 km hardlopen. Wilt u inschrijven voor dit loopevenement?  Raadpleeg hiervoor dan de website van de organisatie\nDe uitslagen van deze hardloopwedstrijd zijn te raadplegen via dezelfde website of via de bekende websites zoals uitslagen.nl\, runtimer en mylaps. Doet u mee met dit evenement\, zorg dan dat u goed voorbereid aan de start staat! Met een goed trainingsschema komt u een heel eind. Train bijvoorbeeld met start to run van Evy Gruyaert. Download de start to run mp3 bestanden en zet ze op uw telefoon. Oortjes in\, hit the play button en en rennen maar! \n\n\n\n\nMeer informatie over Variabele trimloop AV-Hollandia op Hardloopkalender.nl  \nVariabele trimloop    Op rondom Atletiekbaan  Blauwe Berg 2 – 1625NT Hoorn    Start:   10.00 uur  Einde: 12.00 uur  Inschrijven: vanaf 09.00 uur  Kosten:   2\,00  1 ronde = 1.250 mtr    Kleedruimte en douche gelegenheid    Info:0229-241249  www.avhollandia.nl \n  \n  \n 
URL:https://hardloopevenementen.com/loopagenda/variabele-trimloop-av-hollandia-hoorn-nh/
END:VEVENT
BEGIN:VEVENT
DTSTART;VALUE=DATE:20151022
DTEND;VALUE=DATE:20151023
DTSTAMP:20260420T204241
CREATED:20130829T125538Z
LAST-MODIFIED:20190423T110809Z
UID:9544-1445472000-1445472000@hardloopevenementen.com
SUMMARY:Variabele trimloop Hoorn (NH)
DESCRIPTION:Doe mee met het hardloopevenement Variabele trimloop te Hoorn (NH) op do 22 okt 2015. De volgende afstanden staan op het programma: 5 km – 7\,5 km – 10 km – 12\,5 km – 15 km – 17\,5 km – 20 km – 22\,5 km – 25 km – 30 km hardlopen. Wilt u inschrijven voor dit loopevenement?  Raadpleeg hiervoor dan de website van de organisatie\nDe uitslagen van deze hardloopwedstrijd zijn te raadplegen via dezelfde website of via de bekende websites zoals uitslagen.nl\, runtimer en mylaps. Doet u mee met dit evenement\, zorg dan dat u goed voorbereid aan de start staat! Met een goed trainingsschema komt u een heel eind. Train bijvoorbeeld met start to run van Evy Gruyaert. Download de start to run mp3 bestanden en zet ze op uw telefoon. Oortjes in\, hit the play button en en rennen maar! \n\n\n\n\nMeer informatie over Variabele trimloop op Hardloopkalender.nl  \nVariabele trimloop    Op en rondom Atletiekbaan  Blauwe Berg 2 – 1625NT –  Hoorn    Start: 10.00 uur  Einde: 12.00 uur  Inschrijven: vanaf 09.00 uur  Kosten:  2\,00  1 ronde = 1.250 mtr    Kleedruimte en douche gelegenheid    Info: 0229-241249   www.avhollandia.nl \n  \n  \n 
URL:https://hardloopevenementen.com/loopagenda/variabele-trimloop-hoorn-nh-2/
END:VEVENT
END:VCALENDAR