BEGIN:VCALENDAR
VERSION:2.0
PRODID:-//Hardloopevenementen - ECPv6.15.14//NONSGML v1.0//EN
CALSCALE:GREGORIAN
METHOD:PUBLISH
X-WR-CALNAME:Hardloopevenementen
X-ORIGINAL-URL:https://hardloopevenementen.com
X-WR-CALDESC:Evenementen voor Hardloopevenementen
REFRESH-INTERVAL;VALUE=DURATION:PT1H
X-Robots-Tag:noindex
X-PUBLISHED-TTL:PT1H
BEGIN:VTIMEZONE
TZID:UTC
BEGIN:STANDARD
TZOFFSETFROM:+0000
TZOFFSETTO:+0000
TZNAME:UTC
DTSTART:20100101T000000
END:STANDARD
END:VTIMEZONE
BEGIN:VEVENT
DTSTART;VALUE=DATE:20160320
DTEND;VALUE=DATE:20160321
DTSTAMP:20260422T145445
CREATED:20110127T205610Z
LAST-MODIFIED:20190423T112640Z
UID:13126-1458432000-1458432000@hardloopevenementen.com
SUMMARY:22ste RABO Haaksbergse Engelse Mijlenloop Haaksbergen (OV)
DESCRIPTION:Doe mee met het hardloopevenement 22ste RABO Haaksbergse Engelse Mijlenloop te Haaksbergen (OV) op zo 20 mrt 2016. De volgende afstanden staan op het programma: 1\,6 km – 8 km – 10 Engelse mijl hardlopen. Wilt u inschrijven voor dit loopevenement?  Raadpleeg hiervoor dan de website van de organisatie\nDe uitslagen van deze hardloopwedstrijd zijn te raadplegen via dezelfde website of via de bekende websites zoals uitslagen.nl\, runtimer en mylaps. Doet u mee met dit evenement\, zorg dan dat u goed voorbereid aan de start staat! Met een goed trainingsschema komt u een heel eind. Train bijvoorbeeld met start to run van Evy Gruyaert. Download de start to run mp3 bestanden en zet ze op uw telefoon. Oortjes in\, hit the play button en en rennen maar! \n\n\n\n\nMeer informatie over 22ste RABO Haaksbergse Engelse Mijlenloop op Hardloopkalender.nl  \nDe volgend afstanden staan op de agenda:   RABO 10 Engelse mijlen   SMK 5 Engelse mijlen   Ninix Kidsrun (1 Engelse mijl)   1 EM (voor schooljeugd in Buurse ) \n  \n  \n 
URL:https://hardloopevenementen.com/loopagenda/22ste-rabo-haaksbergse-engelse-mijlenloop-haaksbergen-ov/
END:VEVENT
BEGIN:VEVENT
DTSTART;VALUE=DATE:20150503
DTEND;VALUE=DATE:20150504
DTSTAMP:20260422T145445
CREATED:20061123T222948Z
LAST-MODIFIED:20190423T111236Z
UID:10546-1430611200-1430611200@hardloopevenementen.com
SUMMARY:22ste Bemmelloop Bemmel\, gemeente Lingewaard (GE)
DESCRIPTION:Doe mee met het hardloopevenement 22ste Bemmelloop te Bemmel\, gemeente Lingewaard (GE) op zo 03 mei 2015. De volgende afstanden staan op het programma: 0\,7 km – 1\,5 km – 5 km – 10 km hardlopen. Wilt u inschrijven voor dit loopevenement?  Raadpleeg hiervoor dan de website van de organisatie\nDe uitslagen van deze hardloopwedstrijd zijn te raadplegen via dezelfde website of via de bekende websites zoals uitslagen.nl\, runtimer en mylaps. Doet u mee met dit evenement\, zorg dan dat u goed voorbereid aan de start staat! Met een goed trainingsschema komt u een heel eind. Train bijvoorbeeld met start to run van Evy Gruyaert. Download de start to run mp3 bestanden en zet ze op uw telefoon. Oortjes in\, hit the play button en en rennen maar! \n\n\n\n\nMeer informatie over 22ste Bemmelloop op Hardloopkalender.nl  \n0\,7 en 1\,5 km (Jeugdlopen) op atletiekbaan\, 5 en 10 km door buitengebied over een door de atletiekunie gecertificeerd parcours. Elke km is aangegeven.  Start vanaf 10.00 uur. \n  \n  \n 
URL:https://hardloopevenementen.com/loopagenda/22ste-bemmelloop-bemmel-gemeente-lingewaard-ge/
END:VEVENT
BEGIN:VEVENT
DTSTART;VALUE=DATE:20110507
DTEND;VALUE=DATE:20110508
DTSTAMP:20260422T145445
CREATED:20151002T145111Z
LAST-MODIFIED:20190423T102150Z
UID:7037-1304726400-1304726400@hardloopevenementen.com
SUMMARY:22ste Bedumer bosloop Bedum (GR)
DESCRIPTION:Doe mee met het hardloopevenement 22ste Bedumer bosloop te Bedum (GR) op za 07 mei 2011. De volgende afstanden staan op het programma: 5 km – 10 km hardlopen. Wilt u inschrijven voor dit loopevenement?  Raadpleeg hiervoor dan de website van de organisatie\nDe uitslagen van deze hardloopwedstrijd zijn te raadplegen via dezelfde website of via de bekende websites zoals uitslagen.nl\, runtimer en mylaps. Doet u mee met dit evenement\, zorg dan dat u goed voorbereid aan de start staat! Met een goed trainingsschema komt u een heel eind. Train bijvoorbeeld met start to run van Evy Gruyaert. Download de start to run mp3 bestanden en zet ze op uw telefoon. Oortjes in\, hit the play button en en rennen maar! \n\n\n\n\nMeer informatie over 22ste Bedumer bosloop op Hardloopkalender.nl  \nHet loopevenement 22ste Bedumer bosloop te Bedum vindt plaats op zaterdag 07 mei 2011. De loop wordt georganiseerd door Loopgroep Bedum. Inschrijven is mogelijk vanaf 07 mei 2010. Klik hier voor het adres van de start (Google Maps).Er is verkleedaccomodatie met douchemogelijkheid aanwezig. Er is EHBO aanwezig. Afstand(km)Inschrijfgeld(€)Starttijd10€0\,00                 Voor meer informatie:hans van Eesh.van.ees@rug.nl0505491787 \n  \n  \n 
URL:https://hardloopevenementen.com/loopagenda/22ste-bedumer-bosloop-bedum-gr/
END:VEVENT
END:VCALENDAR