BEGIN:VCALENDAR
VERSION:2.0
PRODID:-//Hardloopevenementen - ECPv6.15.14//NONSGML v1.0//EN
CALSCALE:GREGORIAN
METHOD:PUBLISH
X-ORIGINAL-URL:https://hardloopevenementen.com
X-WR-CALDESC:Evenementen voor Hardloopevenementen
REFRESH-INTERVAL;VALUE=DURATION:PT1H
X-Robots-Tag:noindex
X-PUBLISHED-TTL:PT1H
BEGIN:VTIMEZONE
TZID:UTC
BEGIN:STANDARD
TZOFFSETFROM:+0000
TZOFFSETTO:+0000
TZNAME:UTC
DTSTART:20080101T000000
END:STANDARD
END:VTIMEZONE
BEGIN:VEVENT
DTSTART;VALUE=DATE:20140504
DTEND;VALUE=DATE:20140505
DTSTAMP:20260425T172939
CREATED:20160915T231556Z
LAST-MODIFIED:20190423T105547Z
UID:34194-1399161600-1399161600@hardloopevenementen.com
SUMMARY:Marathon trainingsloop Maassluis (ZH)
DESCRIPTION:Doe mee met het hardloopevenement Marathon trainingsloop te Maassluis (ZH) op zo 04 mei 2014. De volgende afstanden staan op het programma: 9 km – 10 Engelse mijl – 23 km – 30 km hardlopen. Wilt u inschrijven voor dit loopevenement?  Raadpleeg hiervoor dan de website van de organisatie\nDe uitslagen van deze hardloopwedstrijd zijn te raadplegen via dezelfde website of via de bekende websites zoals uitslagen.nl\, runtimer en mylaps. Doet u mee met dit evenement\, zorg dan dat u goed voorbereid aan de start staat! Met een goed trainingsschema komt u een heel eind. Train bijvoorbeeld met start to run van Evy Gruyaert. Download de start to run mp3 bestanden en zet ze op uw telefoon. Oortjes in\, hit the play button en en rennen maar! \n\n\n\n\nMeer informatie over Marathon trainingsloop op Hardloopkalender.nl  \nHet loopevenement Marathon trainingsloop te Maassluis vindt plaats op zondag 04 mei 2014. De loop wordt georganisseerd door AV Waterweg. Klik hier voor het adres van de start (Google Maps). \n  \n  \n 
URL:https://hardloopevenementen.com/loopagenda/marathon-trainingsloop-maassluis-zh-22/
END:VEVENT
BEGIN:VEVENT
DTSTART;VALUE=DATE:20140323
DTEND;VALUE=DATE:20140324
DTSTAMP:20260425T172939
CREATED:20070921T121343Z
LAST-MODIFIED:20190423T105659Z
UID:34464-1395532800-1395532800@hardloopevenementen.com
SUMMARY:Marathon trainingsloop Maassluis (ZH)
DESCRIPTION:Doe mee met het hardloopevenement Marathon trainingsloop te Maassluis (ZH) op zo 23 mrt 2014. De volgende afstanden staan op het programma: 9 km – 10 Engelse mijl – 23 km – 30 km hardlopen. Wilt u inschrijven voor dit loopevenement?  Raadpleeg hiervoor dan de website van de organisatie\nDe uitslagen van deze hardloopwedstrijd zijn te raadplegen via dezelfde website of via de bekende websites zoals uitslagen.nl\, runtimer en mylaps. Doet u mee met dit evenement\, zorg dan dat u goed voorbereid aan de start staat! Met een goed trainingsschema komt u een heel eind. Train bijvoorbeeld met start to run van Evy Gruyaert. Download de start to run mp3 bestanden en zet ze op uw telefoon. Oortjes in\, hit the play button en en rennen maar! \n\n\n\n\nMeer informatie over Marathon trainingsloop op Hardloopkalender.nl  \nHet loopevenement Marathon trainingsloop te Maassluis vindt plaats op zondag 23 maart 2014. De loop wordt georganisseerd door AV Waterweg. Klik hier voor het adres van de start (Google Maps). \n  \n  \n 
URL:https://hardloopevenementen.com/loopagenda/marathon-trainingsloop-maassluis-zh-23/
END:VEVENT
BEGIN:VEVENT
DTSTART;VALUE=DATE:20140302
DTEND;VALUE=DATE:20140303
DTSTAMP:20260425T172939
CREATED:20151008T030206Z
LAST-MODIFIED:20190423T105735Z
UID:34601-1393718400-1393718400@hardloopevenementen.com
SUMMARY:Marathon trainingsloop Maassluis (ZH)
DESCRIPTION:Doe mee met het hardloopevenement Marathon trainingsloop te Maassluis (ZH) op zo 02 mrt 2014. De volgende afstanden staan op het programma: 9 km – 10 Engelse mijl – 23 km – 30 km hardlopen. Wilt u inschrijven voor dit loopevenement?  Raadpleeg hiervoor dan de website van de organisatie\nDe uitslagen van deze hardloopwedstrijd zijn te raadplegen via dezelfde website of via de bekende websites zoals uitslagen.nl\, runtimer en mylaps. Doet u mee met dit evenement\, zorg dan dat u goed voorbereid aan de start staat! Met een goed trainingsschema komt u een heel eind. Train bijvoorbeeld met start to run van Evy Gruyaert. Download de start to run mp3 bestanden en zet ze op uw telefoon. Oortjes in\, hit the play button en en rennen maar! \n\n\n\n\nMeer informatie over Marathon trainingsloop op Hardloopkalender.nl  \nHet loopevenement Marathon trainingsloop te Maassluis vindt plaats op zondag 02 maart 2014. De loop wordt georganisseerd door AV Waterweg. Klik hier voor het adres van de start (Google Maps). \n  \n  \n 
URL:https://hardloopevenementen.com/loopagenda/marathon-trainingsloop-maassluis-zh-24/
END:VEVENT
BEGIN:VEVENT
DTSTART;VALUE=DATE:20130324
DTEND;VALUE=DATE:20130325
DTSTAMP:20260425T172939
CREATED:20110419T083320Z
LAST-MODIFIED:20190423T104407Z
UID:32036-1364083200-1364083200@hardloopevenementen.com
SUMMARY:Marathon trainingsloop Maassluis (ZH)
DESCRIPTION:Doe mee met het hardloopevenement Marathon trainingsloop te Maassluis (ZH) op zo 24 mrt 2013. De volgende afstanden staan op het programma: 4 km – 9 km – 10 Engelse mijl – 23 km – 30 km hardlopen. Wilt u inschrijven voor dit loopevenement?  Raadpleeg hiervoor dan de website van de organisatie\nDe uitslagen van deze hardloopwedstrijd zijn te raadplegen via dezelfde website of via de bekende websites zoals uitslagen.nl\, runtimer en mylaps. Doet u mee met dit evenement\, zorg dan dat u goed voorbereid aan de start staat! Met een goed trainingsschema komt u een heel eind. Train bijvoorbeeld met start to run van Evy Gruyaert. Download de start to run mp3 bestanden en zet ze op uw telefoon. Oortjes in\, hit the play button en en rennen maar! \n\n\n\n\nMeer informatie over Marathon trainingsloop op Hardloopkalender.nl  \nHet loopevenement Marathon trainingsloop te Maassluis vindt plaats op zondag 24 maart 2013. De loop wordt georganisseerd door AV Waterweg. Inschrijven is mogelijk vanaf 24 maart 2013. Klik hier voor het adres van de start (Google Maps).Er is verkleedaccomodatie met douchemogelijkheid aanwezig. Er is EHBO aanwezig. Voor meer informatie:Ruud WesselsWOC@avwaterweg.nl0653542328http:  www.avwaterweg.nl \n  \n  \n 
URL:https://hardloopevenementen.com/loopagenda/marathon-trainingsloop-maassluis-zh-19/
END:VEVENT
BEGIN:VEVENT
DTSTART;VALUE=DATE:20130303
DTEND;VALUE=DATE:20130304
DTSTAMP:20260425T172939
CREATED:20110408T182335Z
LAST-MODIFIED:20190423T104440Z
UID:32172-1362268800-1362268800@hardloopevenementen.com
SUMMARY:Marathon trainingsloop Maassluis (ZH)
DESCRIPTION:Doe mee met het hardloopevenement Marathon trainingsloop te Maassluis (ZH) op zo 03 mrt 2013. De volgende afstanden staan op het programma: 9 km – 10 Engelse mijl – 23 km – 30 km hardlopen. Wilt u inschrijven voor dit loopevenement?  Raadpleeg hiervoor dan de website van de organisatie\nDe uitslagen van deze hardloopwedstrijd zijn te raadplegen via dezelfde website of via de bekende websites zoals uitslagen.nl\, runtimer en mylaps. Doet u mee met dit evenement\, zorg dan dat u goed voorbereid aan de start staat! Met een goed trainingsschema komt u een heel eind. Train bijvoorbeeld met start to run van Evy Gruyaert. Download de start to run mp3 bestanden en zet ze op uw telefoon. Oortjes in\, hit the play button en en rennen maar! \n\n\n\n\nMeer informatie over Marathon trainingsloop op Hardloopkalender.nl  \nHet loopevenement Marathon trainingsloop te Maassluis vindt plaats op zondag 03 maart 2013. De loop wordt georganisseerd door AV Waterweg. Inschrijven is mogelijk vanaf 03 maart 2013. Klik hier voor het adres van de start (Google Maps).Er is verkleedaccomodatie met douchemogelijkheid aanwezig. Er is EHBO aanwezig. Voor meer informatie:Ruud WesselsWOC@avwaterweg.nl0653542328http:  www.avwaterweg.nl \n  \n  \n 
URL:https://hardloopevenementen.com/loopagenda/marathon-trainingsloop-maassluis-zh-20/
END:VEVENT
BEGIN:VEVENT
DTSTART;VALUE=DATE:20130210
DTEND;VALUE=DATE:20130211
DTSTAMP:20260425T172939
CREATED:20121218T190407Z
LAST-MODIFIED:20190423T104508Z
UID:32275-1360454400-1360454400@hardloopevenementen.com
SUMMARY:Marathon trainingsloop Maassluis (ZH)
DESCRIPTION:Doe mee met het hardloopevenement Marathon trainingsloop te Maassluis (ZH) op zo 10 feb 2013. De volgende afstanden staan op het programma: 9 km – 10 Engelse mijl – 23 km – 30 km hardlopen. Wilt u inschrijven voor dit loopevenement?  Raadpleeg hiervoor dan de website van de organisatie\nDe uitslagen van deze hardloopwedstrijd zijn te raadplegen via dezelfde website of via de bekende websites zoals uitslagen.nl\, runtimer en mylaps. Doet u mee met dit evenement\, zorg dan dat u goed voorbereid aan de start staat! Met een goed trainingsschema komt u een heel eind. Train bijvoorbeeld met start to run van Evy Gruyaert. Download de start to run mp3 bestanden en zet ze op uw telefoon. Oortjes in\, hit the play button en en rennen maar! \n\n\n\n\nMeer informatie over Marathon trainingsloop op Hardloopkalender.nl  \nHet loopevenement Marathon trainingsloop te Maassluis vindt plaats op zondag 10 februari 2013. De loop wordt georganisseerd door AV Waterweg. Inschrijven is mogelijk vanaf 10 februari 2013. Klik hier voor het adres van de start (Google Maps).Er is verkleedaccomodatie met douchemogelijkheid aanwezig. Er is EHBO aanwezig. Voor meer informatie:Ruud WesselsWOC@avwaterweg.nl0653542328http:  www.avwaterweg.nl \n  \n  \n 
URL:https://hardloopevenementen.com/loopagenda/marathon-trainingsloop-maassluis-zh-21/
END:VEVENT
BEGIN:VEVENT
DTSTART;VALUE=DATE:20120325
DTEND;VALUE=DATE:20120326
DTSTAMP:20260425T172939
CREATED:20130310T140237Z
LAST-MODIFIED:20190423T103334Z
UID:28644-1332633600-1332633600@hardloopevenementen.com
SUMMARY:Marathon trainingsloop Maassluis (ZH)
DESCRIPTION:Doe mee met het hardloopevenement Marathon trainingsloop te Maassluis (ZH) op zo 25 mrt 2012. De volgende afstanden staan op het programma: 9 km – 10 Engelse mijl – 23 km – 30 km hardlopen. Wilt u inschrijven voor dit loopevenement?  Raadpleeg hiervoor dan de website van de organisatie\nDe uitslagen van deze hardloopwedstrijd zijn te raadplegen via dezelfde website of via de bekende websites zoals uitslagen.nl\, runtimer en mylaps. Doet u mee met dit evenement\, zorg dan dat u goed voorbereid aan de start staat! Met een goed trainingsschema komt u een heel eind. Train bijvoorbeeld met start to run van Evy Gruyaert. Download de start to run mp3 bestanden en zet ze op uw telefoon. Oortjes in\, hit the play button en en rennen maar! \n\n\n\n\nMeer informatie over Marathon trainingsloop op Hardloopkalender.nl  \nHet loopevenement Marathon trainingsloop te Maassluis vindt plaats op zondag 25 maart 2012. De loop wordt georganiseerd door AV Waterweg. Inschrijven is mogelijk vanaf 25 maart 2012. Klik hier voor het adres van de start (Google Maps).Er is EHBO aanwezig. Afstand SoortloopInschrijfgeldStarttijdInfo9 km4\,0011.0016 km4\,0011.0023 km4\,0011.0030 km4\,0011.00Voor meer informatie:Ruud WesselsWOC@avwaterweg.nl0653542328http:  www.avwaterweg.nl \n  \n  \n 
URL:https://hardloopevenementen.com/loopagenda/marathon-trainingsloop-maassluis-zh-16/
END:VEVENT
BEGIN:VEVENT
DTSTART;VALUE=DATE:20120226
DTEND;VALUE=DATE:20120227
DTSTAMP:20260425T172939
CREATED:20140912T002700Z
LAST-MODIFIED:20190423T103414Z
UID:28812-1330214400-1330214400@hardloopevenementen.com
SUMMARY:Marathon trainingsloop Maassluis (ZH)
DESCRIPTION:Doe mee met het hardloopevenement Marathon trainingsloop te Maassluis (ZH) op zo 26 feb 2012. De volgende afstanden staan op het programma: 9 km – 10 Engelse mijl – 23 km – 30 km hardlopen. Wilt u inschrijven voor dit loopevenement?  Raadpleeg hiervoor dan de website van de organisatie\nDe uitslagen van deze hardloopwedstrijd zijn te raadplegen via dezelfde website of via de bekende websites zoals uitslagen.nl\, runtimer en mylaps. Doet u mee met dit evenement\, zorg dan dat u goed voorbereid aan de start staat! Met een goed trainingsschema komt u een heel eind. Train bijvoorbeeld met start to run van Evy Gruyaert. Download de start to run mp3 bestanden en zet ze op uw telefoon. Oortjes in\, hit the play button en en rennen maar! \n\n\n\n\nMeer informatie over Marathon trainingsloop op Hardloopkalender.nl  \nHet loopevenement Marathon trainingsloop te Maassluis vindt plaats op zondag 26 februari 2012. De loop wordt georganiseerd door AV Waterweg. Inschrijven is mogelijk vanaf 26 februari 2011. Klik hier voor het adres van de start (Google Maps).Er is EHBO aanwezig. Afstand SoortloopInschrijfgeldStarttijdInfo9 km4\,0011.0016 km4\,0011.0023 km4\,0011.0030 km4\,0011.00Voor meer informatie:Ruud WesselsWOC@avwaterweg.nl0653542328http:  www.avwaterweg.nl \n  \n  \n 
URL:https://hardloopevenementen.com/loopagenda/marathon-trainingsloop-maassluis-zh-17/
END:VEVENT
BEGIN:VEVENT
DTSTART;VALUE=DATE:20120212
DTEND;VALUE=DATE:20120213
DTSTAMP:20260425T172939
CREATED:20180120T124532Z
LAST-MODIFIED:20190423T103434Z
UID:28886-1329004800-1329004800@hardloopevenementen.com
SUMMARY:Marathon trainingsloop Maassluis (ZH)
DESCRIPTION:Doe mee met het hardloopevenement Marathon trainingsloop te Maassluis (ZH) op zo 12 feb 2012. De volgende afstanden staan op het programma: 9 km – 10 Engelse mijl – 23 km – 30 km hardlopen. Wilt u inschrijven voor dit loopevenement?  Raadpleeg hiervoor dan de website van de organisatie\nDe uitslagen van deze hardloopwedstrijd zijn te raadplegen via dezelfde website of via de bekende websites zoals uitslagen.nl\, runtimer en mylaps. Doet u mee met dit evenement\, zorg dan dat u goed voorbereid aan de start staat! Met een goed trainingsschema komt u een heel eind. Train bijvoorbeeld met start to run van Evy Gruyaert. Download de start to run mp3 bestanden en zet ze op uw telefoon. Oortjes in\, hit the play button en en rennen maar! \n\n\n\n\nMeer informatie over Marathon trainingsloop op Hardloopkalender.nl  \nHet loopevenement Marathon trainingsloop te Maassluis vindt plaats op zondag 12 februari 2012. De loop wordt georganiseerd door AV Waterweg. Inschrijven is mogelijk vanaf 12 februari 2011. Klik hier voor het adres van de start (Google Maps).Er is EHBO aanwezig. Afstand SoortloopInschrijfgeldStarttijdInfo9 km4\,0011.0016 km4\,0011.0023 km4\,0011.0030 km4\,0011.00Voor meer informatie:Ruud WesselsWOC@avwaterweg.nl0653542328http:  www.avwaterweg.nl \n  \n  \n 
URL:https://hardloopevenementen.com/loopagenda/marathon-trainingsloop-maassluis-zh-18/
END:VEVENT
BEGIN:VEVENT
DTSTART;VALUE=DATE:20090322
DTEND;VALUE=DATE:20090323
DTSTAMP:20260425T172939
CREATED:20090208T201320Z
LAST-MODIFIED:20190423T100235Z
UID:2604-1237680000-1237680000@hardloopevenementen.com
SUMMARY:Marathon Trainingslopen Maassluis (ZH)
DESCRIPTION:Doe mee met het hardloopevenement Marathon Trainingslopen te Maassluis (ZH) op zo 22 mrt 2009. De volgende afstanden staan op het programma: 9 km – 10 Engelse mijl – 23 km – 30 km hardlopen. Wilt u inschrijven voor dit loopevenement?  Raadpleeg hiervoor dan de website van de organisatie\nDe uitslagen van deze hardloopwedstrijd zijn te raadplegen via dezelfde website of via de bekende websites zoals uitslagen.nl\, runtimer en mylaps. Doet u mee met dit evenement\, zorg dan dat u goed voorbereid aan de start staat! Met een goed trainingsschema komt u een heel eind. Train bijvoorbeeld met start to run van Evy Gruyaert. Download de start to run mp3 bestanden en zet ze op uw telefoon. Oortjes in\, hit the play button en en rennen maar! \n\n\n\n\nMeer informatie over Marathon Trainingslopen op Hardloopkalender.nl  \nEr wordt gelopen met hazen in de volgende tempo´s: 4\,00; 4\,14; 4\,30; 4\,45; 5\,00; 5\,15; 5\,30; 5\,45 en 6\,00 minuten per km.  Goede gelegenheid om eigen drank mee te nemen.  Ook is er goede verzorging door AVW.  Ruime douche en kleedgelegenheid voorhanden. \n  \n  \n 
URL:https://hardloopevenementen.com/loopagenda/marathon-trainingslopen-maassluis-zh/
END:VEVENT
BEGIN:VEVENT
DTSTART;VALUE=DATE:20090301
DTEND;VALUE=DATE:20090302
DTSTAMP:20260425T172939
CREATED:20180109T225255Z
LAST-MODIFIED:20190423T100305Z
UID:2725-1235865600-1235865600@hardloopevenementen.com
SUMMARY:Marathon Trainingslopen Maassluis (ZH)
DESCRIPTION:Doe mee met het hardloopevenement Marathon Trainingslopen te Maassluis (ZH) op zo 01 mrt 2009. De volgende afstanden staan op het programma: 9 km – 10 Engelse mijl – 23 km – 30 km hardlopen. Wilt u inschrijven voor dit loopevenement?  Raadpleeg hiervoor dan de website van de organisatie\nDe uitslagen van deze hardloopwedstrijd zijn te raadplegen via dezelfde website of via de bekende websites zoals uitslagen.nl\, runtimer en mylaps. Doet u mee met dit evenement\, zorg dan dat u goed voorbereid aan de start staat! Met een goed trainingsschema komt u een heel eind. Train bijvoorbeeld met start to run van Evy Gruyaert. Download de start to run mp3 bestanden en zet ze op uw telefoon. Oortjes in\, hit the play button en en rennen maar! \n\n\n\n\nMeer informatie over Marathon Trainingslopen op Hardloopkalender.nl  \nEr wordt gelopen met hazen in de volgende tempo´s: 4\,00; 4\,14; 4\,30; 4\,45; 5\,00; 5\,15; 5\,30; 5\,45 en 6\,00 minuten per km.  Goede gelegenheid om eigen drank mee te nemen.  Ook is er goede verzorging door AVW.  Ruime douche en kleedgelegenheid voorhanden. \n  \n  \n 
URL:https://hardloopevenementen.com/loopagenda/marathon-trainingslopen-maassluis-zh-2/
END:VEVENT
BEGIN:VEVENT
DTSTART;VALUE=DATE:20090208
DTEND;VALUE=DATE:20090209
DTSTAMP:20260425T172939
CREATED:20170605T034233Z
LAST-MODIFIED:20190423T100329Z
UID:2812-1234051200-1234051200@hardloopevenementen.com
SUMMARY:Marathon Trainingslopen Maassluis (ZH)
DESCRIPTION:Doe mee met het hardloopevenement Marathon Trainingslopen te Maassluis (ZH) op zo 08 feb 2009. De volgende afstanden staan op het programma: 9 km – 10 Engelse mijl – 23 km – 30 km hardlopen. Wilt u inschrijven voor dit loopevenement?  Raadpleeg hiervoor dan de website van de organisatie\nDe uitslagen van deze hardloopwedstrijd zijn te raadplegen via dezelfde website of via de bekende websites zoals uitslagen.nl\, runtimer en mylaps. Doet u mee met dit evenement\, zorg dan dat u goed voorbereid aan de start staat! Met een goed trainingsschema komt u een heel eind. Train bijvoorbeeld met start to run van Evy Gruyaert. Download de start to run mp3 bestanden en zet ze op uw telefoon. Oortjes in\, hit the play button en en rennen maar! \n\n\n\n\nMeer informatie over Marathon Trainingslopen op Hardloopkalender.nl  \nEr wordt gelopen met hazen in de volgende tempo´s: 4\,00; 4\,14; 4\,30; 4\,45; 5\,00; 5\,15; 5\,30; 5\,45 en 6\,00 minuten per km.  Goede gelegenheid om eigen drank mee te nemen.  Ook is er goede verzorging door AVW.  Ruime douche en kleedgelegenheid voorhanden. \n  \n  \n 
URL:https://hardloopevenementen.com/loopagenda/marathon-trainingslopen-maassluis-zh-3/
END:VEVENT
END:VCALENDAR