BEGIN:VCALENDAR
VERSION:2.0
PRODID:-//Hardloopevenementen - ECPv6.15.14//NONSGML v1.0//EN
CALSCALE:GREGORIAN
METHOD:PUBLISH
X-ORIGINAL-URL:https://hardloopevenementen.com
X-WR-CALDESC:Evenementen voor Hardloopevenementen
REFRESH-INTERVAL;VALUE=DURATION:PT1H
X-Robots-Tag:noindex
X-PUBLISHED-TTL:PT1H
BEGIN:VTIMEZONE
TZID:UTC
BEGIN:STANDARD
TZOFFSETFROM:+0000
TZOFFSETTO:+0000
TZNAME:UTC
DTSTART:20130101T000000
END:STANDARD
END:VTIMEZONE
BEGIN:VEVENT
DTSTART;VALUE=DATE:20141214
DTEND;VALUE=DATE:20141215
DTSTAMP:20260421T044033
CREATED:20070622T020404Z
LAST-MODIFIED:20190423T104848Z
UID:8555-1418515200-1418515200@hardloopevenementen.com
SUMMARY:Twentse Ven n Loop Buurse\, gemeente Haaksbergen (OV)
DESCRIPTION:Doe mee met het hardloopevenement Twentse Ven n Loop te Buurse\, gemeente Haaksbergen (OV) op zo 14 dec 2014. De volgende afstanden staan op het programma: 22 km – 23\,7 km – 45\,7 km hardlopen. Wilt u inschrijven voor dit loopevenement?  Raadpleeg hiervoor dan de website van de organisatie\nDe uitslagen van deze hardloopwedstrijd zijn te raadplegen via dezelfde website of via de bekende websites zoals uitslagen.nl\, runtimer en mylaps. Doet u mee met dit evenement\, zorg dan dat u goed voorbereid aan de start staat! Met een goed trainingsschema komt u een heel eind. Train bijvoorbeeld met start to run van Evy Gruyaert. Download de start to run mp3 bestanden en zet ze op uw telefoon. Oortjes in\, hit the play button en en rennen maar! \n\n\n\n\nMeer informatie over Twentse Ven n Loop op Hardloopkalender.nl  \n  \n  \n 
URL:https://hardloopevenementen.com/loopagenda/twentse-ven-n-loop-buurse-gemeente-haaksbergen-ov/
END:VEVENT
BEGIN:VEVENT
DTSTART;VALUE=DATE:20141004
DTEND;VALUE=DATE:20141005
DTSTAMP:20260421T044033
CREATED:20110331T130005Z
LAST-MODIFIED:20190423T105057Z
UID:9022-1412380800-1412380800@hardloopevenementen.com
SUMMARY:Hondsrug Estafette Schipborg\, gemeente Aa en Hunze (DR)
DESCRIPTION:Doe mee met het hardloopevenement Hondsrug Estafette te Schipborg\, gemeente Aa en Hunze (DR) op za 04 okt 2014. De volgende afstanden staan op het programma: 237 km hardlopen. Wilt u inschrijven voor dit loopevenement?  Raadpleeg hiervoor dan de website van de organisatie\nDe uitslagen van deze hardloopwedstrijd zijn te raadplegen via dezelfde website of via de bekende websites zoals uitslagen.nl\, runtimer en mylaps. Doet u mee met dit evenement\, zorg dan dat u goed voorbereid aan de start staat! Met een goed trainingsschema komt u een heel eind. Train bijvoorbeeld met start to run van Evy Gruyaert. Download de start to run mp3 bestanden en zet ze op uw telefoon. Oortjes in\, hit the play button en en rennen maar! \n\n\n\n\nMeer informatie over Hondsrug Estafette op Hardloopkalender.nl  \nFinishplaats | Bad Laer (Duitsland)    Op vrijdag 3 oktober starten we in het Drentse Schipborg (Nederland) voor de eerste editie van de Hondsrug Estafette over een afstand van 237 kilometer.    De Hondsrug Estafette  is een unieke internationale estafetteloop en zal gaan door de landen Nederland & Duitsland.     Teams van estafettelopers lossen elkaar zonder ophouden dag en nacht af.     Zij volgen een parcours op kleine maar goed beloopbare wegen langs sporen uit het verleden\, van hunebedden en middeleeuwse karrensporen tot knusse esdorpen. \n  \n  \n 
URL:https://hardloopevenementen.com/loopagenda/hondsrug-estafette-schipborg-gemeente-aa-en-hunze-dr/
END:VEVENT
BEGIN:VEVENT
DTSTART;VALUE=DATE:20141003
DTEND;VALUE=DATE:20141004
DTSTAMP:20260421T044033
CREATED:20170829T034659Z
LAST-MODIFIED:20190423T105100Z
UID:9030-1412294400-1412294400@hardloopevenementen.com
SUMMARY:Hondsrug Estafette Schipborg\, gemeente Aa en Hunze (DR)
DESCRIPTION:Doe mee met het hardloopevenement Hondsrug Estafette te Schipborg\, gemeente Aa en Hunze (DR) op vr 03 okt 2014. De volgende afstanden staan op het programma: 237 km hardlopen. Wilt u inschrijven voor dit loopevenement?  Raadpleeg hiervoor dan de website van de organisatie\nDe uitslagen van deze hardloopwedstrijd zijn te raadplegen via dezelfde website of via de bekende websites zoals uitslagen.nl\, runtimer en mylaps. Doet u mee met dit evenement\, zorg dan dat u goed voorbereid aan de start staat! Met een goed trainingsschema komt u een heel eind. Train bijvoorbeeld met start to run van Evy Gruyaert. Download de start to run mp3 bestanden en zet ze op uw telefoon. Oortjes in\, hit the play button en en rennen maar! \n\n\n\n\nMeer informatie over Hondsrug Estafette op Hardloopkalender.nl  \nFinishplaats | Bad Laer (Duitsland)    Op vrijdag 3 oktober starten we in het Drentse Schipborg (Nederland) voor de eerste editie van de Hondsrug Estafette over een afstand van 237 kilometer.    De Hondsrug Estafette  is een unieke internationale estafetteloop en zal gaan door de landen Nederland & Duitsland.     Teams van estafettelopers lossen elkaar zonder ophouden dag en nacht af.     Zij volgen een parcours op kleine maar goed beloopbare wegen langs sporen uit het verleden\, van hunebedden en middeleeuwse karrensporen tot knusse esdorpen. \n  \n  \n 
URL:https://hardloopevenementen.com/loopagenda/hondsrug-estafette-schipborg-gemeente-aa-en-hunze-dr-2/
END:VEVENT
END:VCALENDAR