BEGIN:VCALENDAR
VERSION:2.0
PRODID:-//Hardloopevenementen - ECPv6.15.14//NONSGML v1.0//EN
CALSCALE:GREGORIAN
METHOD:PUBLISH
X-ORIGINAL-URL:https://hardloopevenementen.com
X-WR-CALDESC:Evenementen voor Hardloopevenementen
REFRESH-INTERVAL;VALUE=DURATION:PT1H
X-Robots-Tag:noindex
X-PUBLISHED-TTL:PT1H
BEGIN:VTIMEZONE
TZID:UTC
BEGIN:STANDARD
TZOFFSETFROM:+0000
TZOFFSETTO:+0000
TZNAME:UTC
DTSTART:20090101T000000
END:STANDARD
END:VTIMEZONE
BEGIN:VEVENT
DTSTART;VALUE=DATE:20110528
DTEND;VALUE=DATE:20110529
DTSTAMP:20260426T001423
CREATED:20120523T202130Z
LAST-MODIFIED:20190423T102119Z
UID:6920-1306540800-1306540800@hardloopevenementen.com
SUMMARY:Dwars Door Dongen 2011 Dongen (NB)
DESCRIPTION:Doe mee met het hardloopevenement Dwars Door Dongen 2011 te Dongen (NB) op za 28 mei 2011. De volgende afstanden staan op het programma: 2\,5 km – 5 km – 10 km hardlopen. Wilt u inschrijven voor dit loopevenement?  Raadpleeg hiervoor dan de website van de organisatie\nDe uitslagen van deze hardloopwedstrijd zijn te raadplegen via dezelfde website of via de bekende websites zoals uitslagen.nl\, runtimer en mylaps. Doet u mee met dit evenement\, zorg dan dat u goed voorbereid aan de start staat! Met een goed trainingsschema komt u een heel eind. Train bijvoorbeeld met start to run van Evy Gruyaert. Download de start to run mp3 bestanden en zet ze op uw telefoon. Oortjes in\, hit the play button en en rennen maar! \n\n\n\n\nMeer informatie over Dwars Door Dongen 2011 op Hardloopkalender.nl  \nHet loopevenement Dwars Door Dongen 2011 te Dongen vindt plaats op zaterdag 28 mei 2011. De loop wordt georganiseerd door Atledo. Inschrijven is mogelijk vanaf 13 november 2010. Klik hier voor het adres van de start (Google Maps).Er is verkleedaccomodatie met douchemogelijkheid aanwezig. Er is EHBO aanwezig. Bijzonderheden: Leuk parcours\, veel asfalt ondergrond; en start\, doorkomst & finish atletiekbaan.Afstand(km)Inschrijfgeld(€)Starttijd2.5€1\,5018005€3\,00180010€4\,001900Voor meer informatie:Johan Flipsenwedstrijd-thuis@atledo.nl0623698372http:  dwarsdoordongen.nl \n  \n  \n 
URL:https://hardloopevenementen.com/loopagenda/dwars-door-dongen-2011-dongen-nb/
END:VEVENT
BEGIN:VEVENT
DTSTART;VALUE=DATE:20100529
DTEND;VALUE=DATE:20100530
DTSTAMP:20260426T001423
CREATED:20151008T214341Z
LAST-MODIFIED:20190423T101132Z
UID:23369-1275091200-1275091200@hardloopevenementen.com
SUMMARY:Dwars Door Dongen 2010 Dongen (NB)
DESCRIPTION:Doe mee met het hardloopevenement Dwars Door Dongen 2010 te Dongen (NB) op za 29 mei 2010. De volgende afstanden staan op het programma: 2\,5 km – 5 km – 10 km hardlopen. Wilt u inschrijven voor dit loopevenement?  Raadpleeg hiervoor dan de website van de organisatie\nDe uitslagen van deze hardloopwedstrijd zijn te raadplegen via dezelfde website of via de bekende websites zoals uitslagen.nl\, runtimer en mylaps. Doet u mee met dit evenement\, zorg dan dat u goed voorbereid aan de start staat! Met een goed trainingsschema komt u een heel eind. Train bijvoorbeeld met start to run van Evy Gruyaert. Download de start to run mp3 bestanden en zet ze op uw telefoon. Oortjes in\, hit the play button en en rennen maar! \n\n\n\n\nMeer informatie over Dwars Door Dongen 2010 op Hardloopkalender.nl  \nDit loopevenement wordt georganiseerd door Atledo.De eerste afstand (of onderdeel) start om 16:00.Het adres van de start is sportpark Hertog Jan straat41 Het adres van de finish is sportpark Hertog Jan straat 41Categorie(ën): mannen\, vrouwen\, jeugdVooraf inschrijven is mogelijk vanaf 13 oktober 2009 tot 24 mei 2010.Inschrijven op de dag van de loop is mogelijk (vanaf half uur voor de wedstrijd) op dit adres: Hertog Jan straat 41.Meer informatie:Contactpersoon: Thea LaurijssenTel.: 0162320939Email: wedstrijd-thuis@atledo.nlEr is een kleedaccomodatie aanwezig. Douchen is mogelijk.Het parcours is verhard.Vorig jaar deden er 500 lopers mee aan dit evenement.Overige bijzonderheden:  Leuk parcours\, vooral asfalt en start\, doorkomst & finish atletiekbaan \n  \n  \n 
URL:https://hardloopevenementen.com/loopagenda/dwars-door-dongen-2010-dongen-nb/
END:VEVENT
END:VCALENDAR