BEGIN:VCALENDAR
VERSION:2.0
PRODID:-//Hardloopevenementen - ECPv6.15.14//NONSGML v1.0//EN
CALSCALE:GREGORIAN
METHOD:PUBLISH
X-WR-CALNAME:Hardloopevenementen
X-ORIGINAL-URL:https://hardloopevenementen.com
X-WR-CALDESC:Evenementen voor Hardloopevenementen
REFRESH-INTERVAL;VALUE=DURATION:PT1H
X-Robots-Tag:noindex
X-PUBLISHED-TTL:PT1H
BEGIN:VTIMEZONE
TZID:UTC
BEGIN:STANDARD
TZOFFSETFROM:+0000
TZOFFSETTO:+0000
TZNAME:UTC
DTSTART:20120101T000000
END:STANDARD
END:VTIMEZONE
BEGIN:VEVENT
DTSTART;VALUE=DATE:20131110
DTEND;VALUE=DATE:20131111
DTSTAMP:20260425T232634
CREATED:20151203T130150Z
LAST-MODIFIED:20190423T103826Z
UID:8117-1384041600-1384041600@hardloopevenementen.com
SUMMARY:Molenvencross Helmond (NB)
DESCRIPTION:Doe mee met het hardloopevenement Molenvencross te Helmond (NB) op zo 10 nov 2013. De volgende afstanden staan op het programma: 2\,5 km – 4\,7 km – 6\,9 km – 9\,1 km hardlopen. Wilt u inschrijven voor dit loopevenement?  Raadpleeg hiervoor dan de website van de organisatie\nDe uitslagen van deze hardloopwedstrijd zijn te raadplegen via dezelfde website of via de bekende websites zoals uitslagen.nl\, runtimer en mylaps. Doet u mee met dit evenement\, zorg dan dat u goed voorbereid aan de start staat! Met een goed trainingsschema komt u een heel eind. Train bijvoorbeeld met start to run van Evy Gruyaert. Download de start to run mp3 bestanden en zet ze op uw telefoon. Oortjes in\, hit the play button en en rennen maar! \n\n\n\n\nMeer informatie over Molenvencross op Hardloopkalender.nl  \nHet loopevenement Molenvencross te Helmond vindt plaats op zondag 10 november 2013. De loop wordt georganisseerd door HAC. Inschrijven is mogelijk vanaf 01 september 2013. Klik hier voor het adres van de start (Google Maps).Er is verkleedaccomodatie met douchemogelijkheid aanwezig. Er is EHBO aanwezig. Voor meer informatie:Gijs Jacobswedstrijden@hac-helmond.nl0492548043http:  www.hac-helmond.nl \n  \n  \n 
URL:https://hardloopevenementen.com/loopagenda/molenvencross-helmond-nb-5/
END:VEVENT
END:VCALENDAR