BEGIN:VCALENDAR
VERSION:2.0
PRODID:-//Hardloopevenementen - ECPv6.15.14//NONSGML v1.0//EN
CALSCALE:GREGORIAN
METHOD:PUBLISH
X-WR-CALNAME:Hardloopevenementen
X-ORIGINAL-URL:https://hardloopevenementen.com
X-WR-CALDESC:Evenementen voor Hardloopevenementen
REFRESH-INTERVAL;VALUE=DURATION:PT1H
X-Robots-Tag:noindex
X-PUBLISHED-TTL:PT1H
BEGIN:VTIMEZONE
TZID:UTC
BEGIN:STANDARD
TZOFFSETFROM:+0000
TZOFFSETTO:+0000
TZNAME:UTC
DTSTART:20070101T000000
END:STANDARD
END:VTIMEZONE
BEGIN:VEVENT
DTSTART;VALUE=DATE:20081214
DTEND;VALUE=DATE:20081215
DTSTAMP:20260422T011238
CREATED:20100817T003122Z
LAST-MODIFIED:20190423T094327Z
UID:913-1229212800-1229212800@hardloopevenementen.com
SUMMARY:2e Dinkelloop Kerstcross Losser
DESCRIPTION:Doe mee met het hardloopevenement 2e Dinkelloop Kerstcross te Losser op zo 14 dec 2008. De volgende afstanden staan op het programma: 1 km – 1\,5 km – 2 km – 2\,5 km – 3 km – 4 km – 4\,5 km – 5 km – 6 km – 7\,5 km hardlopen. Wilt u inschrijven voor dit loopevenement?  Raadpleeg hiervoor dan de website van de organisatie\nDe uitslagen van deze hardloopwedstrijd zijn te raadplegen via dezelfde website of via de bekende websites zoals uitslagen.nl\, runtimer en mylaps. Doet u mee met dit evenement\, zorg dan dat u goed voorbereid aan de start staat! Met een goed trainingsschema komt u een heel eind. Train bijvoorbeeld met start to run van Evy Gruyaert. Download de start to run mp3 bestanden en zet ze op uw telefoon. Oortjes in\, hit the play button en en rennen maar! \n\n\n\n\nMeer informatie over 2e Dinkelloop Kerstcross op Hardloopkalender.nl  \n  \n  \n 
URL:https://hardloopevenementen.com/loopagenda/2e-dinkelloop-kerstcross-losser/
END:VEVENT
BEGIN:VEVENT
DTSTART;VALUE=DATE:20081109
DTEND;VALUE=DATE:20081110
DTSTAMP:20260422T011238
CREATED:20090605T084714Z
LAST-MODIFIED:20190423T094416Z
UID:1088-1226188800-1226188800@hardloopevenementen.com
SUMMARY:1ste Dinkelloop Losser
DESCRIPTION:Doe mee met het hardloopevenement 1ste Dinkelloop te Losser op zo 09 nov 2008. De volgende afstanden staan op het programma: 1\,2 km – 2\,5 km – 5 km – 7\,5 km hardlopen. Wilt u inschrijven voor dit loopevenement?  Raadpleeg hiervoor dan de website van de organisatie\nDe uitslagen van deze hardloopwedstrijd zijn te raadplegen via dezelfde website of via de bekende websites zoals uitslagen.nl\, runtimer en mylaps. Doet u mee met dit evenement\, zorg dan dat u goed voorbereid aan de start staat! Met een goed trainingsschema komt u een heel eind. Train bijvoorbeeld met start to run van Evy Gruyaert. Download de start to run mp3 bestanden en zet ze op uw telefoon. Oortjes in\, hit the play button en en rennen maar! \n\n\n\n\nMeer informatie over 1ste Dinkelloop op Hardloopkalender.nl  \nstart  7\,5 km 10:00 uur  2\,5-5 km 11:00 uur  1\,2 km 11:45 uur \n  \n  \n 
URL:https://hardloopevenementen.com/loopagenda/1ste-dinkelloop-losser/
END:VEVENT
BEGIN:VEVENT
DTSTART;VALUE=DATE:20080406
DTEND;VALUE=DATE:20080407
DTSTAMP:20260422T011238
CREATED:20070217T203342Z
LAST-MODIFIED:20190423T094809Z
UID:19906-1207440000-1207440000@hardloopevenementen.com
SUMMARY:11e Keizers Sanitair Drielandenloop Losser
DESCRIPTION:Doe mee met het hardloopevenement 11e Keizers Sanitair Drielandenloop te Losser op zo 06 apr 2008. De volgende afstanden staan op het programma: 2 km – 5 km – 10 km – 15 km – 25 km hardlopen. Wilt u inschrijven voor dit loopevenement?  Raadpleeg hiervoor dan de website van de organisatie\nDe uitslagen van deze hardloopwedstrijd zijn te raadplegen via dezelfde website of via de bekende websites zoals uitslagen.nl\, runtimer en mylaps. Doet u mee met dit evenement\, zorg dan dat u goed voorbereid aan de start staat! Met een goed trainingsschema komt u een heel eind. Train bijvoorbeeld met start to run van Evy Gruyaert. Download de start to run mp3 bestanden en zet ze op uw telefoon. Oortjes in\, hit the play button en en rennen maar! \n\n\n\n\nMeer informatie over 11e Keizers Sanitair Drielandenloop op Hardloopkalender.nl  \n25 km 12:00 uur\, 10-15 km 12:05 uur\, 5 km 12:20 uur\, 2 km 12:23 uur \n  \n  \n 
URL:https://hardloopevenementen.com/loopagenda/11e-keizers-sanitair-drielandenloop-losser/
END:VEVENT
END:VCALENDAR