BEGIN:VCALENDAR
VERSION:2.0
PRODID:-//Hardloopevenementen - ECPv6.15.14//NONSGML v1.0//EN
CALSCALE:GREGORIAN
METHOD:PUBLISH
X-WR-CALNAME:Hardloopevenementen
X-ORIGINAL-URL:https://hardloopevenementen.com
X-WR-CALDESC:Evenementen voor Hardloopevenementen
REFRESH-INTERVAL;VALUE=DURATION:PT1H
X-Robots-Tag:noindex
X-PUBLISHED-TTL:PT1H
BEGIN:VTIMEZONE
TZID:UTC
BEGIN:STANDARD
TZOFFSETFROM:+0000
TZOFFSETTO:+0000
TZNAME:UTC
DTSTART:20080101T000000
END:STANDARD
END:VTIMEZONE
BEGIN:VEVENT
DTSTART;VALUE=DATE:20130608
DTEND;VALUE=DATE:20130609
DTSTAMP:20260421T004301
CREATED:20070927T013507Z
LAST-MODIFIED:20190423T104218Z
UID:31628-1370649600-1370649600@hardloopevenementen.com
SUMMARY:Steinakkerloop Stramproy\, gemeente Weert (LI)
DESCRIPTION:Doe mee met het hardloopevenement Steinakkerloop te Stramproy\, gemeente Weert (LI) op za 08 jun 2013. De volgende afstanden staan op het programma: 1 km – 2\,5 km – 5 km – 10 km hardlopen. Wilt u inschrijven voor dit loopevenement?  Raadpleeg hiervoor dan de website van de organisatie\nDe uitslagen van deze hardloopwedstrijd zijn te raadplegen via dezelfde website of via de bekende websites zoals uitslagen.nl\, runtimer en mylaps. Doet u mee met dit evenement\, zorg dan dat u goed voorbereid aan de start staat! Met een goed trainingsschema komt u een heel eind. Train bijvoorbeeld met start to run van Evy Gruyaert. Download de start to run mp3 bestanden en zet ze op uw telefoon. Oortjes in\, hit the play button en en rennen maar! \n\n\n\n\nMeer informatie over Steinakkerloop op Hardloopkalender.nl  \nHet loopevenement Steinakkerloop te Stramproy vindt plaats op zaterdag 08 juni 2013. De loop wordt georganisseerd door Loopgroep De Grenslaupers. Inschrijven is mogelijk vanaf 10 april 2013. Klik hier voor het adres van de start (Google Maps).Er is verkleedaccomodatie met douchemogelijkheid aanwezig. Er is EHBO aanwezig. Voor meer informatie:Michel Hoekenmichel.hoeken@fulladsl.be0494690898http:  www.degrenslaupers.nl \n  \n  \n 
URL:https://hardloopevenementen.com/loopagenda/steinakkerloop-stramproy-gemeente-weert-li-5/
END:VEVENT
BEGIN:VEVENT
DTSTART;VALUE=DATE:20110610
DTEND;VALUE=DATE:20110611
DTSTAMP:20260421T004301
CREATED:20070328T142201Z
LAST-MODIFIED:20190423T102055Z
UID:6825-1307664000-1307664000@hardloopevenementen.com
SUMMARY:Steinakkerloop Stramproy\, gemeente Weert (LI)
DESCRIPTION:Doe mee met het hardloopevenement Steinakkerloop te Stramproy\, gemeente Weert (LI) op vr 10 jun 2011. De volgende afstanden staan op het programma: 1 km – 2\,5 km – 5 km – 10 km hardlopen. Wilt u inschrijven voor dit loopevenement?  Raadpleeg hiervoor dan de website van de organisatie\nDe uitslagen van deze hardloopwedstrijd zijn te raadplegen via dezelfde website of via de bekende websites zoals uitslagen.nl\, runtimer en mylaps. Doet u mee met dit evenement\, zorg dan dat u goed voorbereid aan de start staat! Met een goed trainingsschema komt u een heel eind. Train bijvoorbeeld met start to run van Evy Gruyaert. Download de start to run mp3 bestanden en zet ze op uw telefoon. Oortjes in\, hit the play button en en rennen maar! \n\n\n\n\nMeer informatie over Steinakkerloop op Hardloopkalender.nl  \n4e loop BAM Middenlimburgs Avondloopcriterium \n  \n  \n 
URL:https://hardloopevenementen.com/loopagenda/steinakkerloop-stramproy-gemeente-weert-li-3/
END:VEVENT
BEGIN:VEVENT
DTSTART;VALUE=DATE:20100611
DTEND;VALUE=DATE:20100612
DTSTAMP:20260421T004301
CREATED:20180313T111802Z
LAST-MODIFIED:20190423T101108Z
UID:4085-1276214400-1276214400@hardloopevenementen.com
SUMMARY:Steinakkerloop Stramproy\, gemeente Weert (LI)
DESCRIPTION:Doe mee met het hardloopevenement Steinakkerloop te Stramproy\, gemeente Weert (LI) op vr 11 jun 2010. De volgende afstanden staan op het programma: 1 km – 2\,5 km – 5 km – 10 km hardlopen. Wilt u inschrijven voor dit loopevenement?  Raadpleeg hiervoor dan de website van de organisatie\nDe uitslagen van deze hardloopwedstrijd zijn te raadplegen via dezelfde website of via de bekende websites zoals uitslagen.nl\, runtimer en mylaps. Doet u mee met dit evenement\, zorg dan dat u goed voorbereid aan de start staat! Met een goed trainingsschema komt u een heel eind. Train bijvoorbeeld met start to run van Evy Gruyaert. Download de start to run mp3 bestanden en zet ze op uw telefoon. Oortjes in\, hit the play button en en rennen maar! \n\n\n\n\nMeer informatie over Steinakkerloop op Hardloopkalender.nl  \nDit loopevenement wordt georganiseerd door Loopgroep De Grenslaupers.De eerste afstand (of onderdeel) start om 19:00.Het adres van de start en de finish is Burg. Smeijersweg 6Categorie(ën): mannen\, vrouwen\, jeugdVooraf inschrijven is mogelijk vanaf 01 mei 2010 tot 06 juni 2010.Inschrijven op de dag van de loop is mogelijk (vanaf 17.30) op dit adres: Burg. Smeijersweg 6  Café De Kantien.Meer informatie:Contactpersoon: Dhr Henk HoebergenTel.: 0495625155Email: secretariaat@degrenslaupers.nlEr is een kleedaccomodatie aanwezig. Douchen is mogelijk.Het parcours is verhard.Overige bijzonderheden:  zeer sfeervolle loop met snel\,mooi parcours.  veel publiek \n  \n  \n 
URL:https://hardloopevenementen.com/loopagenda/steinakkerloop-stramproy-gemeente-weert-li-2/
END:VEVENT
BEGIN:VEVENT
DTSTART;VALUE=DATE:20090612
DTEND;VALUE=DATE:20090613
DTSTAMP:20260421T004301
CREATED:20100806T214313Z
LAST-MODIFIED:20190423T100047Z
UID:2185-1244764800-1244764800@hardloopevenementen.com
SUMMARY:Steinakkerloop Stramproy\, gemeente Weert (LI)
DESCRIPTION:Doe mee met het hardloopevenement Steinakkerloop te Stramproy\, gemeente Weert (LI) op vr 12 jun 2009. De volgende afstanden staan op het programma: 1 km – 2\,5 km – 5 km – 10 km hardlopen. Wilt u inschrijven voor dit loopevenement?  Raadpleeg hiervoor dan de website van de organisatie\nDe uitslagen van deze hardloopwedstrijd zijn te raadplegen via dezelfde website of via de bekende websites zoals uitslagen.nl\, runtimer en mylaps. Doet u mee met dit evenement\, zorg dan dat u goed voorbereid aan de start staat! Met een goed trainingsschema komt u een heel eind. Train bijvoorbeeld met start to run van Evy Gruyaert. Download de start to run mp3 bestanden en zet ze op uw telefoon. Oortjes in\, hit the play button en en rennen maar! \n\n\n\n\nMeer informatie over Steinakkerloop op Hardloopkalender.nl  \n1 km 19:00 uur\, 2\,5 km 19:10 uur\, 5 km 19:30 uur\, 10 km 20:10 uur \n  \n  \n 
URL:https://hardloopevenementen.com/loopagenda/steinakkerloop-stramproy-gemeente-weert-li/
END:VEVENT
END:VCALENDAR