BEGIN:VCALENDAR
VERSION:2.0
PRODID:-//Hardloopevenementen - ECPv6.15.14//NONSGML v1.0//EN
CALSCALE:GREGORIAN
METHOD:PUBLISH
X-WR-CALNAME:Hardloopevenementen
X-ORIGINAL-URL:https://hardloopevenementen.com
X-WR-CALDESC:Evenementen voor Hardloopevenementen
REFRESH-INTERVAL;VALUE=DURATION:PT1H
X-Robots-Tag:noindex
X-PUBLISHED-TTL:PT1H
BEGIN:VTIMEZONE
TZID:UTC
BEGIN:STANDARD
TZOFFSETFROM:+0000
TZOFFSETTO:+0000
TZNAME:UTC
DTSTART:20170101T000000
END:STANDARD
END:VTIMEZONE
BEGIN:VEVENT
DTSTART;VALUE=DATE:20191006
DTEND;VALUE=DATE:20191007
DTSTAMP:20260422T051942
CREATED:20150106T102143Z
LAST-MODIFIED:20191114T112425Z
UID:142383-1570320000-1570320000@hardloopevenementen.com
SUMMARY:Trailrun Terschelling Terschelling (FR)
DESCRIPTION:Doe mee met het hardloopevenement Trailrun Terschelling te Terschelling (FR) op zo 06 okt 2019. De volgende afstanden staan op het programma: 10 km – 15 km – 25 km – 50 km hardlopen. Wilt u inschrijven voor dit loopevenement?  Raadpleeg hiervoor dan de website van de organisatie\nDe uitslagen van deze hardloopwedstrijd zijn te raadplegen via dezelfde website of via de bekende websites zoals uitslagen.nl\, runtimer en mylaps. Doet u mee met dit evenement\, zorg dan dat u goed voorbereid aan de start staat! Met een goed trainingsschema komt u een heel eind. Train bijvoorbeeld met start to run van Evy Gruyaert. Download de start to run mp3 bestanden en zet ze op uw telefoon. Oortjes in\, hit the play button en en rennen maar! \n\n\n\n\nMeer informatie over Trailrun Terschelling op Hardloopkalender.nl  \nTerschelling is bij uitstek geschikt voor trailrunning: er is bos\, er zijn duinen\, er is strand en er is ruimte. Veel ruimte. Je kunt bij de Trailrun Terschelling kiezen uit vier schitterende en zeer afwisselende routes van 10\, 15\, 25 en 50 kilometer. De langste afstand is een echte uitdaging en daardoor alleen geschikt voor geoefende trailrunners. Ook voor de middelste afstand dien je enige ervaring met trailrunning te hebben. Ben je beginnend trailrunner of wil je graag eens kennismaken met deze prachtige sport\, dan is de 10 of 15 kilometer net wat voor jou. Maar voor alle routes geldt: lopen op een eiland is altijd een bijzondere en onvergetelijke belevenis! \n  \n  \n 
URL:https://hardloopevenementen.com/loopagenda/trailrun-terschelling-terschelling-fr-2/
END:VEVENT
BEGIN:VEVENT
DTSTART;VALUE=DATE:20181007
DTEND;VALUE=DATE:20181008
DTSTAMP:20260422T051942
CREATED:20110324T003542Z
LAST-MODIFIED:20190423T120215Z
UID:15850-1538870400-1538870400@hardloopevenementen.com
SUMMARY:Trailrun Terschelling Terschelling (FR)
DESCRIPTION:Doe mee met het hardloopevenement Trailrun Terschelling te Terschelling (FR) op zo 07 okt 2018. De volgende afstanden staan op het programma: 15 km – 25 km – 50 km hardlopen. Wilt u inschrijven voor dit loopevenement?  Raadpleeg hiervoor dan de website van de organisatie\nDe uitslagen van deze hardloopwedstrijd zijn te raadplegen via dezelfde website of via de bekende websites zoals uitslagen.nl\, runtimer en mylaps. Doet u mee met dit evenement\, zorg dan dat u goed voorbereid aan de start staat! Met een goed trainingsschema komt u een heel eind. Train bijvoorbeeld met start to run van Evy Gruyaert. Download de start to run mp3 bestanden en zet ze op uw telefoon. Oortjes in\, hit the play button en en rennen maar! \n\n\n\n\nMeer informatie over Trailrun Terschelling op Hardloopkalender.nl  \nTerschelling is bij uitstek geschikt voor trailrunning: er is bos\, er zijn duinen\, er is strand en er is ruimte\, heel veel ruimte. Je kunt bij de Trailrun Terschelling kiezen uit drie schitterende en zeer afwisselende routes van 15\, 25 en 50 kilometer. De langste afstand is een echte uitdaging en daardoor alleen geschikt voor geoefende trailrunners. Ook voor de middelste afstand dien je enige ervaring met trailrunning te hebben. Ben je beginnend trailrunner of wil je graag eens kennismaken met deze prachtige sport\, dan is de 15 kilometer net wat voor jou. Maar voor alle drie routes geldt: lopen op een eiland is altijd een bijzondere en onvergetelijke belevenis! \n  \n  \n 
URL:https://hardloopevenementen.com/loopagenda/trailrun-terschelling-terschelling-fr/
END:VEVENT
END:VCALENDAR