BEGIN:VCALENDAR
VERSION:2.0
PRODID:-//Hardloopevenementen - ECPv6.15.14//NONSGML v1.0//EN
CALSCALE:GREGORIAN
METHOD:PUBLISH
X-WR-CALNAME:Hardloopevenementen
X-ORIGINAL-URL:https://hardloopevenementen.com
X-WR-CALDESC:Evenementen voor Hardloopevenementen
REFRESH-INTERVAL;VALUE=DURATION:PT1H
X-Robots-Tag:noindex
X-PUBLISHED-TTL:PT1H
BEGIN:VTIMEZONE
TZID:UTC
BEGIN:STANDARD
TZOFFSETFROM:+0000
TZOFFSETTO:+0000
TZNAME:UTC
DTSTART:20180101T000000
END:STANDARD
END:VTIMEZONE
BEGIN:VEVENT
DTSTART;VALUE=DATE:20190224
DTEND;VALUE=DATE:20190225
DTSTAMP:20260424T090822
CREATED:20120601T144633Z
LAST-MODIFIED:20191114T112748Z
UID:17435-1550966400-1550966400@hardloopevenementen.com
SUMMARY:RunRijnland Zoetermeer (ZH)
DESCRIPTION:Doe mee met het hardloopevenement RunRijnland te Zoetermeer (ZH) op zo 24 feb 2019. De volgende afstanden staan op het programma: 20 km – 25 km – 26\,5 km hardlopen. Wilt u inschrijven voor dit loopevenement?  Raadpleeg hiervoor dan de website van de organisatie\nDe uitslagen van deze hardloopwedstrijd zijn te raadplegen via dezelfde website of via de bekende websites zoals uitslagen.nl\, runtimer en mylaps. Doet u mee met dit evenement\, zorg dan dat u goed voorbereid aan de start staat! Met een goed trainingsschema komt u een heel eind. Train bijvoorbeeld met start to run van Evy Gruyaert. Download de start to run mp3 bestanden en zet ze op uw telefoon. Oortjes in\, hit the play button en en rennen maar! \n\n\n\n\nMeer informatie over RunRijnland op Hardloopkalender.nl  \nLoop mee langs de grenzen van Rijnland én Delfland    Deze negende etappe van #RunRijnland loopt van Zoetermeer naar Wassenaar.    Je kunt de gehele etappe van 26 km lopen\, of je stapt in op 6.5 km. Dan loop je de 20 km waar de grens van Rijnland wordt gedeeld met die van Delfland. Een klein stukje #RunDelfland dus!    Joas van den Berg vertelt onderweg van alles over de grenzen   van het waterschap.  We lopen in 1 groep en houden een tempo van 5’30” tot 6’00” km aan\, afhankelijk van de langzaamste loper. #RunRijnland is geen wedstrijd\, maar een mooie loop waarbij het samen lopen en verkennen van de grens van Rijnland centraal staat.    Start 26.5 km om 10.00 uur  Kruising Zegwaartseweg met het Akkerpad\, Zoetermeer.  De start van de 26.5 km ligt nabij Randstadrail station Seghwaert\, Zoetermeer.    Start 20 km om ca. 10.40 uur  ’s Gravenpad in De Balij\, Zoetermeer (Rokkeveen-West)\, op de overgang van Floriadebos naar Berkenbos.  (coördinaten 52.048464\, 4.451118)  De start van de 20 km ligt op 10 min. lopen van bushalte Elzehout.   Auto parkeren kan aan het Ebbehout.    Finish   Noordzeestrand\, iets ten noorden van strandtent Haag Beach Bar Puntje.  De finish ligt nabij tramhalte Zwarte Pad\, Scheveningen.    Finish en start zijn goed te herkennen aan de #RunRijnland vlaggen.    Loop je mee? Mail naar: RunRijnland apestaart algemenewaterschapspartij.nl of meld je aan via Facebook!    Zowel bij start als finish kun je gratis parkeren en is openbaar vervoer nabij.    Zie ook www.runrijnland.nl \n  \n  \n 
URL:https://hardloopevenementen.com/loopagenda/runrijnland-zoetermeer-zh/
END:VEVENT
END:VCALENDAR