BEGIN:VCALENDAR
VERSION:2.0
PRODID:-//Hardloopevenementen - ECPv6.15.14//NONSGML v1.0//EN
CALSCALE:GREGORIAN
METHOD:PUBLISH
X-WR-CALNAME:Hardloopevenementen
X-ORIGINAL-URL:https://hardloopevenementen.com
X-WR-CALDESC:Evenementen voor Hardloopevenementen
REFRESH-INTERVAL;VALUE=DURATION:PT1H
X-Robots-Tag:noindex
X-PUBLISHED-TTL:PT1H
BEGIN:VTIMEZONE
TZID:UTC
BEGIN:STANDARD
TZOFFSETFROM:+0000
TZOFFSETTO:+0000
TZNAME:UTC
DTSTART:20080101T000000
END:STANDARD
END:VTIMEZONE
BEGIN:VEVENT
DTSTART;VALUE=DATE:20091226
DTEND;VALUE=DATE:20091227
DTSTAMP:20260421T170757
CREATED:20110109T074622Z
LAST-MODIFIED:20190423T095618Z
UID:1261-1261785600-1261785600@hardloopevenementen.com
SUMMARY:Kerstcross Dronten (FL)
DESCRIPTION:Doe mee met het hardloopevenement Kerstcross te Dronten (FL) op za 26 dec 2009. De volgende afstanden staan op het programma: 2\,8 km – 5\,5 km – 8\,3 km – 11 km hardlopen. Wilt u inschrijven voor dit loopevenement?  Raadpleeg hiervoor dan de website van de organisatie\nDe uitslagen van deze hardloopwedstrijd zijn te raadplegen via dezelfde website of via de bekende websites zoals uitslagen.nl\, runtimer en mylaps. Doet u mee met dit evenement\, zorg dan dat u goed voorbereid aan de start staat! Met een goed trainingsschema komt u een heel eind. Train bijvoorbeeld met start to run van Evy Gruyaert. Download de start to run mp3 bestanden en zet ze op uw telefoon. Oortjes in\, hit the play button en en rennen maar! \n\n\n\n\nMeer informatie over Kerstcross op Hardloopkalender.nl  \n2\,8-5\,5-8\,3-11 km 10:30 uur \n  \n  \n 
URL:https://hardloopevenementen.com/loopagenda/kerstcross-dronten-fl/
END:VEVENT
BEGIN:VEVENT
DTSTART;VALUE=DATE:20091129
DTEND;VALUE=DATE:20091130
DTSTAMP:20260421T170757
CREATED:20130908T192419Z
LAST-MODIFIED:20190423T095655Z
UID:1387-1259452800-1259452800@hardloopevenementen.com
SUMMARY:2e Bosloop Dronten (FL)
DESCRIPTION:Doe mee met het hardloopevenement 2e Bosloop te Dronten (FL) op zo 29 nov 2009. De volgende afstanden staan op het programma: 2\,8 km – 5\,5 km – 8\,3 km – 11 km hardlopen. Wilt u inschrijven voor dit loopevenement?  Raadpleeg hiervoor dan de website van de organisatie\nDe uitslagen van deze hardloopwedstrijd zijn te raadplegen via dezelfde website of via de bekende websites zoals uitslagen.nl\, runtimer en mylaps. Doet u mee met dit evenement\, zorg dan dat u goed voorbereid aan de start staat! Met een goed trainingsschema komt u een heel eind. Train bijvoorbeeld met start to run van Evy Gruyaert. Download de start to run mp3 bestanden en zet ze op uw telefoon. Oortjes in\, hit the play button en en rennen maar! \n\n\n\n\nMeer informatie over 2e Bosloop op Hardloopkalender.nl  \n2\,8-5\,5-8\,3-11 km 10:30 uur \n  \n  \n 
URL:https://hardloopevenementen.com/loopagenda/2e-bosloop-dronten-fl/
END:VEVENT
BEGIN:VEVENT
DTSTART;VALUE=DATE:20091025
DTEND;VALUE=DATE:20091026
DTSTAMP:20260421T170757
CREATED:20080618T155130Z
LAST-MODIFIED:20190423T095753Z
UID:1573-1256428800-1256428800@hardloopevenementen.com
SUMMARY:1e Bosloop Dronten (FL)
DESCRIPTION:Doe mee met het hardloopevenement 1e Bosloop te Dronten (FL) op zo 25 okt 2009. De volgende afstanden staan op het programma: 2\,8 km – 5\,5 km – 8\,3 km – 11 km hardlopen. Wilt u inschrijven voor dit loopevenement?  Raadpleeg hiervoor dan de website van de organisatie\nDe uitslagen van deze hardloopwedstrijd zijn te raadplegen via dezelfde website of via de bekende websites zoals uitslagen.nl\, runtimer en mylaps. Doet u mee met dit evenement\, zorg dan dat u goed voorbereid aan de start staat! Met een goed trainingsschema komt u een heel eind. Train bijvoorbeeld met start to run van Evy Gruyaert. Download de start to run mp3 bestanden en zet ze op uw telefoon. Oortjes in\, hit the play button en en rennen maar! \n\n\n\n\nMeer informatie over 1e Bosloop op Hardloopkalender.nl  \n2\,8-5\,5-8\,3-11 km 10:30 uur \n  \n  \n 
URL:https://hardloopevenementen.com/loopagenda/1e-bosloop-dronten-fl/
END:VEVENT
BEGIN:VEVENT
DTSTART;VALUE=DATE:20090222
DTEND;VALUE=DATE:20090223
DTSTAMP:20260421T170757
CREATED:20100718T143625Z
LAST-MODIFIED:20190423T100309Z
UID:2740-1235260800-1235260800@hardloopevenementen.com
SUMMARY:4e Bosloop Dronten (FL)
DESCRIPTION:Doe mee met het hardloopevenement 4e Bosloop te Dronten (FL) op zo 22 feb 2009. De volgende afstanden staan op het programma: 2\,8 km – 5\,5 km – 8\,3 km – 11 km hardlopen. Wilt u inschrijven voor dit loopevenement?  Raadpleeg hiervoor dan de website van de organisatie\nDe uitslagen van deze hardloopwedstrijd zijn te raadplegen via dezelfde website of via de bekende websites zoals uitslagen.nl\, runtimer en mylaps. Doet u mee met dit evenement\, zorg dan dat u goed voorbereid aan de start staat! Met een goed trainingsschema komt u een heel eind. Train bijvoorbeeld met start to run van Evy Gruyaert. Download de start to run mp3 bestanden en zet ze op uw telefoon. Oortjes in\, hit the play button en en rennen maar! \n\n\n\n\nMeer informatie over 4e Bosloop op Hardloopkalender.nl  \n2\,8-5\,5-8\,3-11 km 10:30 uur \n  \n  \n 
URL:https://hardloopevenementen.com/loopagenda/4e-bosloop-dronten-fl/
END:VEVENT
BEGIN:VEVENT
DTSTART;VALUE=DATE:20090125
DTEND;VALUE=DATE:20090126
DTSTAMP:20260421T170757
CREATED:20130121T073601Z
LAST-MODIFIED:20190423T100342Z
UID:2863-1232841600-1232841600@hardloopevenementen.com
SUMMARY:3e Bosloop Dronten (FL)
DESCRIPTION:Doe mee met het hardloopevenement 3e Bosloop te Dronten (FL) op zo 25 jan 2009. De volgende afstanden staan op het programma: 2\,8 km – 5\,5 km – 8\,3 km – 11 km hardlopen. Wilt u inschrijven voor dit loopevenement?  Raadpleeg hiervoor dan de website van de organisatie\nDe uitslagen van deze hardloopwedstrijd zijn te raadplegen via dezelfde website of via de bekende websites zoals uitslagen.nl\, runtimer en mylaps. Doet u mee met dit evenement\, zorg dan dat u goed voorbereid aan de start staat! Met een goed trainingsschema komt u een heel eind. Train bijvoorbeeld met start to run van Evy Gruyaert. Download de start to run mp3 bestanden en zet ze op uw telefoon. Oortjes in\, hit the play button en en rennen maar! \n\n\n\n\nMeer informatie over 3e Bosloop op Hardloopkalender.nl  \n2\,8-5\,5-8\,3-11 km 10:30 uur \n  \n  \n 
URL:https://hardloopevenementen.com/loopagenda/3e-bosloop-dronten-fl/
END:VEVENT
END:VCALENDAR