BEGIN:VCALENDAR
VERSION:2.0
PRODID:-//Hardloopevenementen - ECPv6.15.14//NONSGML v1.0//EN
CALSCALE:GREGORIAN
METHOD:PUBLISH
X-WR-CALNAME:Hardloopevenementen
X-ORIGINAL-URL:https://hardloopevenementen.com
X-WR-CALDESC:Evenementen voor Hardloopevenementen
REFRESH-INTERVAL;VALUE=DURATION:PT1H
X-Robots-Tag:noindex
X-PUBLISHED-TTL:PT1H
BEGIN:VTIMEZONE
TZID:UTC
BEGIN:STANDARD
TZOFFSETFROM:+0000
TZOFFSETTO:+0000
TZNAME:UTC
DTSTART:20160101T000000
END:STANDARD
END:VTIMEZONE
BEGIN:VEVENT
DTSTART;VALUE=DATE:20170624
DTEND;VALUE=DATE:20170625
DTSTAMP:20260425T222803
CREATED:20090208T005829Z
LAST-MODIFIED:20190423T114526Z
UID:14481-1498262400-1498262400@hardloopevenementen.com
SUMMARY:VechtdalTrail Ommen (OV)
DESCRIPTION:Doe mee met het hardloopevenement VechtdalTrail te Ommen (OV) op za 24 jun 2017. De volgende afstanden staan op het programma: 17 km – 28 km – 44 km hardlopen. Wilt u inschrijven voor dit loopevenement?  Raadpleeg hiervoor dan de website van de organisatie\nDe uitslagen van deze hardloopwedstrijd zijn te raadplegen via dezelfde website of via de bekende websites zoals uitslagen.nl\, runtimer en mylaps. Doet u mee met dit evenement\, zorg dan dat u goed voorbereid aan de start staat! Met een goed trainingsschema komt u een heel eind. Train bijvoorbeeld met start to run van Evy Gruyaert. Download de start to run mp3 bestanden en zet ze op uw telefoon. Oortjes in\, hit the play button en en rennen maar! \n\n\n\n\nMeer informatie over VechtdalTrail op Hardloopkalender.nl  \nPrimeur van aantrekkelijke Trail in het prachtige Overijsselse Vechtdal.  In totaal drie trails over afstanden van 17\, 28 en 44 km. Afstanden die zowel voor de beginnende trailer als voor de ervaren trailloper aantrekkelijk en uitdagend zijn. Parcours is zo gekozen dat niet alleen de deelnemers van buiten de streek zullen genieten van het mooie Vechtdal\, maar ook deelnemers uit de omgeving zelf nieuwe paden en verrassende uitzichten zullen ontdekken. \n  \n  \n 
URL:https://hardloopevenementen.com/loopagenda/vechtdaltrail-ommen-ov/
END:VEVENT
END:VCALENDAR