BEGIN:VCALENDAR
VERSION:2.0
PRODID:-//Hardloopevenementen - ECPv6.15.14//NONSGML v1.0//EN
CALSCALE:GREGORIAN
METHOD:PUBLISH
X-ORIGINAL-URL:https://hardloopevenementen.com
X-WR-CALDESC:Evenementen voor Hardloopevenementen
REFRESH-INTERVAL;VALUE=DURATION:PT1H
X-Robots-Tag:noindex
X-PUBLISHED-TTL:PT1H
BEGIN:VTIMEZONE
TZID:UTC
BEGIN:STANDARD
TZOFFSETFROM:+0000
TZOFFSETTO:+0000
TZNAME:UTC
DTSTART:20150101T000000
END:STANDARD
END:VTIMEZONE
BEGIN:VEVENT
DTSTART;VALUE=DATE:20170604
DTEND;VALUE=DATE:20170605
DTSTAMP:20260426T030800
CREATED:20070825T134958Z
LAST-MODIFIED:20190423T114559Z
UID:14632-1496534400-1496534400@hardloopevenementen.com
SUMMARY:Trailrun Leudal Heythuysen\, gemeente Leudal (LI)
DESCRIPTION:Doe mee met het hardloopevenement Trailrun Leudal te Heythuysen\, gemeente Leudal (LI) op zo 04 jun 2017. De volgende afstanden staan op het programma: 12 km – 20 km – 29 km hardlopen. Wilt u inschrijven voor dit loopevenement?  Raadpleeg hiervoor dan de website van de organisatie\nDe uitslagen van deze hardloopwedstrijd zijn te raadplegen via dezelfde website of via de bekende websites zoals uitslagen.nl\, runtimer en mylaps. Doet u mee met dit evenement\, zorg dan dat u goed voorbereid aan de start staat! Met een goed trainingsschema komt u een heel eind. Train bijvoorbeeld met start to run van Evy Gruyaert. Download de start to run mp3 bestanden en zet ze op uw telefoon. Oortjes in\, hit the play button en en rennen maar! \n\n\n\n\nMeer informatie over Trailrun Leudal op Hardloopkalender.nl  \nDe 5e editie van de Trailrun Leudal wordt gehouden op zondag 4 juni 2017.   Er zijn 3 afstanden: een lange trail over ca. 29 km\, een midden trail over ca. 20 km en een korte trail over ruim 12km. De parcoursen zijn dit jaar vernieuwd t.o.v. de voorgaande jaren. Bij alle afstanden wordt de Litsberg beklommen. \n  \n  \n 
URL:https://hardloopevenementen.com/loopagenda/trailrun-leudal-heythuysen-gemeente-leudal-li-3/
END:VEVENT
BEGIN:VEVENT
DTSTART;VALUE=DATE:20160605
DTEND;VALUE=DATE:20160606
DTSTAMP:20260426T030800
CREATED:20120626T031221Z
LAST-MODIFIED:20190423T112440Z
UID:12604-1465084800-1465084800@hardloopevenementen.com
SUMMARY:Trailrun Leudal Heythuysen\, gemeente Leudal (LI)
DESCRIPTION:Doe mee met het hardloopevenement Trailrun Leudal te Heythuysen\, gemeente Leudal (LI) op zo 05 jun 2016. De volgende afstanden staan op het programma: 12 km – halve marathon – 29 km hardlopen. Wilt u inschrijven voor dit loopevenement?  Raadpleeg hiervoor dan de website van de organisatie\nDe uitslagen van deze hardloopwedstrijd zijn te raadplegen via dezelfde website of via de bekende websites zoals uitslagen.nl\, runtimer en mylaps. Doet u mee met dit evenement\, zorg dan dat u goed voorbereid aan de start staat! Met een goed trainingsschema komt u een heel eind. Train bijvoorbeeld met start to run van Evy Gruyaert. Download de start to run mp3 bestanden en zet ze op uw telefoon. Oortjes in\, hit the play button en en rennen maar! \n\n\n\n\nMeer informatie over Trailrun Leudal op Hardloopkalender.nl  \nHet loopevenement Trailrun Leudal te Heythuysen vindt plaats op zondag 05 juni 2016. \n  \n  \n 
URL:https://hardloopevenementen.com/loopagenda/trailrun-leudal-heythuysen-gemeente-leudal-li-2/
END:VEVENT
END:VCALENDAR