BEGIN:VCALENDAR
VERSION:2.0
PRODID:-//Hardloopevenementen - ECPv6.15.14//NONSGML v1.0//EN
CALSCALE:GREGORIAN
METHOD:PUBLISH
X-WR-CALNAME:Hardloopevenementen
X-ORIGINAL-URL:https://hardloopevenementen.com
X-WR-CALDESC:Evenementen voor Hardloopevenementen
REFRESH-INTERVAL;VALUE=DURATION:PT1H
X-Robots-Tag:noindex
X-PUBLISHED-TTL:PT1H
BEGIN:VTIMEZONE
TZID:UTC
BEGIN:STANDARD
TZOFFSETFROM:+0000
TZOFFSETTO:+0000
TZNAME:UTC
DTSTART:20120101T000000
END:STANDARD
END:VTIMEZONE
BEGIN:VEVENT
DTSTART;VALUE=DATE:20130216
DTEND;VALUE=DATE:20130217
DTSTAMP:20260420T121445
CREATED:20180227T001118Z
LAST-MODIFIED:20190423T104501Z
UID:32253-1360972800-1360972800@hardloopevenementen.com
SUMMARY:av Fortuna 2ste Marathon testloop Vlaardingen (ZH)
DESCRIPTION:Doe mee met het hardloopevenement av Fortuna 2ste Marathon testloop te Vlaardingen (ZH) op za 16 feb 2013. De volgende afstanden staan op het programma: 5 km – 10 km – 15 km – 20 km – 25 km – 30 km hardlopen. Wilt u inschrijven voor dit loopevenement?  Raadpleeg hiervoor dan de website van de organisatie\nDe uitslagen van deze hardloopwedstrijd zijn te raadplegen via dezelfde website of via de bekende websites zoals uitslagen.nl\, runtimer en mylaps. Doet u mee met dit evenement\, zorg dan dat u goed voorbereid aan de start staat! Met een goed trainingsschema komt u een heel eind. Train bijvoorbeeld met start to run van Evy Gruyaert. Download de start to run mp3 bestanden en zet ze op uw telefoon. Oortjes in\, hit the play button en en rennen maar! \n\n\n\n\nMeer informatie over av Fortuna 2ste Marathon testloop op Hardloopkalender.nl  \nHet loopevenement av Fortuna 2ste Marathon testloop te Vlaardingen vindt plaats op zaterdag 16 februari 2013. De loop wordt georganisseerd door AV Fortuna. Inschrijven is mogelijk vanaf 01 februari 2013. Klik hier voor het adres van de start (Google Maps).Er is verkleedaccomodatie met douchemogelijkheid aanwezig. Er is EHBO aanwezig. Voor meer informatie:Ad van der Valkweg@avfortuna.nl0654226203http:  www.avfortuna.nl \n  \n  \n 
URL:https://hardloopevenementen.com/loopagenda/av-fortuna-2ste-marathon-testloop-vlaardingen-zh/
END:VEVENT
END:VCALENDAR