BEGIN:VCALENDAR
VERSION:2.0
PRODID:-//Hardloopevenementen - ECPv6.15.14//NONSGML v1.0//EN
CALSCALE:GREGORIAN
METHOD:PUBLISH
X-WR-CALNAME:Hardloopevenementen
X-ORIGINAL-URL:https://hardloopevenementen.com
X-WR-CALDESC:Evenementen voor Hardloopevenementen
REFRESH-INTERVAL;VALUE=DURATION:PT1H
X-Robots-Tag:noindex
X-PUBLISHED-TTL:PT1H
BEGIN:VTIMEZONE
TZID:UTC
BEGIN:STANDARD
TZOFFSETFROM:+0000
TZOFFSETTO:+0000
TZNAME:UTC
DTSTART:20130101T000000
END:STANDARD
END:VTIMEZONE
BEGIN:VEVENT
DTSTART;VALUE=DATE:20161216
DTEND;VALUE=DATE:20161217
DTSTAMP:20260422T003845
CREATED:20131013T145744Z
LAST-MODIFIED:20190423T112009Z
UID:11388-1481846400-1481846400@hardloopevenementen.com
SUMMARY:SantaRun Haarlem Haarlem (NH)
DESCRIPTION:Doe mee met het hardloopevenement SantaRun Haarlem te Haarlem (NH) op vr 16 dec 2016. De volgende afstanden staan op het programma: 3 km hardlopen. Wilt u inschrijven voor dit loopevenement?  Raadpleeg hiervoor dan de website van de organisatie\nDe uitslagen van deze hardloopwedstrijd zijn te raadplegen via dezelfde website of via de bekende websites zoals uitslagen.nl\, runtimer en mylaps. Doet u mee met dit evenement\, zorg dan dat u goed voorbereid aan de start staat! Met een goed trainingsschema komt u een heel eind. Train bijvoorbeeld met start to run van Evy Gruyaert. Download de start to run mp3 bestanden en zet ze op uw telefoon. Oortjes in\, hit the play button en en rennen maar! \n\n\n\n\nMeer informatie over SantaRun Haarlem op Hardloopkalender.nl  \nGezellig met meer dan 1.000 Santas door de Haarlemse   binnenstad. Neem je (kroeg)­vrienden\, schoolvrienden\, sportteam of   schoonmoeder mee en loop voor het goede doel wat geld bijeen. \n  \n  \n 
URL:https://hardloopevenementen.com/loopagenda/santarun-haarlem-haarlem-nh-2/
END:VEVENT
BEGIN:VEVENT
DTSTART;VALUE=DATE:20141212
DTEND;VALUE=DATE:20141213
DTSTAMP:20260422T003845
CREATED:20090924T184804Z
LAST-MODIFIED:20190423T104853Z
UID:8574-1418342400-1418342400@hardloopevenementen.com
SUMMARY:Serious Santa Run Haarlem (NH)
DESCRIPTION:Doe mee met het hardloopevenement Serious Santa Run te Haarlem (NH) op vr 12 dec 2014. De volgende afstanden staan op het programma: 3 km – 6 km hardlopen. Wilt u inschrijven voor dit loopevenement?  Raadpleeg hiervoor dan de website van de organisatie\nDe uitslagen van deze hardloopwedstrijd zijn te raadplegen via dezelfde website of via de bekende websites zoals uitslagen.nl\, runtimer en mylaps. Doet u mee met dit evenement\, zorg dan dat u goed voorbereid aan de start staat! Met een goed trainingsschema komt u een heel eind. Train bijvoorbeeld met start to run van Evy Gruyaert. Download de start to run mp3 bestanden en zet ze op uw telefoon. Oortjes in\, hit the play button en en rennen maar! \n\n\n\n\nMeer informatie over Serious Santa Run op Hardloopkalender.nl  \nInfo  Jouw kerst begint dit jaar al op vrijdag 12 december\, want dan start de eerste echte Fun Run door de Haarlemse binnenstad.  Beschrijving  De Fun Run van het jaar!!  Jouw kerst begint dit jaar al op vrijdag 12 december\, want dan start de eerste echte Fun Run door de Haarlemse binnenstad. Loop mee voor het goede doel van Serious Request. De Serious Santa Run is geen prestatieloop: je tijd is niet belangrijk want het gaat om de Fun én natuurlijk Serious Request. De Serious Santa Run is fun\, gaat dwars door de binnenstad langs kerken en kroegen en vergeet niet: Dress To Impress!    Thema & Dresscode  Het thema in 2014 is\, hoe kan het ook anders: Give yourself a very Rockin’ Christmas! Oftewel: dos je uit in je gekste Christmas Outfit – kom als Rocking Santa\, spetterende Kerstelf; leef je uit!! De beste outfit wordt natuurlijk beloond.    Waar  De start- & finishlocatie is op het Klokhuisplein achter de St. Bavo in Haarlem. Hou onze website en Facebook pagina goed in de gaten. \n  \n  \n 
URL:https://hardloopevenementen.com/loopagenda/serious-santa-run-haarlem-nh/
END:VEVENT
END:VCALENDAR