BEGIN:VCALENDAR
VERSION:2.0
PRODID:-//Hardloopevenementen - ECPv6.15.14//NONSGML v1.0//EN
CALSCALE:GREGORIAN
METHOD:PUBLISH
X-WR-CALNAME:Hardloopevenementen
X-ORIGINAL-URL:https://hardloopevenementen.com
X-WR-CALDESC:Evenementen voor Hardloopevenementen
REFRESH-INTERVAL;VALUE=DURATION:PT1H
X-Robots-Tag:noindex
X-PUBLISHED-TTL:PT1H
BEGIN:VTIMEZONE
TZID:UTC
BEGIN:STANDARD
TZOFFSETFROM:+0000
TZOFFSETTO:+0000
TZNAME:UTC
DTSTART:20070101T000000
END:STANDARD
END:VTIMEZONE
BEGIN:VEVENT
DTSTART;VALUE=DATE:20080106
DTEND;VALUE=DATE:20080107
DTSTAMP:20260426T033825
CREATED:20151013T070450Z
LAST-MODIFIED:20190423T094954Z
UID:20362-1199577600-1199577600@hardloopevenementen.com
SUMMARY:34e Nieuwjaarsloop Trimclub NS Nijmegen
DESCRIPTION:Doe mee met het hardloopevenement 34e Nieuwjaarsloop Trimclub NS te Nijmegen op zo 06 jan 2008. De volgende afstanden staan op het programma: 3 km – 5 km – 10 km – 10 Engelse mijl hardlopen. Wilt u inschrijven voor dit loopevenement?  Raadpleeg hiervoor dan de website van de organisatie\nDe uitslagen van deze hardloopwedstrijd zijn te raadplegen via dezelfde website of via de bekende websites zoals uitslagen.nl\, runtimer en mylaps. Doet u mee met dit evenement\, zorg dan dat u goed voorbereid aan de start staat! Met een goed trainingsschema komt u een heel eind. Train bijvoorbeeld met start to run van Evy Gruyaert. Download de start to run mp3 bestanden en zet ze op uw telefoon. Oortjes in\, hit the play button en en rennen maar! \n\n\n\n\nMeer informatie over 34e Nieuwjaarsloop Trimclub NS op Hardloopkalender.nl  \n3 km 11:00 uur\, 5 km 11:30 uur\, 10-16\,1 km 12:15 uur    De parcoursen van de diverse afstanden bevinden zich in de bossen van Heumensoord (Nijmegen).   Deze prestatieloop is bedoeld voor iedereen.     INSCHRIJVING:   De Schakel   Archimedesstraat 9 (Grootstal)   Nijmegen \n  \n  \n 
URL:https://hardloopevenementen.com/loopagenda/34e-nieuwjaarsloop-trimclub-ns-nijmegen/
END:VEVENT
END:VCALENDAR