BEGIN:VCALENDAR
VERSION:2.0
PRODID:-//Hardloopevenementen - ECPv6.15.14//NONSGML v1.0//EN
CALSCALE:GREGORIAN
METHOD:PUBLISH
X-WR-CALNAME:Hardloopevenementen
X-ORIGINAL-URL:https://hardloopevenementen.com
X-WR-CALDESC:Evenementen voor Hardloopevenementen
REFRESH-INTERVAL;VALUE=DURATION:PT1H
X-Robots-Tag:noindex
X-PUBLISHED-TTL:PT1H
BEGIN:VTIMEZONE
TZID:UTC
BEGIN:STANDARD
TZOFFSETFROM:+0000
TZOFFSETTO:+0000
TZNAME:UTC
DTSTART:20070101T000000
END:STANDARD
END:VTIMEZONE
BEGIN:VEVENT
DTSTART;VALUE=DATE:20081005
DTEND;VALUE=DATE:20081006
DTSTAMP:20260425T145452
CREATED:20140727T231807Z
LAST-MODIFIED:20190423T094458Z
UID:19071-1223164800-1223164800@hardloopevenementen.com
SUMMARY:Huttenkloasloop Oldenzaal
DESCRIPTION:Doe mee met het hardloopevenement Huttenkloasloop te Oldenzaal op zo 05 okt 2008. De volgende afstanden staan op het programma: 1 km – 2 km – 3 km – 5 km – 10 km – halve marathon hardlopen. Wilt u inschrijven voor dit loopevenement?  Raadpleeg hiervoor dan de website van de organisatie\nDe uitslagen van deze hardloopwedstrijd zijn te raadplegen via dezelfde website of via de bekende websites zoals uitslagen.nl\, runtimer en mylaps. Doet u mee met dit evenement\, zorg dan dat u goed voorbereid aan de start staat! Met een goed trainingsschema komt u een heel eind. Train bijvoorbeeld met start to run van Evy Gruyaert. Download de start to run mp3 bestanden en zet ze op uw telefoon. Oortjes in\, hit the play button en en rennen maar! \n\n\n\n\nMeer informatie over Huttenkloasloop op Hardloopkalender.nl  \nDeze hardloop trimwedstrijd zal worden georganiseerd door LAAC Twente onder auspiciën van de KNAU. Rond de start en de finish op de Markt in Oldenzaal en langs het parcours zal muziek de sfeer verlevendigen en vinden er diverse activiteiten plaats om het tot een bruisende gebeurtenis te maken!    De Huttenkloasloop Oldenzaal kan gelopen worden over verschillende afstanden: halve marathon\, 10 en 5 kilometer en voor de jeugd 1\, 2 en 3 kilometer.      Rond start en finish  De muzikale warming-up wordt verzorgd door Dansschool Rouwhorst bij de start op de Markt.   Tevens is hier een info-stand van het Huttenkloasmuseum en van LAAC Twente te vinden.    In het Carmel College wordt gratis sportmassage aangeboden door twee ervaren fysiotherapeuten.     Voor de start worden foto’s gemaakt van de deelnemende teams aan de Bedrijvenloop.   Langs het parcours worden op alle afstanden ook foto’s gemaakt. \n  \n  \n 
URL:https://hardloopevenementen.com/loopagenda/huttenkloasloop-oldenzaal/
END:VEVENT
END:VCALENDAR