BEGIN:VCALENDAR
VERSION:2.0
PRODID:-//Hardloopevenementen - ECPv6.15.14//NONSGML v1.0//EN
CALSCALE:GREGORIAN
METHOD:PUBLISH
X-WR-CALNAME:Hardloopevenementen
X-ORIGINAL-URL:https://hardloopevenementen.com
X-WR-CALDESC:Evenementen voor Hardloopevenementen
REFRESH-INTERVAL;VALUE=DURATION:PT1H
X-Robots-Tag:noindex
X-PUBLISHED-TTL:PT1H
BEGIN:VTIMEZONE
TZID:UTC
BEGIN:STANDARD
TZOFFSETFROM:+0000
TZOFFSETTO:+0000
TZNAME:UTC
DTSTART:20070101T000000
END:STANDARD
END:VTIMEZONE
BEGIN:VEVENT
DTSTART;VALUE=DATE:20080427
DTEND;VALUE=DATE:20080428
DTSTAMP:20260425T170624
CREATED:20181217T013241Z
LAST-MODIFIED:20190423T094747Z
UID:19810-1209254400-1209254400@hardloopevenementen.com
SUMMARY:Snelwandeldag Schoonhoven
DESCRIPTION:Doe mee met het hardloopevenement Snelwandeldag te Schoonhoven op zo 27 apr 2008. De volgende afstanden staan op het programma: 1 km – 3 km – 5 km – 10 km – 30 km hardlopen. Wilt u inschrijven voor dit loopevenement?  Raadpleeg hiervoor dan de website van de organisatie\nDe uitslagen van deze hardloopwedstrijd zijn te raadplegen via dezelfde website of via de bekende websites zoals uitslagen.nl\, runtimer en mylaps. Doet u mee met dit evenement\, zorg dan dat u goed voorbereid aan de start staat! Met een goed trainingsschema komt u een heel eind. Train bijvoorbeeld met start to run van Evy Gruyaert. Download de start to run mp3 bestanden en zet ze op uw telefoon. Oortjes in\, hit the play button en en rennen maar! \n\n\n\n\nMeer informatie over Snelwandeldag op Hardloopkalender.nl  \naanvangstijd: categorie: afstand:   12:00 u heren   M40   M50 30 km   12:00 u jongens A – B 10 km   12:30 u dames + meisjes A – B 5 km   12:30 u junioren C 3 km   12:30 u junioren D 1 km           wedstrijdterrein: De Stormbaan\, Nieuwe Singel te Schoonhoven   Inschrijven: Gerrit de Jong\, Koestraat 132a\,   2871 DT Schoonhoven tel: 0182 38 44 29 gerrit.dejong@hetnet.nl    Inschrijfgeld:    30 km =  4\,50   dames\, junioren AB =  3\,00  junioren CD =  2\,50   Sluitingsdatum: 26 april 2007   Kortere afstanden in overleg met Gerrit de Jong \n  \n  \n 
URL:https://hardloopevenementen.com/loopagenda/snelwandeldag-schoonhoven/
END:VEVENT
END:VCALENDAR