BEGIN:VCALENDAR
VERSION:2.0
PRODID:-//Hardloopevenementen - ECPv6.15.14//NONSGML v1.0//EN
CALSCALE:GREGORIAN
METHOD:PUBLISH
X-ORIGINAL-URL:https://hardloopevenementen.com
X-WR-CALDESC:Evenementen voor Hardloopevenementen
REFRESH-INTERVAL;VALUE=DURATION:PT1H
X-Robots-Tag:noindex
X-PUBLISHED-TTL:PT1H
BEGIN:VTIMEZONE
TZID:UTC
BEGIN:STANDARD
TZOFFSETFROM:+0000
TZOFFSETTO:+0000
TZNAME:UTC
DTSTART:20110101T000000
END:STANDARD
END:VTIMEZONE
BEGIN:VEVENT
DTSTART;VALUE=DATE:20131102
DTEND;VALUE=DATE:20131103
DTSTAMP:20260420T161525
CREATED:20140409T132824Z
LAST-MODIFIED:20190423T103845Z
UID:8187-1383350400-1383350400@hardloopevenementen.com
SUMMARY:Bolderloop Sliedrecht (ZH)
DESCRIPTION:Doe mee met het hardloopevenement Bolderloop te Sliedrecht (ZH) op za 02 nov 2013. De volgende afstanden staan op het programma: 3 km – 6 km – 10 km hardlopen. Wilt u inschrijven voor dit loopevenement?  Raadpleeg hiervoor dan de website van de organisatie\nDe uitslagen van deze hardloopwedstrijd zijn te raadplegen via dezelfde website of via de bekende websites zoals uitslagen.nl\, runtimer en mylaps. Doet u mee met dit evenement\, zorg dan dat u goed voorbereid aan de start staat! Met een goed trainingsschema komt u een heel eind. Train bijvoorbeeld met start to run van Evy Gruyaert. Download de start to run mp3 bestanden en zet ze op uw telefoon. Oortjes in\, hit the play button en en rennen maar! \n\n\n\n\nMeer informatie over Bolderloop op Hardloopkalender.nl  \nHet loopevenement Bolderloop te Sliedrecht vindt plaats op zaterdag 02 november 2013. De loop wordt georganisseerd door Trimclub ABC. Inschrijven is mogelijk vanaf 02 november 2012. Klik hier voor het adres van de start (Google Maps).Er is verkleedaccomodatie met douchemogelijkheid aanwezig. Er is EHBO aanwezig. Voor meer informatie:Arjan den Otterabc-trainer@live.nl0611523885http:  www.trimclubabc.nl \n  \n  \n 
URL:https://hardloopevenementen.com/loopagenda/bolderloop-sliedrecht-zh-5/
END:VEVENT
BEGIN:VEVENT
DTSTART;VALUE=DATE:20121103
DTEND;VALUE=DATE:20121104
DTSTAMP:20260420T161525
CREATED:20120930T225646Z
LAST-MODIFIED:20190423T102813Z
UID:7437-1351900800-1351900800@hardloopevenementen.com
SUMMARY:Bolderloop Sliedrecht (ZH)
DESCRIPTION:Doe mee met het hardloopevenement Bolderloop te Sliedrecht (ZH) op za 03 nov 2012. De volgende afstanden staan op het programma: 3 km – 6 km – 10 km hardlopen. Wilt u inschrijven voor dit loopevenement?  Raadpleeg hiervoor dan de website van de organisatie\nDe uitslagen van deze hardloopwedstrijd zijn te raadplegen via dezelfde website of via de bekende websites zoals uitslagen.nl\, runtimer en mylaps. Doet u mee met dit evenement\, zorg dan dat u goed voorbereid aan de start staat! Met een goed trainingsschema komt u een heel eind. Train bijvoorbeeld met start to run van Evy Gruyaert. Download de start to run mp3 bestanden en zet ze op uw telefoon. Oortjes in\, hit the play button en en rennen maar! \n\n\n\n\nMeer informatie over Bolderloop op Hardloopkalender.nl  \nHet loopevenement Bolderloop te Sliedrecht vindt plaats op zaterdag 03 november 2012. De loop wordt georganiseerd door Trimclub ABC. Inschrijven is mogelijk vanaf 03 november 2012. Klik hier voor het adres van de start (Google Maps).Er is EHBO aanwezig. Afstand SoortloopInschrijfgeldStarttijdInfo10 km4\,0010.306 km4\,0010.303 km4\,0010.30Voor meer informatie:Arjan den Otterabc-trainer@live.nl0611523885http:  www.trimclubabc.nl \n  \n  \n 
URL:https://hardloopevenementen.com/loopagenda/bolderloop-sliedrecht-zh-4/
END:VEVENT
END:VCALENDAR