BEGIN:VCALENDAR
VERSION:2.0
PRODID:-//Hardloopevenementen - ECPv6.15.14//NONSGML v1.0//EN
CALSCALE:GREGORIAN
METHOD:PUBLISH
X-WR-CALNAME:Hardloopevenementen
X-ORIGINAL-URL:https://hardloopevenementen.com
X-WR-CALDESC:Evenementen voor Hardloopevenementen
REFRESH-INTERVAL;VALUE=DURATION:PT1H
X-Robots-Tag:noindex
X-PUBLISHED-TTL:PT1H
BEGIN:VTIMEZONE
TZID:UTC
BEGIN:STANDARD
TZOFFSETFROM:+0000
TZOFFSETTO:+0000
TZNAME:UTC
DTSTART:20090101T000000
END:STANDARD
END:VTIMEZONE
BEGIN:VEVENT
DTSTART;VALUE=DATE:20120108
DTEND;VALUE=DATE:20120109
DTSTAMP:20260423T060752
CREATED:20170924T010409Z
LAST-MODIFIED:20190423T103532Z
UID:29094-1325980800-1325980800@hardloopevenementen.com
SUMMARY:Donckcross Someren (NB)
DESCRIPTION:Doe mee met het hardloopevenement Donckcross te Someren (NB) op zo 08 jan 2012. De volgende afstanden staan op het programma: 1\,6 km – 2 km – 3 km – 4 km – 8 km hardlopen. Wilt u inschrijven voor dit loopevenement?  Raadpleeg hiervoor dan de website van de organisatie\nDe uitslagen van deze hardloopwedstrijd zijn te raadplegen via dezelfde website of via de bekende websites zoals uitslagen.nl\, runtimer en mylaps. Doet u mee met dit evenement\, zorg dan dat u goed voorbereid aan de start staat! Met een goed trainingsschema komt u een heel eind. Train bijvoorbeeld met start to run van Evy Gruyaert. Download de start to run mp3 bestanden en zet ze op uw telefoon. Oortjes in\, hit the play button en en rennen maar! \n\n\n\n\nMeer informatie over Donckcross op Hardloopkalender.nl  \nHet loopevenement Donckcross te Someren vindt plaats op zondag 08 januari 2012. De loop wordt georganiseerd door AV `t Jasper Sport. Inschrijven is mogelijk vanaf 01 oktober 2010. Klik hier voor het adres van de start (Google Maps).Er is EHBO aanwezig. Bijzonderheden: Parkoers bestaat uit weilanden en bospaden en is met spikes te belopen.Afstand SoortloopInschrijfgeldStarttijdInfo6.7 km1\,0011.053 km1\,0011\,00Voor meer informatie:Jolanda Dekkers Losp.dekkers-los@chello.nl0493492195http:  www.jaspersport.nl \n  \n  \n 
URL:https://hardloopevenementen.com/loopagenda/donckcross-someren-nb-2/
END:VEVENT
BEGIN:VEVENT
DTSTART;VALUE=DATE:20100103
DTEND;VALUE=DATE:20100104
DTSTAMP:20260423T060752
CREATED:20070622T230436Z
LAST-MODIFIED:20190423T101509Z
UID:24215-1262476800-1262476800@hardloopevenementen.com
SUMMARY:Donckcross Someren (NB)
DESCRIPTION:Doe mee met het hardloopevenement Donckcross te Someren (NB) op zo 03 jan 2010. De volgende afstanden staan op het programma: 1 km – 1\,2 km – 1\,6 km – 2 km – 3 km – 4 km – 8 km hardlopen. Wilt u inschrijven voor dit loopevenement?  Raadpleeg hiervoor dan de website van de organisatie\nDe uitslagen van deze hardloopwedstrijd zijn te raadplegen via dezelfde website of via de bekende websites zoals uitslagen.nl\, runtimer en mylaps. Doet u mee met dit evenement\, zorg dan dat u goed voorbereid aan de start staat! Met een goed trainingsschema komt u een heel eind. Train bijvoorbeeld met start to run van Evy Gruyaert. Download de start to run mp3 bestanden en zet ze op uw telefoon. Oortjes in\, hit the play button en en rennen maar! \n\n\n\n\nMeer informatie over Donckcross op Hardloopkalender.nl  \nDit loopevenement wordt georganiseerd door AV `t Jasper Sport.De eerste afstand (of onderdeel) start om 10:30.Het adres van de start en de finish is Doncksedreef 3Categorie(ën): mannen\, vrouwen\, jeugdVooraf inschrijven is mogelijk vanaf 06 december 2009 tot 24 december 2009.Inschrijven op de dag van de loop is mogelijk (vanaf 10.00 uur) op dit adres: Doncksedreef 3  Natuurtheater De Donck.Meer informatie:Contactpersoon: Jolanda Dekkers LosTel.: 0493492195Email: p.dekkers-los@chello.nlEr is een kleedaccomodatie aanwezig. Douchen is mogelijk.Het parcours is onverhard.Overige bijzonderheden:  Parkoers bestaat uit weilanden en bospaden en is met spikes te belopen \n  \n  \n 
URL:https://hardloopevenementen.com/loopagenda/donckcross-someren-nb/
END:VEVENT
END:VCALENDAR