BEGIN:VCALENDAR
VERSION:2.0
PRODID:-//Hardloopevenementen - ECPv6.15.14//NONSGML v1.0//EN
CALSCALE:GREGORIAN
METHOD:PUBLISH
X-ORIGINAL-URL:https://hardloopevenementen.com
X-WR-CALDESC:Evenementen voor Hardloopevenementen
REFRESH-INTERVAL;VALUE=DURATION:PT1H
X-Robots-Tag:noindex
X-PUBLISHED-TTL:PT1H
BEGIN:VTIMEZONE
TZID:UTC
BEGIN:STANDARD
TZOFFSETFROM:+0000
TZOFFSETTO:+0000
TZNAME:UTC
DTSTART:20150101T000000
END:STANDARD
END:VTIMEZONE
BEGIN:VEVENT
DTSTART;VALUE=DATE:20160409
DTEND;VALUE=DATE:20160410
DTSTAMP:20260426T010701
CREATED:20090406T183824Z
LAST-MODIFIED:20190423T112614Z
UID:13009-1460160000-1460160000@hardloopevenementen.com
SUMMARY:10e strand  duin en bos ultraloop Castricum (NH)
DESCRIPTION:Doe mee met het hardloopevenement 10e strand  duin en bos ultraloop te Castricum (NH) op za 09 apr 2016. De volgende afstanden staan op het programma: 0\,1 km – 3 km – 6 km – 9 km – 25 km – 30 km hardlopen. Wilt u inschrijven voor dit loopevenement?  Raadpleeg hiervoor dan de website van de organisatie\nDe uitslagen van deze hardloopwedstrijd zijn te raadplegen via dezelfde website of via de bekende websites zoals uitslagen.nl\, runtimer en mylaps. Doet u mee met dit evenement\, zorg dan dat u goed voorbereid aan de start staat! Met een goed trainingsschema komt u een heel eind. Train bijvoorbeeld met start to run van Evy Gruyaert. Download de start to run mp3 bestanden en zet ze op uw telefoon. Oortjes in\, hit the play button en en rennen maar! \n\n\n\n\nMeer informatie over 10e strand  duin en bos ultraloop op Hardloopkalender.nl  \nHet loopevenement 10e strand\, duin en bos ultraloop te Castricum vindt plaats op zaterdag 09 april 2016. \n  \n  \n 
URL:https://hardloopevenementen.com/loopagenda/10e-strand-duin-en-bos-ultraloop-castricum-nh/
END:VEVENT
END:VCALENDAR