BEGIN:VCALENDAR
VERSION:2.0
PRODID:-//Hardloopevenementen - ECPv6.15.14//NONSGML v1.0//EN
CALSCALE:GREGORIAN
METHOD:PUBLISH
X-WR-CALNAME:Hardloopevenementen
X-ORIGINAL-URL:https://hardloopevenementen.com
X-WR-CALDESC:Evenementen voor Hardloopevenementen
REFRESH-INTERVAL;VALUE=DURATION:PT1H
X-Robots-Tag:noindex
X-PUBLISHED-TTL:PT1H
BEGIN:VTIMEZONE
TZID:UTC
BEGIN:STANDARD
TZOFFSETFROM:+0000
TZOFFSETTO:+0000
TZNAME:UTC
DTSTART:20120101T000000
END:STANDARD
END:VTIMEZONE
BEGIN:VEVENT
DTSTART;VALUE=DATE:20181202
DTEND;VALUE=DATE:20181203
DTSTAMP:20260421T210735
CREATED:20110804T071641Z
LAST-MODIFIED:20190423T120117Z
UID:15591-1543708800-1543708800@hardloopevenementen.com
SUMMARY:Zandboscross Deurne Deurne (NB)
DESCRIPTION:Doe mee met het hardloopevenement Zandboscross Deurne te Deurne (NB) op zo 02 dec 2018. De volgende afstanden staan op het programma: 1\,1 km – 1\,6 km – 2\,1 km – 2\,5 km – 3\,0 km – 3\,5 km – 5\,0 km – 7\,4 km hardlopen. Wilt u inschrijven voor dit loopevenement?  Raadpleeg hiervoor dan de website van de organisatie\nDe uitslagen van deze hardloopwedstrijd zijn te raadplegen via dezelfde website of via de bekende websites zoals uitslagen.nl\, runtimer en mylaps. Doet u mee met dit evenement\, zorg dan dat u goed voorbereid aan de start staat! Met een goed trainingsschema komt u een heel eind. Train bijvoorbeeld met start to run van Evy Gruyaert. Download de start to run mp3 bestanden en zet ze op uw telefoon. Oortjes in\, hit the play button en en rennen maar! \n\n\n\n\nMeer informatie over Zandboscross Deurne op Hardloopkalender.nl  \nOp zondag 2 december vindt de 35e DSD Zandboscross plaats in Deurne. Het parcours is een schitterende ronde in het Zandbos\, gelegen aan de Helmondsingel 42 te Deurne.   De Zandboscross is toegankelijk voor iedereen. In de ochtend wordt aangevangen met de recreantenloop. Iedereen kan hieraan deelnemen. Vervolgens zal de korte en lange cross voor wedstrijdatleten plaatsvinden. In de middag staan de junioren en pupillen wedstrijden op het programma. Start en finish van alle afstanden is vooraan in het Zandbos.   Inschrijven  Voorinschrijven is mogelijk via www.inschrijven.nl tot en met donderdag 29 november 2018.  Na-inschrijving op de wedstrijddag kan vanaf 9.30 uur in het Zandbos. Hier kunnen ook de startnummers van de voorinschrijvingen te worden afgehaald. Het wedstrijdsecretariaat is vanaf 9.30 uur geopend.    Voor de eerste 200 inschrijvingen ligt het enige echte supergave DSD Zandboscross T-shirt klaar! Dit jaar wordt een geringe bijbetaling van  5 gevraagd die volledig ten gunste komt aan de vereniging en wordt ingezet om dit evenement nog beter te kunnen organiseren.   Meer informatie is te vinden op https:  www.av-lgd.nl 35e-dsd-zandboscross-2018 \n  \n  \n 
URL:https://hardloopevenementen.com/loopagenda/zandboscross-deurne-deurne-nb/
END:VEVENT
BEGIN:VEVENT
DTSTART;VALUE=DATE:20171203
DTEND;VALUE=DATE:20171204
DTSTAMP:20260421T210735
CREATED:20131221T060302Z
LAST-MODIFIED:20190423T114222Z
UID:13665-1512259200-1512259200@hardloopevenementen.com
SUMMARY:34ste DSD Zandboscross Deurne Deurne (NB)
DESCRIPTION:Doe mee met het hardloopevenement 34ste DSD Zandboscross Deurne te Deurne (NB) op zo 03 dec 2017. De volgende afstanden staan op het programma: 1\,1 km – 1\,6 km – 3\,0 km – 7\,4 km – 9\,8 km hardlopen. Wilt u inschrijven voor dit loopevenement?  Raadpleeg hiervoor dan de website van de organisatie\nDe uitslagen van deze hardloopwedstrijd zijn te raadplegen via dezelfde website of via de bekende websites zoals uitslagen.nl\, runtimer en mylaps. Doet u mee met dit evenement\, zorg dan dat u goed voorbereid aan de start staat! Met een goed trainingsschema komt u een heel eind. Train bijvoorbeeld met start to run van Evy Gruyaert. Download de start to run mp3 bestanden en zet ze op uw telefoon. Oortjes in\, hit the play button en en rennen maar! \n\n\n\n\nMeer informatie over 34ste DSD Zandboscross Deurne op Hardloopkalender.nl  \nOp zondag 3 december vindt de 34e DSD Zandboscross plaats in Deurne. Het parcours is een schitterende ronde in het Zandbos. De Zandboscross is toegankelijk voor iedereen. In de ochtend wordt begonnen met de recreantenloop. Iedereen kan hieraan deelnemen. Vervolgens zal de korte en lange cross voor wedstrijdatleten plaatsvinden. In de middag staan de junioren en pupillen wedstrijden op het programma. Start en finish van alle afstanden is vooraan in het Zandbos. Het parcours bestaat uit drie verschillende en zeer gevarieerde rondes door het Zandbos.   Het parcours is geheel op spikes te belopen.  Meer informatie is te vinden op www.av-lgd.nl \n  \n  \n 
URL:https://hardloopevenementen.com/loopagenda/34ste-dsd-zandboscross-deurne-deurne-nb/
END:VEVENT
BEGIN:VEVENT
DTSTART;VALUE=DATE:20130606
DTEND;VALUE=DATE:20130607
DTSTAMP:20260421T210735
CREATED:20170505T084536Z
LAST-MODIFIED:20190423T104221Z
UID:31641-1370476800-1370476800@hardloopevenementen.com
SUMMARY:AVONDWEDSTRIJD Deurne (NB)
DESCRIPTION:Doe mee met het hardloopevenement AVONDWEDSTRIJD te Deurne (NB) op do 06 jun 2013. De volgende afstanden staan op het programma: 5 km – 10 km – 15 km – 30 km hardlopen. Wilt u inschrijven voor dit loopevenement?  Raadpleeg hiervoor dan de website van de organisatie\nDe uitslagen van deze hardloopwedstrijd zijn te raadplegen via dezelfde website of via de bekende websites zoals uitslagen.nl\, runtimer en mylaps. Doet u mee met dit evenement\, zorg dan dat u goed voorbereid aan de start staat! Met een goed trainingsschema komt u een heel eind. Train bijvoorbeeld met start to run van Evy Gruyaert. Download de start to run mp3 bestanden en zet ze op uw telefoon. Oortjes in\, hit the play button en en rennen maar! \n\n\n\n\nMeer informatie over AVONDWEDSTRIJD op Hardloopkalender.nl  \nHet loopevenement AVONDWEDSTRIJD te Deurne vindt plaats op donderdag 06 juni 2013. De loop wordt georganisseerd door Lopersgroep Deurne. Inschrijven is mogelijk vanaf 01 mei 2013. Klik hier voor het adres van de start (Google Maps).Er is verkleedaccomodatie met douchemogelijkheid aanwezig. Er is EHBO aanwezig. Bijzonderheden: Baanwedstrijd.Voor meer informatie:Brigitte VerberneBrigitte.Atletiek@gmail.com0493845919http:  www.av-lgd.nl \n  \n  \n 
URL:https://hardloopevenementen.com/loopagenda/avondwedstrijd-deurne-nb-3/
END:VEVENT
END:VCALENDAR