BEGIN:VCALENDAR
VERSION:2.0
PRODID:-//Hardloopevenementen - ECPv6.15.14//NONSGML v1.0//EN
CALSCALE:GREGORIAN
METHOD:PUBLISH
X-WR-CALNAME:Hardloopevenementen
X-ORIGINAL-URL:https://hardloopevenementen.com
X-WR-CALDESC:Evenementen voor Hardloopevenementen
REFRESH-INTERVAL;VALUE=DURATION:PT1H
X-Robots-Tag:noindex
X-PUBLISHED-TTL:PT1H
BEGIN:VTIMEZONE
TZID:UTC
BEGIN:STANDARD
TZOFFSETFROM:+0000
TZOFFSETTO:+0000
TZNAME:UTC
DTSTART:20070101T000000
END:STANDARD
END:VTIMEZONE
BEGIN:VEVENT
DTSTART;VALUE=DATE:20080322
DTEND;VALUE=DATE:20080323
DTSTAMP:20260421T003733
CREATED:20140203T172247Z
LAST-MODIFIED:20190423T094831Z
UID:19999-1206144000-1206144000@hardloopevenementen.com
SUMMARY:AV Fortuna 30km loop Vlaardingen
DESCRIPTION:Doe mee met het hardloopevenement AV Fortuna 30km loop te Vlaardingen op za 22 mrt 2008. De volgende afstanden staan op het programma: 5 km – 10 km – 15 km – 30 km hardlopen. Wilt u inschrijven voor dit loopevenement?  Raadpleeg hiervoor dan de website van de organisatie\nDe uitslagen van deze hardloopwedstrijd zijn te raadplegen via dezelfde website of via de bekende websites zoals uitslagen.nl\, runtimer en mylaps. Doet u mee met dit evenement\, zorg dan dat u goed voorbereid aan de start staat! Met een goed trainingsschema komt u een heel eind. Train bijvoorbeeld met start to run van Evy Gruyaert. Download de start to run mp3 bestanden en zet ze op uw telefoon. Oortjes in\, hit the play button en en rennen maar! \n\n\n\n\nMeer informatie over AV Fortuna 30km loop op Hardloopkalender.nl  \n5-10-15-30 km 11:00 uur  Prestatielopen  over 5 -10-15 & 30 km.  Limiet op de 21km. 2\,5 uur \n  \n  \n 
URL:https://hardloopevenementen.com/loopagenda/av-fortuna-30km-loop-vlaardingen/
END:VEVENT
BEGIN:VEVENT
DTSTART;VALUE=DATE:20080216
DTEND;VALUE=DATE:20080217
DTSTAMP:20260421T003733
CREATED:20170920T102148Z
LAST-MODIFIED:20190423T094911Z
UID:20171-1203120000-1203120000@hardloopevenementen.com
SUMMARY:AV Fortuna 2e Marathontestloop Vlaardingen
DESCRIPTION:Doe mee met het hardloopevenement AV Fortuna 2e Marathontestloop te Vlaardingen op za 16 feb 2008. De volgende afstanden staan op het programma: 5 km – 10 km – 15 km – 20 km – 25 km – 30 km hardlopen. Wilt u inschrijven voor dit loopevenement?  Raadpleeg hiervoor dan de website van de organisatie\nDe uitslagen van deze hardloopwedstrijd zijn te raadplegen via dezelfde website of via de bekende websites zoals uitslagen.nl\, runtimer en mylaps. Doet u mee met dit evenement\, zorg dan dat u goed voorbereid aan de start staat! Met een goed trainingsschema komt u een heel eind. Train bijvoorbeeld met start to run van Evy Gruyaert. Download de start to run mp3 bestanden en zet ze op uw telefoon. Oortjes in\, hit the play button en en rennen maar! \n\n\n\n\nMeer informatie over AV Fortuna 2e Marathontestloop op Hardloopkalender.nl  \nAl vele jaren staan testlopen op het programma van de langeafstandsgroepen naar een marathon. Evenals vorig staan de testlopen open voor niet leden. Omdat niet iedereen al een lange afstand aankan\, is er de mogelijkheid om uit kortere afstanden te kiezen.     Aanvang van de testlopen is 10.00 uur.    Het parcours zijn ronde van 5 kilometer in de Broekpolder\, elke kilometer is aangegeven. De start en finish is in de Broekpolder ca.1\,5 kilometer van de baan. Een mooie gelegenheid om goed in te lopen    Er is een mogelijkheid om je aan te sluiten bij tempolopers. Zij zorgen ervoor dat er in jou gewenste tempo wordt gelopen. Het is verstandig je al bij de kleedkamers bij je tempolopers te melden zij brengen je naar de start. Makkelijk als je niet precies weet waar de start is. \n  \n  \n 
URL:https://hardloopevenementen.com/loopagenda/av-fortuna-2e-marathontestloop-vlaardingen/
END:VEVENT
END:VCALENDAR