BEGIN:VCALENDAR
VERSION:2.0
PRODID:-//Hardloopevenementen - ECPv6.15.14//NONSGML v1.0//EN
CALSCALE:GREGORIAN
METHOD:PUBLISH
X-WR-CALNAME:Hardloopevenementen
X-ORIGINAL-URL:https://hardloopevenementen.com
X-WR-CALDESC:Evenementen voor Hardloopevenementen
REFRESH-INTERVAL;VALUE=DURATION:PT1H
X-Robots-Tag:noindex
X-PUBLISHED-TTL:PT1H
BEGIN:VTIMEZONE
TZID:UTC
BEGIN:STANDARD
TZOFFSETFROM:+0000
TZOFFSETTO:+0000
TZNAME:UTC
DTSTART:20060101T000000
END:STANDARD
END:VTIMEZONE
BEGIN:VEVENT
DTSTART;VALUE=DATE:20200906
DTEND;VALUE=DATE:20200907
DTSTAMP:20260424T114124
CREATED:20170401T212920Z
LAST-MODIFIED:20200206T111253Z
UID:144719-1599350400-1599350400@hardloopevenementen.com
SUMMARY:Trainingsloop TCS Amsterdam Marathon  30km Amstelveen (NH)
DESCRIPTION:Doe mee met het hardloopevenement Trainingsloop TCS Amsterdam Marathon  30km te Amstelveen (NH) op zo 06 sep 2020. De volgende afstanden staan op het programma: 30 km hardlopen. Wilt u inschrijven voor dit loopevenement?  Raadpleeg hiervoor dan de website van de organisatie\nDe uitslagen van deze hardloopwedstrijd zijn te raadplegen via dezelfde website of via de bekende websites zoals uitslagen.nl\, runtimer en mylaps. Doet u mee met dit evenement\, zorg dan dat u goed voorbereid aan de start staat! Met een goed trainingsschema komt u een heel eind. Train bijvoorbeeld met start to run van Evy Gruyaert. Download de start to run mp3 bestanden en zet ze op uw telefoon. Oortjes in\, hit the play button en en rennen maar! \n\n\n\n\nMeer informatie over Trainingsloop TCS Amsterdam Marathon  30km op Hardloopkalender.nl  \n  \n  \n 
URL:https://hardloopevenementen.com/loopagenda/trainingsloop-tcs-amsterdam-marathon-30km-amstelveen-nh-3/
END:VEVENT
BEGIN:VEVENT
DTSTART;VALUE=DATE:20190908
DTEND;VALUE=DATE:20190909
DTSTAMP:20260424T114124
CREATED:20120818T123409Z
LAST-MODIFIED:20191114T112454Z
UID:43366-1567900800-1567900800@hardloopevenementen.com
SUMMARY:Trainingsloop TCS Amsterdam Marathon  30km Amstelveen (NH)
DESCRIPTION:Doe mee met het hardloopevenement Trainingsloop TCS Amsterdam Marathon  30km te Amstelveen (NH) op zo 08 sep 2019. De volgende afstanden staan op het programma: 30 km hardlopen. Wilt u inschrijven voor dit loopevenement?  Raadpleeg hiervoor dan de website van de organisatie\nDe uitslagen van deze hardloopwedstrijd zijn te raadplegen via dezelfde website of via de bekende websites zoals uitslagen.nl\, runtimer en mylaps. Doet u mee met dit evenement\, zorg dan dat u goed voorbereid aan de start staat! Met een goed trainingsschema komt u een heel eind. Train bijvoorbeeld met start to run van Evy Gruyaert. Download de start to run mp3 bestanden en zet ze op uw telefoon. Oortjes in\, hit the play button en en rennen maar! \n\n\n\n\nMeer informatie over Trainingsloop TCS Amsterdam Marathon  30km op Hardloopkalender.nl  \n  \n  \n 
URL:https://hardloopevenementen.com/loopagenda/trainingsloop-tcs-amsterdam-marathon-30km-amstelveen-nh-2/
END:VEVENT
BEGIN:VEVENT
DTSTART;VALUE=DATE:20190224
DTEND;VALUE=DATE:20190225
DTSTAMP:20260424T114124
CREATED:20070414T225622Z
LAST-MODIFIED:20191114T112751Z
UID:17446-1550966400-1550966400@hardloopevenementen.com
SUMMARY:Trainingsduurloop 30km Bergen op Zoom (NB)
DESCRIPTION:Doe mee met het hardloopevenement Trainingsduurloop 30km te Bergen op Zoom (NB) op zo 24 feb 2019. De volgende afstanden staan op het programma: 30 km hardlopen. Wilt u inschrijven voor dit loopevenement?  Raadpleeg hiervoor dan de website van de organisatie\nDe uitslagen van deze hardloopwedstrijd zijn te raadplegen via dezelfde website of via de bekende websites zoals uitslagen.nl\, runtimer en mylaps. Doet u mee met dit evenement\, zorg dan dat u goed voorbereid aan de start staat! Met een goed trainingsschema komt u een heel eind. Train bijvoorbeeld met start to run van Evy Gruyaert. Download de start to run mp3 bestanden en zet ze op uw telefoon. Oortjes in\, hit the play button en en rennen maar! \n\n\n\n\nMeer informatie over Trainingsduurloop 30km op Hardloopkalender.nl  \nAls voorbereiding op de voorjaarsmarathons (zoals Rotterdam) organiseert Runnersworld Bergen op Zoom gezamelijke trainingslopen.   Deelnemers kunnen kiezen uit 4 tempogroepen:  5:00 minuten per km  5:30 minuten per km  6:00 minuten per km  6:30 minuten per km    Per groep zijn er steeds twee tempomakers (herkenbaar aan het veiligheidshesje\, waarop de tijd staat die per km gelopen wordt). Elke 5 kilometer is er een verzorgingspost met water. De laatste post is bij Runnersworld Bergen op Zoom met water en sportdrank en banaan.De kosten per training bedragen 5\,-. Deze kunnen per pin of contact voldoen worden bij Runnersworld Bergen op Zoom. Inschrijven is mogelijk vanaf 08:15 tot uiterlijk 08:45 op de dag van de trainingsloop bij Runnersworld Bergen op Zoom. \n  \n  \n 
URL:https://hardloopevenementen.com/loopagenda/trainingsduurloop-30km-bergen-op-zoom-nb/
END:VEVENT
BEGIN:VEVENT
DTSTART;VALUE=DATE:20180909
DTEND;VALUE=DATE:20180910
DTSTAMP:20260424T114124
CREATED:20100509T182446Z
LAST-MODIFIED:20190423T120258Z
UID:16042-1536451200-1536451200@hardloopevenementen.com
SUMMARY:Trainingsloop TCS Amsterdam Marathon  30km Amstelveen (NH)
DESCRIPTION:Doe mee met het hardloopevenement Trainingsloop TCS Amsterdam Marathon  30km te Amstelveen (NH) op zo 09 sep 2018. De volgende afstanden staan op het programma: 30 km hardlopen. Wilt u inschrijven voor dit loopevenement?  Raadpleeg hiervoor dan de website van de organisatie\nDe uitslagen van deze hardloopwedstrijd zijn te raadplegen via dezelfde website of via de bekende websites zoals uitslagen.nl\, runtimer en mylaps. Doet u mee met dit evenement\, zorg dan dat u goed voorbereid aan de start staat! Met een goed trainingsschema komt u een heel eind. Train bijvoorbeeld met start to run van Evy Gruyaert. Download de start to run mp3 bestanden en zet ze op uw telefoon. Oortjes in\, hit the play button en en rennen maar! \n\n\n\n\nMeer informatie over Trainingsloop TCS Amsterdam Marathon  30km op Hardloopkalender.nl  \n  \n  \n 
URL:https://hardloopevenementen.com/loopagenda/trainingsloop-tcs-amsterdam-marathon-30km-amstelveen-nh/
END:VEVENT
BEGIN:VEVENT
DTSTART;VALUE=DATE:20160227
DTEND;VALUE=DATE:20160228
DTSTAMP:20260424T114124
CREATED:20170509T141854Z
LAST-MODIFIED:20190423T112706Z
UID:13244-1456531200-1456531200@hardloopevenementen.com
SUMMARY:Road to Rotterdam  30km Vught (NB)
DESCRIPTION:Doe mee met het hardloopevenement Road to Rotterdam  30km te Vught (NB) op za 27 feb 2016. De volgende afstanden staan op het programma: 30 km hardlopen. Wilt u inschrijven voor dit loopevenement?  Raadpleeg hiervoor dan de website van de organisatie\nDe uitslagen van deze hardloopwedstrijd zijn te raadplegen via dezelfde website of via de bekende websites zoals uitslagen.nl\, runtimer en mylaps. Doet u mee met dit evenement\, zorg dan dat u goed voorbereid aan de start staat! Met een goed trainingsschema komt u een heel eind. Train bijvoorbeeld met start to run van Evy Gruyaert. Download de start to run mp3 bestanden en zet ze op uw telefoon. Oortjes in\, hit the play button en en rennen maar! \n\n\n\n\nMeer informatie over Road to Rotterdam  30km op Hardloopkalender.nl  \nHet loopevenement Road to Rotterdam (30km) te Vught vindt plaats op zaterdag 27 februari 2016. \n  \n  \n 
URL:https://hardloopevenementen.com/loopagenda/road-to-rotterdam-30km-vught-nb-2/
END:VEVENT
BEGIN:VEVENT
DTSTART;VALUE=DATE:20150322
DTEND;VALUE=DATE:20150323
DTSTAMP:20260424T114124
CREATED:20170628T013417Z
LAST-MODIFIED:20190423T111340Z
UID:10835-1426982400-1426982400@hardloopevenementen.com
SUMMARY:Trainingsloop 30km Leiden Marathon Leiden (ZH)
DESCRIPTION:Doe mee met het hardloopevenement Trainingsloop 30km Leiden Marathon te Leiden (ZH) op zo 22 mrt 2015. De volgende afstanden staan op het programma: 30 km hardlopen. Wilt u inschrijven voor dit loopevenement?  Raadpleeg hiervoor dan de website van de organisatie\nDe uitslagen van deze hardloopwedstrijd zijn te raadplegen via dezelfde website of via de bekende websites zoals uitslagen.nl\, runtimer en mylaps. Doet u mee met dit evenement\, zorg dan dat u goed voorbereid aan de start staat! Met een goed trainingsschema komt u een heel eind. Train bijvoorbeeld met start to run van Evy Gruyaert. Download de start to run mp3 bestanden en zet ze op uw telefoon. Oortjes in\, hit the play button en en rennen maar! \n\n\n\n\nMeer informatie over Trainingsloop 30km Leiden Marathon op Hardloopkalender.nl  \nHet loopevenement Trainingsloop 30km Leiden Marathon te Leiden vindt plaats op zondag 22 maart 2015. \n  \n  \n 
URL:https://hardloopevenementen.com/loopagenda/trainingsloop-30km-leiden-marathon-leiden-zh/
END:VEVENT
BEGIN:VEVENT
DTSTART;VALUE=DATE:20150228
DTEND;VALUE=DATE:20150301
DTSTAMP:20260424T114124
CREATED:20180411T042420Z
LAST-MODIFIED:20190423T111414Z
UID:10986-1425081600-1425081600@hardloopevenementen.com
SUMMARY:Road to Rotterdam  30km Vught (NB)
DESCRIPTION:Doe mee met het hardloopevenement Road to Rotterdam  30km te Vught (NB) op za 28 feb 2015. De volgende afstanden staan op het programma: 30 km hardlopen. Wilt u inschrijven voor dit loopevenement?  Raadpleeg hiervoor dan de website van de organisatie\nDe uitslagen van deze hardloopwedstrijd zijn te raadplegen via dezelfde website of via de bekende websites zoals uitslagen.nl\, runtimer en mylaps. Doet u mee met dit evenement\, zorg dan dat u goed voorbereid aan de start staat! Met een goed trainingsschema komt u een heel eind. Train bijvoorbeeld met start to run van Evy Gruyaert. Download de start to run mp3 bestanden en zet ze op uw telefoon. Oortjes in\, hit the play button en en rennen maar! \n\n\n\n\nMeer informatie over Road to Rotterdam  30km op Hardloopkalender.nl  \nHet loopevenement Road to Rotterdam (30km) te Vught vindt plaats op zaterdag 28 februari 2015. \n  \n  \n 
URL:https://hardloopevenementen.com/loopagenda/road-to-rotterdam-30km-vught-nb/
END:VEVENT
BEGIN:VEVENT
DTSTART;VALUE=DATE:20140222
DTEND;VALUE=DATE:20140223
DTSTAMP:20260424T114124
CREATED:20181116T233221Z
LAST-MODIFIED:20190423T105748Z
UID:34657-1393027200-1393027200@hardloopevenementen.com
SUMMARY:Road to Rotterdam  30km Vught (NB)
DESCRIPTION:Doe mee met het hardloopevenement Road to Rotterdam  30km te Vught (NB) op za 22 feb 2014. De volgende afstanden staan op het programma: 30 km hardlopen. Wilt u inschrijven voor dit loopevenement?  Raadpleeg hiervoor dan de website van de organisatie\nDe uitslagen van deze hardloopwedstrijd zijn te raadplegen via dezelfde website of via de bekende websites zoals uitslagen.nl\, runtimer en mylaps. Doet u mee met dit evenement\, zorg dan dat u goed voorbereid aan de start staat! Met een goed trainingsschema komt u een heel eind. Train bijvoorbeeld met start to run van Evy Gruyaert. Download de start to run mp3 bestanden en zet ze op uw telefoon. Oortjes in\, hit the play button en en rennen maar! \n\n\n\n\nMeer informatie over Road to Rotterdam  30km op Hardloopkalender.nl  \nHet loopevenement Road to Rotterdam (30km) te Vught vindt plaats op zaterdag 22 februari 2014. De loop wordt georganisseerd door Prins Hendrik. Klik hier voor het adres van de start (Google Maps).Bijzonderheden: Trainingsloop voorbereiding Marathon Rotterdam. \n  \n  \n 
URL:https://hardloopevenementen.com/loopagenda/road-to-rotterdam-30km-vught-nb-4/
END:VEVENT
BEGIN:VEVENT
DTSTART;VALUE=DATE:20120304
DTEND;VALUE=DATE:20120305
DTSTAMP:20260424T114124
CREATED:20090111T120051Z
LAST-MODIFIED:20190423T103408Z
UID:28779-1330819200-1330819200@hardloopevenementen.com
SUMMARY:30km trainingsloop R2R Amsterdam (NH)
DESCRIPTION:Doe mee met het hardloopevenement 30km trainingsloop R2R te Amsterdam (NH) op zo 04 mrt 2012. De volgende afstanden staan op het programma: 30 km hardlopen. Wilt u inschrijven voor dit loopevenement?  Raadpleeg hiervoor dan de website van de organisatie\nDe uitslagen van deze hardloopwedstrijd zijn te raadplegen via dezelfde website of via de bekende websites zoals uitslagen.nl\, runtimer en mylaps. Doet u mee met dit evenement\, zorg dan dat u goed voorbereid aan de start staat! Met een goed trainingsschema komt u een heel eind. Train bijvoorbeeld met start to run van Evy Gruyaert. Download de start to run mp3 bestanden en zet ze op uw telefoon. Oortjes in\, hit the play button en en rennen maar! \n\n\n\n\nMeer informatie over 30km trainingsloop R2R op Hardloopkalender.nl  \nHet loopevenement 30km trainingsloop R2R te Amsterdam vindt plaats op zondag 04 maart 2012. De loop wordt georganiseerd door AAC. Inschrijven is mogelijk vanaf 30 oktober 2011. Klik hier voor het adres van de start (Google Maps).Er is EHBO aanwezig. Bijzonderheden: Onderdeel van serie trainingslopen richting de Rotterdam Marathon.Afstand SoortloopInschrijfgeldStarttijdInfo30 km4\,509:30Voor meer informatie:Erik Neijhofinfo@aacamsterdam.nl0612345678http:  www.aacamsterdam.nl \n  \n  \n 
URL:https://hardloopevenementen.com/loopagenda/30km-trainingsloop-r2r-amsterdam-nh/
END:VEVENT
BEGIN:VEVENT
DTSTART;VALUE=DATE:20110227
DTEND;VALUE=DATE:20110228
DTSTAMP:20260424T114124
CREATED:20120723T050700Z
LAST-MODIFIED:20190423T102332Z
UID:26806-1298764800-1298764800@hardloopevenementen.com
SUMMARY:30km Trainingsloop Osdorp\, gemeente Amsterdam (NH)
DESCRIPTION:Doe mee met het hardloopevenement 30km Trainingsloop te Osdorp\, gemeente Amsterdam (NH) op zo 27 feb 2011. De volgende afstanden staan op het programma: 30 km hardlopen. Wilt u inschrijven voor dit loopevenement?  Raadpleeg hiervoor dan de website van de organisatie\nDe uitslagen van deze hardloopwedstrijd zijn te raadplegen via dezelfde website of via de bekende websites zoals uitslagen.nl\, runtimer en mylaps. Doet u mee met dit evenement\, zorg dan dat u goed voorbereid aan de start staat! Met een goed trainingsschema komt u een heel eind. Train bijvoorbeeld met start to run van Evy Gruyaert. Download de start to run mp3 bestanden en zet ze op uw telefoon. Oortjes in\, hit the play button en en rennen maar! \n\n\n\n\nMeer informatie over 30km Trainingsloop op Hardloopkalender.nl  \nHet loopevenement 30km Trainingsloop te Amsterdam-Osdorp vindt plaats op zondag 27 februari 2011. De loop wordt georganiseerd door AAC. Inschrijven is mogelijk vanaf 01 november 2009. Klik hier voor het adres van de start (Google Maps).Er is verkleedaccomodatie met douchemogelijkheid aanwezig. Er is EHBO aanwezig. Bijzonderheden: 4 trainingslopen Road to Rotterdam Marathon. www.trainingslopen.nl.Afstand(km)Inschrijfgeld()Starttijd30km6\,0010004trainingslopen18\,001000Voor meer informatie:Erik Neijhoftrainingslopen.aac@gmail.com0207743938http:  www.aacamsterdam.nl \n  \n  \n 
URL:https://hardloopevenementen.com/loopagenda/30km-trainingsloop-osdorp-gemeente-amsterdam-nh/
END:VEVENT
BEGIN:VEVENT
DTSTART;VALUE=DATE:20110226
DTEND;VALUE=DATE:20110227
DTSTAMP:20260424T114124
CREATED:20071204T152223Z
LAST-MODIFIED:20190423T102343Z
UID:26834-1298678400-1298678400@hardloopevenementen.com
SUMMARY:Road to Rotterdam 30km Vught (NB)
DESCRIPTION:Doe mee met het hardloopevenement Road to Rotterdam 30km te Vught (NB) op za 26 feb 2011. De volgende afstanden staan op het programma: 30 km hardlopen. Wilt u inschrijven voor dit loopevenement?  Raadpleeg hiervoor dan de website van de organisatie\nDe uitslagen van deze hardloopwedstrijd zijn te raadplegen via dezelfde website of via de bekende websites zoals uitslagen.nl\, runtimer en mylaps. Doet u mee met dit evenement\, zorg dan dat u goed voorbereid aan de start staat! Met een goed trainingsschema komt u een heel eind. Train bijvoorbeeld met start to run van Evy Gruyaert. Download de start to run mp3 bestanden en zet ze op uw telefoon. Oortjes in\, hit the play button en en rennen maar! \n\n\n\n\nMeer informatie over Road to Rotterdam 30km op Hardloopkalender.nl  \nHet loopevenement Road to Rotterdam (30km) te Vught vindt plaats op zaterdag 26 februari 2011. De loop wordt georganiseerd door Prins Hendrik. Inschrijven is mogelijk vanaf 26 februari 2011. Klik hier voor het adres van de start (Google Maps).Er is verkleedaccomodatie met douchemogelijkheid aanwezig. Er is EHBO aanwezig. Bijzonderheden: Trainingsloop voorbereiding Marathon Rotterdam.Afstand(km)Inschrijfgeld(€)Starttijd30km€18\,009.30uurVoor meer informatie:Maria Dooyenburgmaria.dooyenburg@home.nl0736566808http:  www.ph.nl \n  \n  \n 
URL:https://hardloopevenementen.com/loopagenda/road-to-rotterdam-30km-vught-nb-3/
END:VEVENT
BEGIN:VEVENT
DTSTART;VALUE=DATE:20100815
DTEND;VALUE=DATE:20100816
DTSTAMP:20260424T114124
CREATED:20100102T133845Z
LAST-MODIFIED:20190423T100942Z
UID:3796-1281830400-1281830400@hardloopevenementen.com
SUMMARY:Trainingsloop One en Only 30km Roelofarendsveen\, gemeente Alkemade (ZH)
DESCRIPTION:Doe mee met het hardloopevenement Trainingsloop One en Only 30km te Roelofarendsveen\, gemeente Alkemade (ZH) op zo 15 aug 2010. De volgende afstanden staan op het programma: 30 km hardlopen. Wilt u inschrijven voor dit loopevenement?  Raadpleeg hiervoor dan de website van de organisatie\nDe uitslagen van deze hardloopwedstrijd zijn te raadplegen via dezelfde website of via de bekende websites zoals uitslagen.nl\, runtimer en mylaps. Doet u mee met dit evenement\, zorg dan dat u goed voorbereid aan de start staat! Met een goed trainingsschema komt u een heel eind. Train bijvoorbeeld met start to run van Evy Gruyaert. Download de start to run mp3 bestanden en zet ze op uw telefoon. Oortjes in\, hit the play button en en rennen maar! \n\n\n\n\nMeer informatie over Trainingsloop One en Only 30km op Hardloopkalender.nl  \nDit loopevenement wordt georganiseerd door LVA Plantaris.De eerste afstand (of onderdeel) start om 10:00.Het adres van de start en de finish is Sportpad 2Categorie(ën): mannen\, vrouwen\, jeugdVooraf inschrijven is mogelijk vanaf 01 juni 2010 tot niet van toepassing.Inschrijven op de dag van de loop is mogelijk (vanaf 09.00 uur) op dit adres: Clubhuis De Treffers Sportpad achter sporthal de Tweesprong Roelofarendsveen.Meer informatie:Contactpersoon: Joep VesseurTel.: 0627866969Email: oneenonly@xs4all.nlEr is een kleedaccomodatie aanwezig. Douchen is mogelijk.Het parcours is verhard.Vorig jaar deden er 85 lopers mee aan dit evenement.Overige bijzonderheden:  Rondjes van 2755 meter tot max 30 km. Uitstekende verzorging \n  \n  \n 
URL:https://hardloopevenementen.com/loopagenda/trainingsloop-one-en-only-30km-roelofarendsveen-gemeente-alkemade-zh/
END:VEVENT
BEGIN:VEVENT
DTSTART;VALUE=DATE:20080322
DTEND;VALUE=DATE:20080323
DTSTAMP:20260424T114124
CREATED:20140203T172247Z
LAST-MODIFIED:20190423T094831Z
UID:19999-1206144000-1206144000@hardloopevenementen.com
SUMMARY:AV Fortuna 30km loop Vlaardingen
DESCRIPTION:Doe mee met het hardloopevenement AV Fortuna 30km loop te Vlaardingen op za 22 mrt 2008. De volgende afstanden staan op het programma: 5 km – 10 km – 15 km – 30 km hardlopen. Wilt u inschrijven voor dit loopevenement?  Raadpleeg hiervoor dan de website van de organisatie\nDe uitslagen van deze hardloopwedstrijd zijn te raadplegen via dezelfde website of via de bekende websites zoals uitslagen.nl\, runtimer en mylaps. Doet u mee met dit evenement\, zorg dan dat u goed voorbereid aan de start staat! Met een goed trainingsschema komt u een heel eind. Train bijvoorbeeld met start to run van Evy Gruyaert. Download de start to run mp3 bestanden en zet ze op uw telefoon. Oortjes in\, hit the play button en en rennen maar! \n\n\n\n\nMeer informatie over AV Fortuna 30km loop op Hardloopkalender.nl  \n5-10-15-30 km 11:00 uur  Prestatielopen  over 5 -10-15 & 30 km.  Limiet op de 21km. 2\,5 uur \n  \n  \n 
URL:https://hardloopevenementen.com/loopagenda/av-fortuna-30km-loop-vlaardingen/
END:VEVENT
BEGIN:VEVENT
DTSTART;VALUE=DATE:20070909
DTEND;VALUE=DATE:20070910
DTSTAMP:20260424T114124
CREATED:20130129T141112Z
LAST-MODIFIED:20190423T093909Z
UID:322-1189296000-1189296000@hardloopevenementen.com
SUMMARY:Road to Amsterdam 30km Amsterdam
DESCRIPTION:Doe mee met het hardloopevenement Road to Amsterdam 30km te Amsterdam op zo 09 sep 2007. De volgende afstanden staan op het programma: 30 km hardlopen. Wilt u inschrijven voor dit loopevenement?  Raadpleeg hiervoor dan de website van de organisatie\nDe uitslagen van deze hardloopwedstrijd zijn te raadplegen via dezelfde website of via de bekende websites zoals uitslagen.nl\, runtimer en mylaps. Doet u mee met dit evenement\, zorg dan dat u goed voorbereid aan de start staat! Met een goed trainingsschema komt u een heel eind. Train bijvoorbeeld met start to run van Evy Gruyaert. Download de start to run mp3 bestanden en zet ze op uw telefoon. Oortjes in\, hit the play button en en rennen maar! \n\n\n\n\nMeer informatie over Road to Amsterdam 30km op Hardloopkalender.nl  \n  \n  \n 
URL:https://hardloopevenementen.com/loopagenda/road-to-amsterdam-30km-amsterdam/
END:VEVENT
END:VCALENDAR