BEGIN:VCALENDAR
VERSION:2.0
PRODID:-//Hardloopevenementen - ECPv6.15.14//NONSGML v1.0//EN
CALSCALE:GREGORIAN
METHOD:PUBLISH
X-WR-CALNAME:Hardloopevenementen
X-ORIGINAL-URL:https://hardloopevenementen.com
X-WR-CALDESC:Evenementen voor Hardloopevenementen
REFRESH-INTERVAL;VALUE=DURATION:PT1H
X-Robots-Tag:noindex
X-PUBLISHED-TTL:PT1H
BEGIN:VTIMEZONE
TZID:UTC
BEGIN:STANDARD
TZOFFSETFROM:+0000
TZOFFSETTO:+0000
TZNAME:UTC
DTSTART:20080101T000000
END:STANDARD
END:VTIMEZONE
BEGIN:VEVENT
DTSTART;VALUE=DATE:20171231
DTEND;VALUE=DATE:20180101
DTSTAMP:20260421T121744
CREATED:20080627T102547Z
LAST-MODIFIED:20190423T114154Z
UID:13542-1514678400-1514678400@hardloopevenementen.com
SUMMARY:Rabobank Sylvestercross Soest (UT)
DESCRIPTION:Doe mee met het hardloopevenement Rabobank Sylvestercross te Soest (UT) op zo 31 dec 2017. De volgende afstanden staan op het programma: 1\,2 km – 2 km – 3\,2 km – 4 km – 6 km – 8 km – 10\,4 km hardlopen. Wilt u inschrijven voor dit loopevenement?  Raadpleeg hiervoor dan de website van de organisatie\nDe uitslagen van deze hardloopwedstrijd zijn te raadplegen via dezelfde website of via de bekende websites zoals uitslagen.nl\, runtimer en mylaps. Doet u mee met dit evenement\, zorg dan dat u goed voorbereid aan de start staat! Met een goed trainingsschema komt u een heel eind. Train bijvoorbeeld met start to run van Evy Gruyaert. Download de start to run mp3 bestanden en zet ze op uw telefoon. Oortjes in\, hit the play button en en rennen maar! \n\n\n\n\nMeer informatie over Rabobank Sylvestercross op Hardloopkalender.nl  \nDe Rabobank Sylvestercross wordt altijd op oudejaarsdag georganiseerd met individuele wedstrijden voor de jeugd\, senioren\, masters\, prominenten en prestatielopen voor recreatieve lopers. Daarnaast zijn twee teamlopen in het programma opgenomen: de Rabobank Sylvester BusinessRun en de BINK Sylvester Scholierencross (voor leerlingen van basisscholen).    In Soest is sprake van een echte cross. Zowel de start als de finish vinden plaats in duinzand. Het overige gedeelte van het parcours gaat over onverharde bospaden. Alom is men van mening dat de Sylvestercross door deze prachtige omgeving “de mooiste cross van Nederland” is.    Aan de Sylvestercross doen jaarlijks circa 4000 sporters mee\, de helft in de wedstrijden voor atleten van atletiekverenigingen met een wedstrijdlicentie en de andere helft in de recreatieve prestatielopen. \n  \n  \n 
URL:https://hardloopevenementen.com/loopagenda/rabobank-sylvestercross-soest-ut-3/
END:VEVENT
BEGIN:VEVENT
DTSTART;VALUE=DATE:20111231
DTEND;VALUE=DATE:20120101
DTSTAMP:20260421T121744
CREATED:20150930T163127Z
LAST-MODIFIED:20190423T101610Z
UID:5706-1325289600-1325289600@hardloopevenementen.com
SUMMARY:Sylvestercross Soest (UT)
DESCRIPTION:Doe mee met het hardloopevenement Sylvestercross te Soest (UT) op za 31 dec 2011. De volgende afstanden staan op het programma: 1\,2 km – 2 km – 3\,2 km – 4 km – 6 km – 8 km – 9 km – 10\,4 km hardlopen. Wilt u inschrijven voor dit loopevenement?  Raadpleeg hiervoor dan de website van de organisatie\nDe uitslagen van deze hardloopwedstrijd zijn te raadplegen via dezelfde website of via de bekende websites zoals uitslagen.nl\, runtimer en mylaps. Doet u mee met dit evenement\, zorg dan dat u goed voorbereid aan de start staat! Met een goed trainingsschema komt u een heel eind. Train bijvoorbeeld met start to run van Evy Gruyaert. Download de start to run mp3 bestanden en zet ze op uw telefoon. Oortjes in\, hit the play button en en rennen maar! \n\n\n\n\nMeer informatie over Sylvestercross op Hardloopkalender.nl  \nHet loopevenement Sylvestercross te Soest vindt plaats op zaterdag 31 december 2011. De loop wordt georganiseerd door Stichting Sylvestercross Soest. Inschrijven is mogelijk vanaf 01 september 2011. Klik hier voor het adres van de start (Google Maps).Er is verkleedaccomodatie met douchemogelijkheid aanwezig. Er is EHBO aanwezig. Bijzonderheden: De sylvestercross is een van de drie nationale crossen.Afstand(km)Inschrijfgeld(€)Starttijd1\,2€5\,509:302\,0€6\,5010.304\,0€6\,5011:006\,0€7\,0012;008\,0€7\,5012:3010\,4€0\,0014:009\,0€8\,5015:00Voor meer informatie:Ad van der Wielinfo@sylvestercross.eu0620418102http:  www.sylvestercross.nl \n  \n  \n 
URL:https://hardloopevenementen.com/loopagenda/sylvestercross-soest-ut-2/
END:VEVENT
BEGIN:VEVENT
DTSTART;VALUE=DATE:20101231
DTEND;VALUE=DATE:20110101
DTSTAMP:20260421T121744
CREATED:20140802T024204Z
LAST-MODIFIED:20190423T100529Z
UID:3011-1293753600-1293753600@hardloopevenementen.com
SUMMARY:Sylvestercross Soest (UT)
DESCRIPTION:Doe mee met het hardloopevenement Sylvestercross te Soest (UT) op vr 31 dec 2010. De volgende afstanden staan op het programma: 1\,2 km – 2 km – 3\,2 km – 4 km – 6 km – 8 km – 9 km – 10\,4 km hardlopen. Wilt u inschrijven voor dit loopevenement?  Raadpleeg hiervoor dan de website van de organisatie\nDe uitslagen van deze hardloopwedstrijd zijn te raadplegen via dezelfde website of via de bekende websites zoals uitslagen.nl\, runtimer en mylaps. Doet u mee met dit evenement\, zorg dan dat u goed voorbereid aan de start staat! Met een goed trainingsschema komt u een heel eind. Train bijvoorbeeld met start to run van Evy Gruyaert. Download de start to run mp3 bestanden en zet ze op uw telefoon. Oortjes in\, hit the play button en en rennen maar! \n\n\n\n\nMeer informatie over Sylvestercross op Hardloopkalender.nl  \nDit loopevenement wordt georganiseerd door Stichting Sylvestercross Soest.De eerste afstand (of onderdeel) start om 09:30.Het adres van de start en de finish is Bosstraat Wieksloterweg O.Z. 10Categorie(ën): mannen\, vrouwen\, jeugdVooraf inschrijven is mogelijk vanaf 01 juni 2010 tot 24 december 2010.Inschrijven op de dag van de loop is mogelijk (vanaf 8:30 uur) op dit adres: kantine AV Pijnenburg\, Soest.Meer informatie:Contactpersoon: Ad van der WielTel.: 0620418102Email: info@sylvestercross.euEr is een kleedaccomodatie aanwezig. Douchen is mogelijk.Het parcours is onverhard.Vorig jaar deden er 2200 lopers mee aan dit evenement.Overige bijzonderheden:  De sylvestercross is een van de drie nationale crossen \n  \n  \n 
URL:https://hardloopevenementen.com/loopagenda/sylvestercross-soest-ut/
END:VEVENT
BEGIN:VEVENT
DTSTART;VALUE=DATE:20100825
DTEND;VALUE=DATE:20100826
DTSTAMP:20260421T121744
CREATED:20160422T100459Z
LAST-MODIFIED:20190423T100932Z
UID:3758-1282694400-1282694400@hardloopevenementen.com
SUMMARY:Gildeloop Soest (UT)
DESCRIPTION:Doe mee met het hardloopevenement Gildeloop te Soest (UT) op wo 25 aug 2010. De volgende afstanden staan op het programma: 1\,5 km – 3\,2 km – 6\,6 km – 10 km hardlopen. Wilt u inschrijven voor dit loopevenement?  Raadpleeg hiervoor dan de website van de organisatie\nDe uitslagen van deze hardloopwedstrijd zijn te raadplegen via dezelfde website of via de bekende websites zoals uitslagen.nl\, runtimer en mylaps. Doet u mee met dit evenement\, zorg dan dat u goed voorbereid aan de start staat! Met een goed trainingsschema komt u een heel eind. Train bijvoorbeeld met start to run van Evy Gruyaert. Download de start to run mp3 bestanden en zet ze op uw telefoon. Oortjes in\, hit the play button en en rennen maar! \n\n\n\n\nMeer informatie over Gildeloop op Hardloopkalender.nl  \nDit loopevenement wordt georganiseerd door AV Pijnenburg.De eerste afstand (of onderdeel) start om 18:40.Het adres van de start en de finish is Peter van den Breemerweg 1Categorie(ën): mannen\, vrouwen\, jeugdVooraf inschrijven is mogelijk vanaf 25 augustus 2010 tot niet van toepassing.Inschrijven op de dag van de loop is mogelijk (vanaf 18:00 tot een half uur voor de start) op dit adres: Emiclaerhof 24 Amersfoort.Meer informatie:Contactpersoon: Gerda NouwenTel.: 0356026429Email: info-woc@avpijnenburg.nlEr is geen kleedaccomodatie aanwezig.Het parcours is verhard.Vorig jaar deden er 419 lopers mee aan dit evenement.Overige bijzonderheden:  Inschrijving op de Ferdinand Huycklaan t.o. het Gildeterrein \n  \n  \n 
URL:https://hardloopevenementen.com/loopagenda/gildeloop-soest-ut-2/
END:VEVENT
BEGIN:VEVENT
DTSTART;VALUE=DATE:20091231
DTEND;VALUE=DATE:20100101
DTSTAMP:20260421T121744
CREATED:20180408T070840Z
LAST-MODIFIED:20190423T095603Z
UID:1227-1262217600-1262217600@hardloopevenementen.com
SUMMARY:29e Int Sylvestercross Soest (UT)
DESCRIPTION:Doe mee met het hardloopevenement 29e Int Sylvestercross te Soest (UT) op do 31 dec 2009. De volgende afstanden staan op het programma: 1\,2 km – 2 km – 3 km – 3\,2 km – 3\,6 km – 6 km – 8 km – 10\,4 km hardlopen. Wilt u inschrijven voor dit loopevenement?  Raadpleeg hiervoor dan de website van de organisatie\nDe uitslagen van deze hardloopwedstrijd zijn te raadplegen via dezelfde website of via de bekende websites zoals uitslagen.nl\, runtimer en mylaps. Doet u mee met dit evenement\, zorg dan dat u goed voorbereid aan de start staat! Met een goed trainingsschema komt u een heel eind. Train bijvoorbeeld met start to run van Evy Gruyaert. Download de start to run mp3 bestanden en zet ze op uw telefoon. Oortjes in\, hit the play button en en rennen maar! \n\n\n\n\nMeer informatie over 29e Int Sylvestercross op Hardloopkalender.nl  \n1\,2 km 9:30 uur\, 2 km 9:45 uur\, 9 km 10:45 uur\, 3\,2 km 12:00 uur\, 6 km 12:15 uur\, 6-8 km 12:55 uur\, 3\,6 km 13:35 uur\, 6-6 km 13:55 uur\, 10\,4 km 14:05 uur\, 3 km 15:00 uur \n  \n  \n 
URL:https://hardloopevenementen.com/loopagenda/29e-int-sylvestercross-soest-ut/
END:VEVENT
BEGIN:VEVENT
DTSTART;VALUE=DATE:20090826
DTEND;VALUE=DATE:20090827
DTSTAMP:20260421T121744
CREATED:20090228T013708Z
LAST-MODIFIED:20190423T095921Z
UID:1909-1251244800-1251244800@hardloopevenementen.com
SUMMARY:Gildeloop Soest (UT)
DESCRIPTION:Doe mee met het hardloopevenement Gildeloop te Soest (UT) op wo 26 aug 2009. De volgende afstanden staan op het programma: 1\,5 km – 3\,2 km – 6\,6 km – 10 km hardlopen. Wilt u inschrijven voor dit loopevenement?  Raadpleeg hiervoor dan de website van de organisatie\nDe uitslagen van deze hardloopwedstrijd zijn te raadplegen via dezelfde website of via de bekende websites zoals uitslagen.nl\, runtimer en mylaps. Doet u mee met dit evenement\, zorg dan dat u goed voorbereid aan de start staat! Met een goed trainingsschema komt u een heel eind. Train bijvoorbeeld met start to run van Evy Gruyaert. Download de start to run mp3 bestanden en zet ze op uw telefoon. Oortjes in\, hit the play button en en rennen maar! \n\n\n\n\nMeer informatie over Gildeloop op Hardloopkalender.nl  \n1\,5 km 18:40 uur\, 3\,2-6\,6-10 km 19:00 uur \n  \n  \n 
URL:https://hardloopevenementen.com/loopagenda/gildeloop-soest-ut/
END:VEVENT
END:VCALENDAR