BEGIN:VCALENDAR
VERSION:2.0
PRODID:-//Hardloopevenementen - ECPv6.15.14//NONSGML v1.0//EN
CALSCALE:GREGORIAN
METHOD:PUBLISH
X-WR-CALNAME:Hardloopevenementen
X-ORIGINAL-URL:https://hardloopevenementen.com
X-WR-CALDESC:Evenementen voor Hardloopevenementen
REFRESH-INTERVAL;VALUE=DURATION:PT1H
X-Robots-Tag:noindex
X-PUBLISHED-TTL:PT1H
BEGIN:VTIMEZONE
TZID:UTC
BEGIN:STANDARD
TZOFFSETFROM:+0000
TZOFFSETTO:+0000
TZNAME:UTC
DTSTART:20080101T000000
END:STANDARD
END:VTIMEZONE
BEGIN:VEVENT
DTSTART;VALUE=DATE:20110226
DTEND;VALUE=DATE:20110227
DTSTAMP:20260422T003822
CREATED:20101208T140617Z
LAST-MODIFIED:20190423T102339Z
UID:26831-1298678400-1298678400@hardloopevenementen.com
SUMMARY:Pallandtcross Middelharnis (ZH)
DESCRIPTION:Doe mee met het hardloopevenement Pallandtcross te Middelharnis (ZH) op za 26 feb 2011. De volgende afstanden staan op het programma: 0\,8 km – 1\,1 km – 1\,4 km – 2\,1 km – 3\,4 km – 4\,1 km – 6 km – 8 km – 9\,9 km hardlopen. Wilt u inschrijven voor dit loopevenement?  Raadpleeg hiervoor dan de website van de organisatie\nDe uitslagen van deze hardloopwedstrijd zijn te raadplegen via dezelfde website of via de bekende websites zoals uitslagen.nl\, runtimer en mylaps. Doet u mee met dit evenement\, zorg dan dat u goed voorbereid aan de start staat! Met een goed trainingsschema komt u een heel eind. Train bijvoorbeeld met start to run van Evy Gruyaert. Download de start to run mp3 bestanden en zet ze op uw telefoon. Oortjes in\, hit the play button en en rennen maar! \n\n\n\n\nMeer informatie over Pallandtcross op Hardloopkalender.nl  \nHet loopevenement Pallandtcross te Middelharnis vindt plaats op zaterdag 26 februari 2011. De loop wordt georganiseerd door MSV en AV Flakkee. Inschrijven is mogelijk vanaf 01 januari 2011. Klik hier voor het adres van de start (Google Maps).Er is verkleedaccomodatie met douchemogelijkheid aanwezig. Er is EHBO aanwezig. Afstand(km)Inschrijfgeld(€)Starttijd0\,8€3\,0011.301\,1€3\,0011.351\,4€4\,0012.102\,1€4\,0013.203\,4€4\,0013.454\,0€5\,0014.005\,9€5\,0014.257\,8€5\,0014.259\,7€5\,0014.25Voor meer informatie:Riet van Puttenmail@avflakkee.nl0187669525http:  avflakkee.nl \n  \n  \n 
URL:https://hardloopevenementen.com/loopagenda/pallandtcross-middelharnis-zh-2/
END:VEVENT
BEGIN:VEVENT
DTSTART;VALUE=DATE:20100213
DTEND;VALUE=DATE:20100214
DTSTAMP:20260422T003822
CREATED:20090425T002400Z
LAST-MODIFIED:20190423T101411Z
UID:24000-1266019200-1266019200@hardloopevenementen.com
SUMMARY:Pallandtcross Middelharnis (ZH)
DESCRIPTION:Doe mee met het hardloopevenement Pallandtcross te Middelharnis (ZH) op za 13 feb 2010. De volgende afstanden staan op het programma: 0\,8 km – 1\,1 km – 1\,4 km – 2\,1 km – 3\,4 km – 4\,1 km – 6 km – 8 km – 9\,9 km hardlopen. Wilt u inschrijven voor dit loopevenement?  Raadpleeg hiervoor dan de website van de organisatie\nDe uitslagen van deze hardloopwedstrijd zijn te raadplegen via dezelfde website of via de bekende websites zoals uitslagen.nl\, runtimer en mylaps. Doet u mee met dit evenement\, zorg dan dat u goed voorbereid aan de start staat! Met een goed trainingsschema komt u een heel eind. Train bijvoorbeeld met start to run van Evy Gruyaert. Download de start to run mp3 bestanden en zet ze op uw telefoon. Oortjes in\, hit the play button en en rennen maar! \n\n\n\n\nMeer informatie over Pallandtcross op Hardloopkalender.nl  \nDit loopevenement wordt georganiseerd door MSV en AV Flakkee.De eerste afstand (of onderdeel) start om 11:30.Het adres van de start en de finish is Hernesseroord MiddelharnisCategorie(ën): mannen\, vrouwen\, jeugdVooraf inschrijven is mogelijk vanaf 01 januari 2010 tot 06 februari 2010.Inschrijven op de dag van de loop is mogelijk (vanaf 9.45) op dit adres: Terrein Hernesseroord Middelharnis.Meer informatie:Contactpersoon: Riet van PuttenTel.: 0187669525Email: mail@avflakkee.nlEr is een kleedaccomodatie aanwezig. Douchen is mogelijk.Het parcours is onverhard.Vorig jaar deden er 262 lopers mee aan dit evenement.Overige bijzonderheden:  ingang sportpark aan het Wielsem links voor bushalte \n  \n  \n 
URL:https://hardloopevenementen.com/loopagenda/pallandtcross-middelharnis-zh/
END:VEVENT
BEGIN:VEVENT
DTSTART;VALUE=DATE:20090214
DTEND;VALUE=DATE:20090215
DTSTAMP:20260422T003822
CREATED:20120514T051922Z
LAST-MODIFIED:20190423T100323Z
UID:2789-1234569600-1234569600@hardloopevenementen.com
SUMMARY:15e Pallandtcross Middelharnis (ZH)
DESCRIPTION:Doe mee met het hardloopevenement 15e Pallandtcross te Middelharnis (ZH) op za 14 feb 2009. De volgende afstanden staan op het programma: 0\,8 km – 1\,1 km – 1\,4 km – 2\,1 km – 3\,4 km – 4\,1 km – 6 km – 8 km – 9\,9 km hardlopen. Wilt u inschrijven voor dit loopevenement?  Raadpleeg hiervoor dan de website van de organisatie\nDe uitslagen van deze hardloopwedstrijd zijn te raadplegen via dezelfde website of via de bekende websites zoals uitslagen.nl\, runtimer en mylaps. Doet u mee met dit evenement\, zorg dan dat u goed voorbereid aan de start staat! Met een goed trainingsschema komt u een heel eind. Train bijvoorbeeld met start to run van Evy Gruyaert. Download de start to run mp3 bestanden en zet ze op uw telefoon. Oortjes in\, hit the play button en en rennen maar! \n\n\n\n\nMeer informatie over 15e Pallandtcross op Hardloopkalender.nl  \n0\,8 km 12:00 uur\, 1\,1 km 12:10 uur\, 1\,1 km 12:20 uur\, 1\,1 km 12:30 uur\, 1\,1 km 12:40 uur\, 1\,4 km 12:50 uur\, 2\,1 km 13:05 uur\, 3\,4 km 13:20 uur\, 4\,1 km 13:35 uur\, 6-8-9\,9 km 14:00 uur \n  \n  \n 
URL:https://hardloopevenementen.com/loopagenda/15e-pallandtcross-middelharnis-zh/
END:VEVENT
END:VCALENDAR